{"text_format":"1","workbook":"xlsx","n_sheets":4,"sheets":["Log2021","Log 2022","Location","LongLat"],"not_rendered":{"charts":0,"images":0,"macros":1,"external_links":0,"defined_names":15,"comments":0,"pivot_tables":0},"unopened":[],"bounds":{"document_bytes":16777216,"sheet_cells":100000,"rows_first":2000,"rows_last":500,"rows_between":2000,"halvings":0,"cell_chars":16384,"cell_head_chars":4096},"cells_cut":0,"cells_raw":0,"read":"whole","date_system":"1900"}

{"sheet":"Log2021","index":0,"n_rows":13,"n_cols":33,"rows_kept":13,"cut":false,"hidden":false,"merged":[]}
["Month",1,2,3,4,5,6,7,8,9,10,11,12,13,14,15,16,17,18,19,20,21,22,23,24,25,26,27,28,29,30,31,"Total"]
["January",null,null,null,null,null,null,null,null,null,null,null,null,null,null,null,null,null,null,null,null,null,null,null,null,null,null,null,null,null,null,null,{"$f":"SUM(B2:AF2)","v":0}]
["February",null,null,null,null,null,null,null,null,null,null,null,null,null,null,null,null,null,null,null,null,null,null,null,null,null,null,null,null,null,null,null,{"$f":"SUM(B3:AF3)+AG2","v":0}]
["March",null,null,null,null,null,null,null,null,null,null,null,null,null,null,null,null,null,null,null,null,null,null,null,null,null,null,null,null,null,null,null,{"$f":"SUM(B4:AF4)+AG3","v":0}]
["April",null,null,null,null,null,null,null,null,null,null,null,null,null,null,null,null,null,null,null,null,null,null,null,null,null,null,null,null,null,null,null,{"$f":"SUM(B5:AF5)+AG4","v":0}]
["May",null,null,null,null,null,null,null,null,null,null,null,null,null,null,null,null,null,null,null,null,null,null,null,null,null,null,null,null,null,null,null,0]
["June",null,null,null,null,null,null,null,null,null,null,null,null,null,null,null,null,null,null,null,null,null,null,null,null,null,null,null,null,null,null,null,0]
["July",null,null,null,null,null,null,null,null,null,null,null,null,null,null,null,null,null,null,null,null,null,null,null,null,null,null,null,null,null,null,null,0]
["August",null,null,null,null,null,null,null,null,null,null,null,null,null,null,null,null,null,null,null,null,null,null,null,null,null,null,null,null,null,null,null,0]
["September",null,null,null,null,null,null,null,null,null,null,null,null,null,null,null,null,null,null,null,null,null,null,null,null,null,null,null,null,null,null,null,0]
["October",null,null,null,null,null,null,null,null,null,null,null,null,null,null,null,null,null,null,null,null,null,null,null,null,null,null,null,null,null,null,null,0]
["November",null,null,null,null,null,null,null,null,null,null,null,null,null,null,null,null,null,null,null,null,null,null,null,null,null,null,null,null,null,null,null,0]
["December",null,null,null,null,null,null,null,null,null,null,null,null,null,null,null,null,null,null,null,null,null,null,null,null,null,null,null,null,null,null,null,0]

{"sheet":"Log 2022","index":1,"n_rows":13,"n_cols":33,"rows_kept":13,"cut":false,"hidden":false,"merged":[]}
["Month",1,2,3,4,5,6,7,8,9,10,11,12,13,14,15,16,17,18,19,20,21,22,23,24,25,26,27,28,29,30,31,"Total"]
["January",null,null,null,null,null,null,null,null,null,null,null,null,null,null,null,null,null,null,null,null,null,null,null,null,null,null,null,null,null,null,null,{"$f":"'Log2021'!AG13+SUM('Log 2022'!B2:AF2)","v":0}]
["February",null,null,null,null,null,null,null,null,null,null,null,null,null,null,null,null,null,null,null,null,null,null,null,null,null,null,null,null,null,null,null,{"$f":"AG2+SUM(B3:AF3)","v":0}]
["March",null,null,null,null,null,null,null,null,null,null,null,null,null,null,null,null,null,null,null,null,null,null,null,null,null,null,null,null,null,null,null,{"$f":"AG3+SUM(B4:AF4)","v":0}]
["April",null,null,null,null,null,null,null,null,null,null,null,null,null,null,null,null,null,null,null,null,null,null,null,null,null,null,null,null,null,null,null,0]
["May",null,null,null,null,null,null,null,null,null,null,null,null,null,null,null,null,null,null,null,null,null,null,null,null,null,null,null,null,null,null,null,0]
["June",null,null,null,null,null,null,null,null,null,null,null,null,null,null,null,null,null,null,null,null,null,null,null,null,null,null,null,null,null,null,null,0]
["July",null,null,null,null,null,null,null,null,null,null,null,null,null,null,null,null,null,null,null,null,null,null,null,null,null,null,null,null,null,null,null,0]
["August",null,null,null,null,null,null,null,null,null,null,null,null,null,null,null,null,null,null,null,null,null,null,null,null,null,null,null,null,null,null,null,0]
["September",null,null,null,null,null,null,null,null,null,null,null,null,null,null,null,null,null,null,null,null,null,null,null,null,null,null,null,null,null,null,null,0]
["October",null,null,null,null,null,null,null,null,null,null,null,null,null,null,null,null,null,null,null,null,null,null,null,null,null,null,null,null,null,null,null,0]
["November",null,null,null,null,null,null,null,null,null,null,null,null,null,null,null,null,null,null,null,null,null,null,null,null,null,null,null,null,null,null,null,0]
["December",null,null,null,null,null,null,null,null,null,null,null,null,null,null,null,null,null,null,null,null,null,null,null,null,null,null,null,null,null,null,null,0]

{"sheet":"Location","index":2,"n_rows":1515,"n_cols":54,"rows_kept":1515,"cut":false,"hidden":false,"merged":[[2,1,3,1],[2,2,3,2],[2,3,3,3],[2,4,3,4],[0,3,0,9]]}
["Source for this information is",null,null,"http://www.summitpost.org/appalachian-trail-mileage-chart/593282",null,null,null,null,null,null,null,null,null,null,null,null,null,null,null,null,null,null,null,null,null,null,null,null,null,null,null,null,null,null,null,null,null,null,null,null,null,null,null,null,null,null,null,null,null,null,null,null,null,28]
[]
["Distance","Trail Feature ","Elevation ","State","County"]
["from Springer ",null,null,null,null,"Long","Lat","Picture"]
[0,"Springer Mt.","3782’","GA","Fannin",null,null,"http://www.summitpost.org/mountain/rock/151895/springer-mountain.html"]
[0.2,"Springer Mt. Shelter (pic)","3730’","GA","Fannin",{"$f":"VLOOKUP(A6,LongLat!$A$2:$H$292,7,TRUE)","v":-84.193100000000001},{"$f":"VLOOKUP(A6,LongLat!$A$2:$H$292,8,TRUE)","v":34.629150000000003},"http://www.whiteblaze.net/atdatabase/shelters/images/1116.jpg"]
[1,"USFS 42","3350’","GA","Fannin",{"$f":"VLOOKUP(A7,LongLat!$A$2:$H$292,7,TRUE)","v":-84.193100000000001},{"$f":"VLOOKUP(A7,LongLat!$A$2:$H$292,8,TRUE)","v":34.629150000000003}]
[2.8,"Stover Creek Shelter (pic)","2870’","GA","Fannin",{"$f":"VLOOKUP(A8,LongLat!$A$2:$H$292,7,TRUE)","v":-84.1999},{"$f":"VLOOKUP(A8,LongLat!$A$2:$H$292,8,TRUE)","v":34.649450000000002},"http://whiteblaze.net/forum/vbg/files/1/6/4/1/DSCN0461.JPG"]
[3.8,"Stover Creek","2660’","GA","Fannin",{"$f":"VLOOKUP(A9,LongLat!$A$2:$H$292,7,TRUE)","v":-84.1999},{"$f":"VLOOKUP(A9,LongLat!$A$2:$H$292,8,TRUE)","v":34.649450000000002}]
[4.3,"Three Forks, USFS 58","2530’","GA","Fannin",{"$f":"VLOOKUP(A10,LongLat!$A$2:$H$292,7,TRUE)","v":-84.1999},{"$f":"VLOOKUP(A10,LongLat!$A$2:$H$292,8,TRUE)","v":34.649450000000002},"http://2.bp.blogspot.com/_qoImU6KwvUs/TSAr1qqII0I/AAAAAAAAAMc/MomciAivdHs/s1600/Appalachian+Trail+trip+2009+063.JPG"]
[5.0999999999999996,"Trail to Long Creek Falls","2800’","GA","Fannin",{"$f":"VLOOKUP(A11,LongLat!$A$2:$H$292,7,TRUE)","v":-84.1999},{"$f":"VLOOKUP(A11,LongLat!$A$2:$H$292,8,TRUE)","v":34.649450000000002},"http://www.summitpost.org/image/216145/382122/long-creek-falls.html"]
[6,"Logging Road","3000’","GA","Fannin",{"$f":"VLOOKUP(A12,LongLat!$A$2:$H$292,7,TRUE)","v":-84.1999},{"$f":"VLOOKUP(A12,LongLat!$A$2:$H$292,8,TRUE)","v":34.649450000000002}]
[7.8,"Hawk Mountain Shelter (pic)","3200’","GA","Fannin",{"$f":"VLOOKUP(A13,LongLat!$A$2:$H$292,7,TRUE)","v":-84.136399999999995},{"$f":"VLOOKUP(A13,LongLat!$A$2:$H$292,8,TRUE)","v":34.66583},"http://www.panoramio.com/photo/8842569"]
[8.3000000000000007,"Hightower Gap, USFS 42/69","2854’","GA","Fannin",{"$f":"VLOOKUP(A14,LongLat!$A$2:$H$292,7,TRUE)","v":-84.136399999999995},{"$f":"VLOOKUP(A14,LongLat!$A$2:$H$292,8,TRUE)","v":34.66583},"http://assets.alltrails.com/uploads/photo/image/10184611/extra_large_e72b38a21ec68bfee0d611f2ec20bc34.jpg"]
[10.199999999999999,"Horse Gap","2673’","GA","Fannin",{"$f":"VLOOKUP(A15,LongLat!$A$2:$H$292,7,TRUE)","v":-84.136399999999995},{"$f":"VLOOKUP(A15,LongLat!$A$2:$H$292,8,TRUE)","v":34.66583},"http://farm3.static.flickr.com/2103/3538610901_be600a8d77_b.jpg"]
[11.2,"Sassafras Mt.","3300’","GA","Lumpkin",{"$f":"VLOOKUP(A16,LongLat!$A$2:$H$292,7,TRUE)","v":-84.136399999999995},{"$f":"VLOOKUP(A16,LongLat!$A$2:$H$292,8,TRUE)","v":34.66583},"http://www.summitpost.org/mountain/rock/198668/sassafras-mountain.html"]
[11.8,"Cooper Gap, USFS 42/80","2800’","GA","Lumpkin",{"$f":"VLOOKUP(A17,LongLat!$A$2:$H$292,7,TRUE)","v":-84.136399999999995},{"$f":"VLOOKUP(A17,LongLat!$A$2:$H$292,8,TRUE)","v":34.66583}]
[12.4,"Justus Mt.","3224’","GA","Lumpkin",{"$f":"VLOOKUP(A18,LongLat!$A$2:$H$292,7,TRUE)","v":-84.136399999999995},{"$f":"VLOOKUP(A18,LongLat!$A$2:$H$292,8,TRUE)","v":34.66583}]
[13.8,"Justus Creek","2550’","GA","Lumpkin",{"$f":"VLOOKUP(A19,LongLat!$A$2:$H$292,7,TRUE)","v":-84.136399999999995},{"$f":"VLOOKUP(A19,LongLat!$A$2:$H$292,8,TRUE)","v":34.66583}]
[15.1,"Gooch Mountain Shelter (pic)","3000’","GA","Lumpkin",{"$f":"VLOOKUP(A20,LongLat!$A$2:$H$292,7,TRUE)","v":-84.034300000000002},{"$f":"VLOOKUP(A20,LongLat!$A$2:$H$292,8,TRUE)","v":34.653199999999998},"http://whiteblaze.net/forum/vbg/files/4/1/ga_-_gooch_mountain_shelter.jpg"]
[16.5,"Gooch Gap, USFS 42","2784’","GA","Lumpkin",{"$f":"VLOOKUP(A21,LongLat!$A$2:$H$292,7,TRUE)","v":-84.034300000000002},{"$f":"VLOOKUP(A21,LongLat!$A$2:$H$292,8,TRUE)","v":34.653199999999998}]
[18.7,"Ramrock Mt.","3260’","GA","Lumpkin",{"$f":"VLOOKUP(A22,LongLat!$A$2:$H$292,7,TRUE)","v":-84.034300000000002},{"$f":"VLOOKUP(A22,LongLat!$A$2:$H$292,8,TRUE)","v":34.653199999999998},"http://www.flickr.com/photos/tsd/3806159170/"]
[20.100000000000001,"Woody Gap, GA 60","3150’","GA","Lumpkin",{"$f":"VLOOKUP(A23,LongLat!$A$2:$H$292,7,TRUE)","v":-84.034300000000002},{"$f":"VLOOKUP(A23,LongLat!$A$2:$H$292,8,TRUE)","v":34.653199999999998},"http://www.panoramio.com/photo/22465809"]
[21.1,"Big Cedar Mt.","3737’","GA","Lumpkin",{"$f":"VLOOKUP(A24,LongLat!$A$2:$H$292,7,TRUE)","v":-84.034300000000002},{"$f":"VLOOKUP(A24,LongLat!$A$2:$H$292,8,TRUE)","v":34.653199999999998},"http://www.panoramio.com/photo/10488057"]
[22.4,"Dan Gap","3300’","GA","Union",{"$f":"VLOOKUP(A25,LongLat!$A$2:$H$292,7,TRUE)","v":-84.034300000000002},{"$f":"VLOOKUP(A25,LongLat!$A$2:$H$292,8,TRUE)","v":34.653199999999998}]
[25.2,"Burnett Field Mt.","3480’","GA","Union",{"$f":"VLOOKUP(A26,LongLat!$A$2:$H$292,7,TRUE)","v":-84.034300000000002},{"$f":"VLOOKUP(A26,LongLat!$A$2:$H$292,8,TRUE)","v":34.653199999999998}]
[25.7,"Jarrard Gap","3250’","GA","Union",{"$f":"VLOOKUP(A27,LongLat!$A$2:$H$292,7,TRUE)","v":-84.034300000000002},{"$f":"VLOOKUP(A27,LongLat!$A$2:$H$292,8,TRUE)","v":34.653199999999998}]
[27,"Woods Hole Shelter (pic)","3600’","GA","Union",{"$f":"VLOOKUP(A28,LongLat!$A$2:$H$292,7,TRUE)","v":-83.954999999999998},{"$f":"VLOOKUP(A28,LongLat!$A$2:$H$292,8,TRUE)","v":34.737130000000001},"http://www.flickr.com/photos/61273142@N00/124688117/"]
[27.1,"Bird Gap, Freeman Trail","3650’","GA","Union",{"$f":"VLOOKUP(A29,LongLat!$A$2:$H$292,7,TRUE)","v":-83.954999999999998},{"$f":"VLOOKUP(A29,LongLat!$A$2:$H$292,8,TRUE)","v":34.737130000000001},"http://www.flickr.com/photos/trancemist/3513186279/"]
[27.5,"Slaughter Creek Campsite","3800’","GA","Union",{"$f":"VLOOKUP(A30,LongLat!$A$2:$H$292,7,TRUE)","v":-83.954999999999998},{"$f":"VLOOKUP(A30,LongLat!$A$2:$H$292,8,TRUE)","v":34.737130000000001},"http://whiteblaze.net/forum/vbg/files/2/7/8/5/appalachian_trail_09_126.jpg"]
[28.3,"Blood Mt. & Shelter (pic)","4450’","GA","Union",{"$f":"VLOOKUP(A31,LongLat!$A$2:$H$292,7,TRUE)","v":-83.9375},{"$f":"VLOOKUP(A31,LongLat!$A$2:$H$292,8,TRUE)","v":34.739960000000004},"http://www.summitpost.org/view_object.php?object_id=268713&context_id=383841"]
[29.7,"Flatrock Gap, Byron Reese Memorial Trail","3450’","GA","Union",{"$f":"VLOOKUP(A32,LongLat!$A$2:$H$292,7,TRUE)","v":-83.9375},{"$f":"VLOOKUP(A32,LongLat!$A$2:$H$292,8,TRUE)","v":34.739960000000004}]
[30.7,"Neels Gap, US 19/129","3125’","GA","Union",{"$f":"VLOOKUP(A33,LongLat!$A$2:$H$292,7,TRUE)","v":-83.9375},{"$f":"VLOOKUP(A33,LongLat!$A$2:$H$292,8,TRUE)","v":34.739960000000004},"http://www.summitpost.org/image/426169/150881/at-at-wasaliyi-inn.html"]
[31.8,"Bull Gap","3690’","GA","Union",{"$f":"VLOOKUP(A34,LongLat!$A$2:$H$292,7,TRUE)","v":-83.9375},{"$f":"VLOOKUP(A34,LongLat!$A$2:$H$292,8,TRUE)","v":34.739960000000004},"http://www.pinhotitrailalliance.org/images/0-0bullgap.jpg"]
[32.200000000000003,"Levelland Mt.","3942’","GA","Union",{"$f":"VLOOKUP(A35,LongLat!$A$2:$H$292,7,TRUE)","v":-83.9375},{"$f":"VLOOKUP(A35,LongLat!$A$2:$H$292,8,TRUE)","v":34.739960000000004}]
[32.799999999999997,"Swaim Gap","3470’","GA","Union",{"$f":"VLOOKUP(A36,LongLat!$A$2:$H$292,7,TRUE)","v":-83.9375},{"$f":"VLOOKUP(A36,LongLat!$A$2:$H$292,8,TRUE)","v":34.739960000000004}]
[33.5,"Rock Spring Top","3520’","GA","Union",{"$f":"VLOOKUP(A37,LongLat!$A$2:$H$292,7,TRUE)","v":-83.9375},{"$f":"VLOOKUP(A37,LongLat!$A$2:$H$292,8,TRUE)","v":34.739960000000004}]
[34,"Corbin Horse Stamp","3620’","GA","Union",{"$f":"VLOOKUP(A38,LongLat!$A$2:$H$292,7,TRUE)","v":-83.9375},{"$f":"VLOOKUP(A38,LongLat!$A$2:$H$292,8,TRUE)","v":34.739960000000004}]
[34.1,"Wolf Laurel Top","3766’","GA","Union",{"$f":"VLOOKUP(A39,LongLat!$A$2:$H$292,7,TRUE)","v":-83.9375},{"$f":"VLOOKUP(A39,LongLat!$A$2:$H$292,8,TRUE)","v":34.739960000000004},"http://www.cnyhiking.com/WolfLaurelTop001.jpg"]
[34.9,"Baggs Creek Gap","3800’","GA","Union",{"$f":"VLOOKUP(A40,LongLat!$A$2:$H$292,7,TRUE)","v":-83.9375},{"$f":"VLOOKUP(A40,LongLat!$A$2:$H$292,8,TRUE)","v":34.739960000000004}]
[35.4,"Cowrock Mt.","3842’","GA","Union",{"$f":"VLOOKUP(A41,LongLat!$A$2:$H$292,7,TRUE)","v":-83.9375},{"$f":"VLOOKUP(A41,LongLat!$A$2:$H$292,8,TRUE)","v":34.739960000000004},"http://www.cnyhiking.com/CowrockMtn001.jpg"]
[36.200000000000003,"Tesnatee Gap, GA 348","3138’","GA","Union",{"$f":"VLOOKUP(A42,LongLat!$A$2:$H$292,7,TRUE)","v":-83.9375},{"$f":"VLOOKUP(A42,LongLat!$A$2:$H$292,8,TRUE)","v":34.739960000000004}]
[36.700000000000003,"Wildcat Mt.","3500’","GA","Union",{"$f":"VLOOKUP(A43,LongLat!$A$2:$H$292,7,TRUE)","v":-83.834400000000002},{"$f":"VLOOKUP(A43,LongLat!$A$2:$H$292,8,TRUE)","v":34.712389999999999},"http://www.cnyhiking.com/wildcatmtnsunset.JPG"]
[36.9,"Whitley Gap Shelter (pic)","3370’","GA","Union",{"$f":"VLOOKUP(A44,LongLat!$A$2:$H$292,7,TRUE)","v":-83.834400000000002},{"$f":"VLOOKUP(A44,LongLat!$A$2:$H$292,8,TRUE)","v":34.712389999999999}]
[37.1,"Hogpen Gap, GA 348","3450’","GA","White",{"$f":"VLOOKUP(A45,LongLat!$A$2:$H$292,7,TRUE)","v":-83.834400000000002},{"$f":"VLOOKUP(A45,LongLat!$A$2:$H$292,8,TRUE)","v":34.712389999999999},"http://notd.blogs.com/photos/tdg/hogpen_signjpg.jpg"]
[38,"White Oak Stamp","3470’","GA","White",{"$f":"VLOOKUP(A46,LongLat!$A$2:$H$292,7,TRUE)","v":-83.834400000000002},{"$f":"VLOOKUP(A46,LongLat!$A$2:$H$292,8,TRUE)","v":34.712389999999999}]
[39,"Poor Mt.","3620’","GA","White",{"$f":"VLOOKUP(A47,LongLat!$A$2:$H$292,7,TRUE)","v":-83.834400000000002},{"$f":"VLOOKUP(A47,LongLat!$A$2:$H$292,8,TRUE)","v":34.712389999999999}]
[40.700000000000003,"Sheep Rock Top","3600’","GA","White",{"$f":"VLOOKUP(A48,LongLat!$A$2:$H$292,7,TRUE)","v":-83.834400000000002},{"$f":"VLOOKUP(A48,LongLat!$A$2:$H$292,8,TRUE)","v":34.712389999999999}]
[41.5,"Low Gap Shelter (pic)","3050’","GA","White",{"$f":"VLOOKUP(A49,LongLat!$A$2:$H$292,7,TRUE)","v":-83.824700000000007},{"$f":"VLOOKUP(A49,LongLat!$A$2:$H$292,8,TRUE)","v":34.776179999999997}]
[42.9,"Poplar Stamp Gap","2990’","GA","White",{"$f":"VLOOKUP(A50,LongLat!$A$2:$H$292,7,TRUE)","v":-83.824700000000007},{"$f":"VLOOKUP(A50,LongLat!$A$2:$H$292,8,TRUE)","v":34.776179999999997},"http://www.flickr.com/photos/hikerdana/166750001/"]
[45.3,"Cold Springs Gap","3300’","GA","White",{"$f":"VLOOKUP(A51,LongLat!$A$2:$H$292,7,TRUE)","v":-83.824700000000007},{"$f":"VLOOKUP(A51,LongLat!$A$2:$H$292,8,TRUE)","v":34.776179999999997}]
[46.5,"Chattahoochee Gap","3500’","GA","White",{"$f":"VLOOKUP(A52,LongLat!$A$2:$H$292,7,TRUE)","v":-83.824700000000007},{"$f":"VLOOKUP(A52,LongLat!$A$2:$H$292,8,TRUE)","v":34.776179999999997}]
[47.1,"Red Clay Gap","3485’","GA","White",{"$f":"VLOOKUP(A53,LongLat!$A$2:$H$292,7,TRUE)","v":-83.824700000000007},{"$f":"VLOOKUP(A53,LongLat!$A$2:$H$292,8,TRUE)","v":34.776179999999997}]
[47.8,"campsite","3600’","GA","White",{"$f":"VLOOKUP(A54,LongLat!$A$2:$H$292,7,TRUE)","v":-83.824700000000007},{"$f":"VLOOKUP(A54,LongLat!$A$2:$H$292,8,TRUE)","v":34.776179999999997}]
[48,"spring","3500’","GA","White",{"$f":"VLOOKUP(A55,LongLat!$A$2:$H$292,7,TRUE)","v":-83.824700000000007},{"$f":"VLOOKUP(A55,LongLat!$A$2:$H$292,8,TRUE)","v":34.776179999999997}]
[48.7,"Blue Mt. Shelter (pic)","3900’","GA","White",{"$f":"VLOOKUP(A56,LongLat!$A$2:$H$292,7,TRUE)","v":-83.766800000000003},{"$f":"VLOOKUP(A56,LongLat!$A$2:$H$292,8,TRUE)","v":34.81711}]
[49.5,"Blue Mt.","4025’","GA","White",{"$f":"VLOOKUP(A57,LongLat!$A$2:$H$292,7,TRUE)","v":-83.766800000000003},{"$f":"VLOOKUP(A57,LongLat!$A$2:$H$292,8,TRUE)","v":34.81711}]
[50.9,"Unicoi Gap, GA 75","2949’","GA","Unicoi",{"$f":"VLOOKUP(A58,LongLat!$A$2:$H$292,7,TRUE)","v":-83.766800000000003},{"$f":"VLOOKUP(A58,LongLat!$A$2:$H$292,8,TRUE)","v":34.81711},"http://www.flickr.com/photos/15572047@N00/20147221"]
[51.5,"stream","3300’","GA","Towns",{"$f":"VLOOKUP(A59,LongLat!$A$2:$H$292,7,TRUE)","v":-83.766800000000003},{"$f":"VLOOKUP(A59,LongLat!$A$2:$H$292,8,TRUE)","v":34.81711}]
[52.2,"Rocky Mt.","4017’","GA","Towns",{"$f":"VLOOKUP(A60,LongLat!$A$2:$H$292,7,TRUE)","v":-83.766800000000003},{"$f":"VLOOKUP(A60,LongLat!$A$2:$H$292,8,TRUE)","v":34.81711},"http://urbanbaboon.blogspot.com/2007/03/at-rocky-mountain-trail.html"]
[53.5,"Indian Grave Gap, USFS 283","3113’","GA","Towns",{"$f":"VLOOKUP(A61,LongLat!$A$2:$H$292,7,TRUE)","v":-83.766800000000003},{"$f":"VLOOKUP(A61,LongLat!$A$2:$H$292,8,TRUE)","v":34.81711},"http://www.scotthearn.com/WALKABOUTBLOG/content/binary/DSCN0993.JPG"]
[54.2,"Tray Mt. Road, USFS 79","3580’","GA","Towns",{"$f":"VLOOKUP(A62,LongLat!$A$2:$H$292,7,TRUE)","v":-83.766800000000003},{"$f":"VLOOKUP(A62,LongLat!$A$2:$H$292,8,TRUE)","v":34.81711}]
[54.5,"Cheese Factory Site","3590’","GA","Towns",{"$f":"VLOOKUP(A63,LongLat!$A$2:$H$292,7,TRUE)","v":-83.766800000000003},{"$f":"VLOOKUP(A63,LongLat!$A$2:$H$292,8,TRUE)","v":34.81711},"http://www.scotthearn.com/WALKABOUTBLOG/content/binary/DSCN0996.JPG"]
[55.3,"Tray Gap, Tray Mt. Road","3847’","GA","Towns",{"$f":"VLOOKUP(A64,LongLat!$A$2:$H$292,7,TRUE)","v":-83.766800000000003},{"$f":"VLOOKUP(A64,LongLat!$A$2:$H$292,8,TRUE)","v":34.81711},"http://www.flickr.com/photos/runsonsumatra/3511474485/in/set-72157617762637085/"]
[56.1,"Tray Mt.","4430’","GA","Towns",{"$f":"VLOOKUP(A65,LongLat!$A$2:$H$292,7,TRUE)","v":-83.676900000000003},{"$f":"VLOOKUP(A65,LongLat!$A$2:$H$292,8,TRUE)","v":34.803959999999996}]
[56.5,"Tray Mt. Shelter (pic)","4200’","GA","Towns",{"$f":"VLOOKUP(A66,LongLat!$A$2:$H$292,7,TRUE)","v":-83.676900000000003},{"$f":"VLOOKUP(A66,LongLat!$A$2:$H$292,8,TRUE)","v":34.803959999999996},"http://whiteblaze.net/forum/vbg/files/4/1/ga_-_tray_mountain_shelter-med.jpg"]
[60.1,"Swag of the Blue Ridge","3400’","GA","Towns",{"$f":"VLOOKUP(A67,LongLat!$A$2:$H$292,7,TRUE)","v":-83.676900000000003},{"$f":"VLOOKUP(A67,LongLat!$A$2:$H$292,8,TRUE)","v":34.803959999999996},"http://www.flickr.com/photos/cyclopshiker/2389005657/"]
[61.3,"Sassafras Gap","3500’","GA","Towns",{"$f":"VLOOKUP(A68,LongLat!$A$2:$H$292,7,TRUE)","v":-83.676900000000003},{"$f":"VLOOKUP(A68,LongLat!$A$2:$H$292,8,TRUE)","v":34.803959999999996}]
[62.1,"Addis Gap","3304’","GA","Towns",{"$f":"VLOOKUP(A69,LongLat!$A$2:$H$292,7,TRUE)","v":-83.676900000000003},{"$f":"VLOOKUP(A69,LongLat!$A$2:$H$292,8,TRUE)","v":34.803959999999996}]
[63.1,"Kelly Knob","4276’","GA","Towns",{"$f":"VLOOKUP(A70,LongLat!$A$2:$H$292,7,TRUE)","v":-83.646199999999993},{"$f":"VLOOKUP(A70,LongLat!$A$2:$H$292,8,TRUE)","v":34.882350000000002}]
[64,"Deep Gap Shelter (pic)","3550’","GA","Towns",{"$f":"VLOOKUP(A71,LongLat!$A$2:$H$292,7,TRUE)","v":-83.646199999999993},{"$f":"VLOOKUP(A71,LongLat!$A$2:$H$292,8,TRUE)","v":34.882350000000002}]
[65.099999999999994,"McClure Gap","3650’","GA","Towns",{"$f":"VLOOKUP(A72,LongLat!$A$2:$H$292,7,TRUE)","v":-83.646199999999993},{"$f":"VLOOKUP(A72,LongLat!$A$2:$H$292,8,TRUE)","v":34.882350000000002}]
[65.3,"Powell Mt.","3850’","GA","Towns",{"$f":"VLOOKUP(A73,LongLat!$A$2:$H$292,7,TRUE)","v":-83.646199999999993},{"$f":"VLOOKUP(A73,LongLat!$A$2:$H$292,8,TRUE)","v":34.882350000000002},"http://www.runtrails.net/journal/images/1_ga/smooth.jpg"]
[66.3,"Moreland Gap","3200’","GA","Towns",{"$f":"VLOOKUP(A74,LongLat!$A$2:$H$292,7,TRUE)","v":-83.646199999999993},{"$f":"VLOOKUP(A74,LongLat!$A$2:$H$292,8,TRUE)","v":34.882350000000002}]
[66.900000000000006,"stream","2650’","GA","Towns",{"$f":"VLOOKUP(A75,LongLat!$A$2:$H$292,7,TRUE)","v":-83.646199999999993},{"$f":"VLOOKUP(A75,LongLat!$A$2:$H$292,8,TRUE)","v":34.882350000000002}]
[67.5,"Dicks Creek Gap","2675’","GA","Rabun",{"$f":"VLOOKUP(A76,LongLat!$A$2:$H$292,7,TRUE)","v":-83.646199999999993},{"$f":"VLOOKUP(A76,LongLat!$A$2:$H$292,8,TRUE)","v":34.882350000000002}]
[68.599999999999994,"campsite","3150’","GA","Rabun",{"$f":"VLOOKUP(A77,LongLat!$A$2:$H$292,7,TRUE)","v":-83.646199999999993},{"$f":"VLOOKUP(A77,LongLat!$A$2:$H$292,8,TRUE)","v":34.882350000000002}]
[69.3,"Cowart Gap","2900’","GA","Rabun",{"$f":"VLOOKUP(A78,LongLat!$A$2:$H$292,7,TRUE)","v":-83.646199999999993},{"$f":"VLOOKUP(A78,LongLat!$A$2:$H$292,8,TRUE)","v":34.882350000000002}]
[70.8,"Bull Gap","3690’","GA","Rabun",{"$f":"VLOOKUP(A79,LongLat!$A$2:$H$292,7,TRUE)","v":-83.646199999999993},{"$f":"VLOOKUP(A79,LongLat!$A$2:$H$292,8,TRUE)","v":34.882350000000002}]
[72,"Plumorchard Gap Shelter (pic)","3050’","GA","Rabun",{"$f":"VLOOKUP(A80,LongLat!$A$2:$H$292,7,TRUE)","v":-83.588300000000004},{"$f":"VLOOKUP(A80,LongLat!$A$2:$H$292,8,TRUE)","v":34.946040000000004},"http://joeliles.chunkyboy.com/wp-content/uploads/2009/03/pics_0320/plumorchard_shelter.jpg"]
[72.7,"As Knob","3460’","GA","Rabun",{"$f":"VLOOKUP(A81,LongLat!$A$2:$H$292,7,TRUE)","v":-83.588300000000004},{"$f":"VLOOKUP(A81,LongLat!$A$2:$H$292,8,TRUE)","v":34.946040000000004}]
[73.3,"Blue Ridge Gap","3020’","GA","Rabun",{"$f":"VLOOKUP(A82,LongLat!$A$2:$H$292,7,TRUE)","v":-83.588300000000004},{"$f":"VLOOKUP(A82,LongLat!$A$2:$H$292,8,TRUE)","v":34.946040000000004}]
[74.3,"campsite","3500’","GA","Rabun",{"$f":"VLOOKUP(A83,LongLat!$A$2:$H$292,7,TRUE)","v":-83.588300000000004},{"$f":"VLOOKUP(A83,LongLat!$A$2:$H$292,8,TRUE)","v":34.946040000000004}]
[74.5,"Rich Cove Gap","3390’","GA","Rabun",{"$f":"VLOOKUP(A84,LongLat!$A$2:$H$292,7,TRUE)","v":-83.588300000000004},{"$f":"VLOOKUP(A84,LongLat!$A$2:$H$292,8,TRUE)","v":34.946040000000004}]
[76.400000000000006,"GA-NC State Line","3825’",null,null,{"$f":"VLOOKUP(A85,LongLat!$A$2:$H$292,7,TRUE)","v":-83.588300000000004},{"$f":"VLOOKUP(A85,LongLat!$A$2:$H$292,8,TRUE)","v":34.946040000000004}]
[76.5,"Bly Gap","3840’","NC / TN","Clay",{"$f":"VLOOKUP(A86,LongLat!$A$2:$H$292,7,TRUE)","v":-83.588300000000004},{"$f":"VLOOKUP(A86,LongLat!$A$2:$H$292,8,TRUE)","v":34.946040000000004},"http://www.hiketheappalachian.com/media/blogPhotos/ncline.JPG"]
[76.8,"Sharp Top","4340’","NC / TN","Clay",{"$f":"VLOOKUP(A87,LongLat!$A$2:$H$292,7,TRUE)","v":-83.588300000000004},{"$f":"VLOOKUP(A87,LongLat!$A$2:$H$292,8,TRUE)","v":34.946040000000004},"http://www.summitpost.org/sharp-top/758161"]
[78.400000000000006,"Sassafras Gap","4300’","NC / TN","Clay",{"$f":"VLOOKUP(A88,LongLat!$A$2:$H$292,7,TRUE)","v":-83.581599999999995},{"$f":"VLOOKUP(A88,LongLat!$A$2:$H$292,8,TRUE)","v":35.020539999999997}]
[79.3,"Muskrat Creek Shelter (pic)","4600’","NC / TN","Clay",{"$f":"VLOOKUP(A89,LongLat!$A$2:$H$292,7,TRUE)","v":-83.581599999999995},{"$f":"VLOOKUP(A89,LongLat!$A$2:$H$292,8,TRUE)","v":35.020539999999997}]
[80.099999999999994,"Whiteoak Stamp","4620’","NC / TN","Clay",{"$f":"VLOOKUP(A90,LongLat!$A$2:$H$292,7,TRUE)","v":-83.581599999999995},{"$f":"VLOOKUP(A90,LongLat!$A$2:$H$292,8,TRUE)","v":35.020539999999997}]
[80.3,"Chunky Gal Trail","4700’","NC / TN","Clay",{"$f":"VLOOKUP(A91,LongLat!$A$2:$H$292,7,TRUE)","v":-83.581599999999995},{"$f":"VLOOKUP(A91,LongLat!$A$2:$H$292,8,TRUE)","v":35.020539999999997}]
[81.2,"Wateroak Gap","4490’","NC / TN","Clay",{"$f":"VLOOKUP(A92,LongLat!$A$2:$H$292,7,TRUE)","v":-83.581599999999995},{"$f":"VLOOKUP(A92,LongLat!$A$2:$H$292,8,TRUE)","v":35.020539999999997},"http://www.flickr.com/photos/uallas/2545529107/"]
[83.3,"Deep Gap, USFS 71, Kimsey Creek Trail","4341’","NC / TN","Clay",{"$f":"VLOOKUP(A93,LongLat!$A$2:$H$292,7,TRUE)","v":-83.548199999999994},{"$f":"VLOOKUP(A93,LongLat!$A$2:$H$292,8,TRUE)","v":35.041829999999997}]
[84.2,"Standing Indian Shelter (pic)","4760’","NC / TN","Clay",{"$f":"VLOOKUP(A94,LongLat!$A$2:$H$292,7,TRUE)","v":-83.548199999999994},{"$f":"VLOOKUP(A94,LongLat!$A$2:$H$292,8,TRUE)","v":35.041829999999997},"http://www.panoramio.com/photo/24688774"]
[85.7,"Standing Indian Mt.","5498’","NC / TN","Clay",{"$f":"VLOOKUP(A95,LongLat!$A$2:$H$292,7,TRUE)","v":-83.548199999999994},{"$f":"VLOOKUP(A95,LongLat!$A$2:$H$292,8,TRUE)","v":35.041829999999997},"http://www.summitpost.org/mountain/rock/151640/standing-indian-mountain.html"]
[88.6,"Beech Gap","4460’","NC / TN","Clay",{"$f":"VLOOKUP(A96,LongLat!$A$2:$H$292,7,TRUE)","v":-83.548199999999994},{"$f":"VLOOKUP(A96,LongLat!$A$2:$H$292,8,TRUE)","v":35.041829999999997}]
[91.4,"Timber Ridge Trail","4700’","NC / TN","Clay",{"$f":"VLOOKUP(A97,LongLat!$A$2:$H$292,7,TRUE)","v":-83.494299999999996},{"$f":"VLOOKUP(A97,LongLat!$A$2:$H$292,8,TRUE)","v":34.998899999999999}]
[91.8,"Carter Gap Shelter (pic)","4540’","NC / TN","Clay",{"$f":"VLOOKUP(A98,LongLat!$A$2:$H$292,7,TRUE)","v":-83.494299999999996},{"$f":"VLOOKUP(A98,LongLat!$A$2:$H$292,8,TRUE)","v":34.998899999999999}]
[95.5,"Betty Creek Gap","4300’","NC / TN","Clay",{"$f":"VLOOKUP(A99,LongLat!$A$2:$H$292,7,TRUE)","v":-83.494299999999996},{"$f":"VLOOKUP(A99,LongLat!$A$2:$H$292,8,TRUE)","v":34.998899999999999}]
[96.4,"Mooney Gap, USFS 83","4400’","NC / TN","Haywood",{"$f":"VLOOKUP(A100,LongLat!$A$2:$H$292,7,TRUE)","v":-83.494299999999996},{"$f":"VLOOKUP(A100,LongLat!$A$2:$H$292,8,TRUE)","v":34.998899999999999}]
[96.6,"spring","4500’","NC / TN","Haywood",{"$f":"VLOOKUP(A101,LongLat!$A$2:$H$292,7,TRUE)","v":-83.494299999999996},{"$f":"VLOOKUP(A101,LongLat!$A$2:$H$292,8,TRUE)","v":34.998899999999999}]
[97.7,"Bearpen Trail, USFS 67","4790’","NC / TN","Haywood",{"$f":"VLOOKUP(A102,LongLat!$A$2:$H$292,7,TRUE)","v":-83.478899999999996},{"$f":"VLOOKUP(A102,LongLat!$A$2:$H$292,8,TRUE)","v":35.058909999999997}]
[98,"Albert Mt.","5250’","NC / TN","Haywood",{"$f":"VLOOKUP(A103,LongLat!$A$2:$H$292,7,TRUE)","v":-83.478899999999996},{"$f":"VLOOKUP(A103,LongLat!$A$2:$H$292,8,TRUE)","v":35.058909999999997},"http://www.summitpost.org/mountain/rock/154267/albert-mountain.html"]
[98.6,"Big Spring Shelter (pic)","4940’","NC / TN","Haywood",{"$f":"VLOOKUP(A104,LongLat!$A$2:$H$292,7,TRUE)","v":-83.478899999999996},{"$f":"VLOOKUP(A104,LongLat!$A$2:$H$292,8,TRUE)","v":35.058909999999997}]
[101.4,"Glassmine Gap","4160’","NC / TN","Macon",{"$f":"VLOOKUP(A105,LongLat!$A$2:$H$292,7,TRUE)","v":-83.478899999999996},{"$f":"VLOOKUP(A105,LongLat!$A$2:$H$292,8,TRUE)","v":35.058909999999997}]
[103.9,"Rock Gap Shelter (pic)","3760’","NC / TN","Macon",{"$f":"VLOOKUP(A106,LongLat!$A$2:$H$292,7,TRUE)","v":-83.523099999999999},{"$f":"VLOOKUP(A106,LongLat!$A$2:$H$292,8,TRUE)","v":35.091439999999999}]
[104,"Rock Gap, Standing Indian Campground","3750’","NC / TN","Macon",{"$f":"VLOOKUP(A107,LongLat!$A$2:$H$292,7,TRUE)","v":-83.523099999999999},{"$f":"VLOOKUP(A107,LongLat!$A$2:$H$292,8,TRUE)","v":35.091439999999999}]
[104.6,"Wallace Gap, Old US 64","3738’","NC / TN","Macon",{"$f":"VLOOKUP(A108,LongLat!$A$2:$H$292,7,TRUE)","v":-83.523099999999999},{"$f":"VLOOKUP(A108,LongLat!$A$2:$H$292,8,TRUE)","v":35.091439999999999}]
[107.7,"Winding Stair Gap, US 64","3770’","NC / TN","Macon",{"$f":"VLOOKUP(A109,LongLat!$A$2:$H$292,7,TRUE)","v":-83.523099999999999},{"$f":"VLOOKUP(A109,LongLat!$A$2:$H$292,8,TRUE)","v":35.091439999999999}]
[108.6,"campsite","3970’","NC / TN","Macon",{"$f":"VLOOKUP(A110,LongLat!$A$2:$H$292,7,TRUE)","v":-83.523099999999999},{"$f":"VLOOKUP(A110,LongLat!$A$2:$H$292,8,TRUE)","v":35.091439999999999}]
[108.8,"Swinging Lick Gap","4100’","NC / TN","Macon",{"$f":"VLOOKUP(A111,LongLat!$A$2:$H$292,7,TRUE)","v":-83.523099999999999},{"$f":"VLOOKUP(A111,LongLat!$A$2:$H$292,8,TRUE)","v":35.091439999999999},"http://www.flickr.com/photos/39926480@N04/3851089740"]
[109.7,"Panther Gap","4480’","NC / TN","Macon",{"$f":"VLOOKUP(A112,LongLat!$A$2:$H$292,7,TRUE)","v":-83.523099999999999},{"$f":"VLOOKUP(A112,LongLat!$A$2:$H$292,8,TRUE)","v":35.091439999999999},"http://www.flickr.com/photos/crumleydotorg/2606813909/"]
[111.4,"Siler Bald Shelter (pic)","4600’","NC / TN","Macon",{"$f":"VLOOKUP(A113,LongLat!$A$2:$H$292,7,TRUE)","v":-83.572500000000005},{"$f":"VLOOKUP(A113,LongLat!$A$2:$H$292,8,TRUE)","v":35.14414}]
[113.6,"Wayah Gap, SR 1310","4180’","NC / TN","Macon",{"$f":"VLOOKUP(A114,LongLat!$A$2:$H$292,7,TRUE)","v":-83.572500000000005},{"$f":"VLOOKUP(A114,LongLat!$A$2:$H$292,8,TRUE)","v":35.14414}]
[115.4,"USFS 69","4900’","NC / TN","Macon",{"$f":"VLOOKUP(A115,LongLat!$A$2:$H$292,7,TRUE)","v":-83.572500000000005},{"$f":"VLOOKUP(A115,LongLat!$A$2:$H$292,8,TRUE)","v":35.14414}]
[115.9,"Wine Spring Bald side trail","5290’","NC / TN","Macon",{"$f":"VLOOKUP(A116,LongLat!$A$2:$H$292,7,TRUE)","v":-83.572500000000005},{"$f":"VLOOKUP(A116,LongLat!$A$2:$H$292,8,TRUE)","v":35.14414},"http://www.summitpost.org/mountain/rock/516313/wine-spring-bald.html"]
[117.8,"Wayah Bald","5342’","NC / TN","Macon",{"$f":"VLOOKUP(A117,LongLat!$A$2:$H$292,7,TRUE)","v":-83.572500000000005},{"$f":"VLOOKUP(A117,LongLat!$A$2:$H$292,8,TRUE)","v":35.14414},"http://www.summitpost.org/mountain/rock/516018/wayah-bald.html"]
[118.2,"campsite","5200’","NC / TN","Macon",{"$f":"VLOOKUP(A118,LongLat!$A$2:$H$292,7,TRUE)","v":-83.572500000000005},{"$f":"VLOOKUP(A118,LongLat!$A$2:$H$292,8,TRUE)","v":35.14414}]
[118.7,"Wayah Shelter (pic)","4759’","NC / TN","Macon",{"$f":"VLOOKUP(A119,LongLat!$A$2:$H$292,7,TRUE)","v":-83.572500000000005},{"$f":"VLOOKUP(A119,LongLat!$A$2:$H$292,8,TRUE)","v":35.14414},"http://www.flickr.com/photos/ubtcmdr/3854343688/"]
[120,"Licklog Gap","4440’","NC / TN","Macon",{"$f":"VLOOKUP(A120,LongLat!$A$2:$H$292,7,TRUE)","v":-83.572500000000005},{"$f":"VLOOKUP(A120,LongLat!$A$2:$H$292,8,TRUE)","v":35.14414}]
[122.3,"Burningtown Gap, SR 1397","4236’","NC / TN","Macon",{"$f":"VLOOKUP(A121,LongLat!$A$2:$H$292,7,TRUE)","v":-83.572500000000005},{"$f":"VLOOKUP(A121,LongLat!$A$2:$H$292,8,TRUE)","v":35.14414},"http://www.flickr.com/photos/jritch/2760285476/"]
[123.5,"Cold Spring Shelter (pic)","4920’","NC / TN","Macon",{"$f":"VLOOKUP(A122,LongLat!$A$2:$H$292,7,TRUE)","v":-83.559899999999999},{"$f":"VLOOKUP(A122,LongLat!$A$2:$H$292,8,TRUE)","v":35.230899999999998},"http://www.panoramio.com/photo/21750053"]
[124.2,"Copper Ridge Bald Lookout","5080’","NC / TN","Macon",{"$f":"VLOOKUP(A123,LongLat!$A$2:$H$292,7,TRUE)","v":-83.559899999999999},{"$f":"VLOOKUP(A123,LongLat!$A$2:$H$292,8,TRUE)","v":35.230899999999998},"http://www.pbase.com/bstelloh/image/2936250"]
[125.4,"Rocky Bald Lookout side trail","5030’","NC / TN","Macon",{"$f":"VLOOKUP(A124,LongLat!$A$2:$H$292,7,TRUE)","v":-83.559899999999999},{"$f":"VLOOKUP(A124,LongLat!$A$2:$H$292,8,TRUE)","v":35.230899999999998}]
[125.7,"spring","4900’","NC / TN","Macon",{"$f":"VLOOKUP(A125,LongLat!$A$2:$H$292,7,TRUE)","v":-83.559899999999999},{"$f":"VLOOKUP(A125,LongLat!$A$2:$H$292,8,TRUE)","v":35.230899999999998}]
[127.1,"Tellico Gap, SR 1365","3850’","NC / TN","Macon",{"$f":"VLOOKUP(A126,LongLat!$A$2:$H$292,7,TRUE)","v":-83.559899999999999},{"$f":"VLOOKUP(A126,LongLat!$A$2:$H$292,8,TRUE)","v":35.230899999999998},"http://www.flickr.com/photos/gghiker/3089625821/"]
[128.5,"Wesser Bald Tower","4627’","NC / TN","Macon",{"$f":"VLOOKUP(A127,LongLat!$A$2:$H$292,7,TRUE)","v":-83.5822},{"$f":"VLOOKUP(A127,LongLat!$A$2:$H$292,8,TRUE)","v":35.282350000000001},"http://www.panoramio.com/photo/8677343"]
[129.19999999999999,"spring","4100’","NC / TN","Macon",{"$f":"VLOOKUP(A128,LongLat!$A$2:$H$292,7,TRUE)","v":-83.5822},{"$f":"VLOOKUP(A128,LongLat!$A$2:$H$292,8,TRUE)","v":35.282350000000001}]
[129.30000000000001,"Wesser Bald Shelter (pic)","4115’","NC / TN","Macon",{"$f":"VLOOKUP(A129,LongLat!$A$2:$H$292,7,TRUE)","v":-83.5822},{"$f":"VLOOKUP(A129,LongLat!$A$2:$H$292,8,TRUE)","v":35.282350000000001}]
[130.9,"Jump-up Lookout","4000’","NC / TN","Macon",{"$f":"VLOOKUP(A130,LongLat!$A$2:$H$292,7,TRUE)","v":-83.5822},{"$f":"VLOOKUP(A130,LongLat!$A$2:$H$292,8,TRUE)","v":35.282350000000001}]
[134.19999999999999,"A. Rufus Morgan Shelter (pic)","2300’","NC / TN","Macon",{"$f":"VLOOKUP(A131,LongLat!$A$2:$H$292,7,TRUE)","v":-83.590199999999996},{"$f":"VLOOKUP(A131,LongLat!$A$2:$H$292,8,TRUE)","v":35.324179999999998}]
[135,"Nantahala Outdoor Center","1723’","NC / TN","Macon",{"$f":"VLOOKUP(A132,LongLat!$A$2:$H$292,7,TRUE)","v":-83.590199999999996},{"$f":"VLOOKUP(A132,LongLat!$A$2:$H$292,8,TRUE)","v":35.324179999999998},"http://www.noc.com/"]
[136.6,"Wright Gap","2390’","NC / TN","Macon",{"$f":"VLOOKUP(A133,LongLat!$A$2:$H$292,7,TRUE)","v":-83.590199999999996},{"$f":"VLOOKUP(A133,LongLat!$A$2:$H$292,8,TRUE)","v":35.324179999999998}]
[138.1,"Grassy Gap","3050’","NC / TN","Transylvania",{"$f":"VLOOKUP(A134,LongLat!$A$2:$H$292,7,TRUE)","v":-83.590199999999996},{"$f":"VLOOKUP(A134,LongLat!$A$2:$H$292,8,TRUE)","v":35.324179999999998}]
[141,"Swim Bald","4710’","NC / TN","Transylvania",{"$f":"VLOOKUP(A135,LongLat!$A$2:$H$292,7,TRUE)","v":-83.667000000000002},{"$f":"VLOOKUP(A135,LongLat!$A$2:$H$292,8,TRUE)","v":35.330680000000001}]
[141.9,"Sassafras Gap Shelter (pic)","4330’","NC / TN","Transylvania",{"$f":"VLOOKUP(A136,LongLat!$A$2:$H$292,7,TRUE)","v":-83.667000000000002},{"$f":"VLOOKUP(A136,LongLat!$A$2:$H$292,8,TRUE)","v":35.330680000000001}]
[143.1,"Cheoah Bald","5062’","NC / TN","Transylvania",{"$f":"VLOOKUP(A137,LongLat!$A$2:$H$292,7,TRUE)","v":-83.667000000000002},{"$f":"VLOOKUP(A137,LongLat!$A$2:$H$292,8,TRUE)","v":35.330680000000001},"http://www.summitpost.org/mountain/rock/155095/cheoah-bald.html"]
[145.5,"Locust Grove Gap","3690’","NC / TN","Transylvania",{"$f":"VLOOKUP(A138,LongLat!$A$2:$H$292,7,TRUE)","v":-83.667000000000002},{"$f":"VLOOKUP(A138,LongLat!$A$2:$H$292,8,TRUE)","v":35.330680000000001}]
[146.5,"Simp Gap","3700’","NC / TN","Transylvania",{"$f":"VLOOKUP(A139,LongLat!$A$2:$H$292,7,TRUE)","v":-83.667000000000002},{"$f":"VLOOKUP(A139,LongLat!$A$2:$H$292,8,TRUE)","v":35.330680000000001}]
[148.6,"Stecoah Gap, NC 143","3165’","NC / TN","Transylvania",{"$f":"VLOOKUP(A140,LongLat!$A$2:$H$292,7,TRUE)","v":-83.667000000000002},{"$f":"VLOOKUP(A140,LongLat!$A$2:$H$292,8,TRUE)","v":35.330680000000001}]
[149.6,"Sweetwater Gap","3270’","NC / TN","Clay",{"$f":"VLOOKUP(A141,LongLat!$A$2:$H$292,7,TRUE)","v":-83.667000000000002},{"$f":"VLOOKUP(A141,LongLat!$A$2:$H$292,8,TRUE)","v":35.330680000000001}]
[151,"Brown Fork Gap Shelter (pic)","3800’","NC / TN","Clay",{"$f":"VLOOKUP(A142,LongLat!$A$2:$H$292,7,TRUE)","v":-83.733900000000006},{"$f":"VLOOKUP(A142,LongLat!$A$2:$H$292,8,TRUE)","v":35.37424}]
[151.19999999999999,"Brown Fork Gap","3600’","NC / TN","Clay",{"$f":"VLOOKUP(A143,LongLat!$A$2:$H$292,7,TRUE)","v":-83.733900000000006},{"$f":"VLOOKUP(A143,LongLat!$A$2:$H$292,8,TRUE)","v":35.37424}]
[153,"Hogback Gap","3540’","NC / TN","Clay",{"$f":"VLOOKUP(A144,LongLat!$A$2:$H$292,7,TRUE)","v":-83.733900000000006},{"$f":"VLOOKUP(A144,LongLat!$A$2:$H$292,8,TRUE)","v":35.37424}]
[153.80000000000001,"Cody Gap","3600’","NC / TN","Graham",{"$f":"VLOOKUP(A145,LongLat!$A$2:$H$292,7,TRUE)","v":-83.733900000000006},{"$f":"VLOOKUP(A145,LongLat!$A$2:$H$292,8,TRUE)","v":35.37424},"http://cache.backpackinglight.com/backpackinglight/user_uploads/1261695060_19038.jpg"]
[156.19999999999999,"Yellow Creek Gap, SR 1242","2980’","NC / TN","Graham",{"$f":"VLOOKUP(A146,LongLat!$A$2:$H$292,7,TRUE)","v":-83.773600000000002},{"$f":"VLOOKUP(A146,LongLat!$A$2:$H$292,8,TRUE)","v":35.415219999999998}]
[157.1,"Cable Gap Shelter (pic)","2880’","NC / TN","Graham",{"$f":"VLOOKUP(A147,LongLat!$A$2:$H$292,7,TRUE)","v":-83.773600000000002},{"$f":"VLOOKUP(A147,LongLat!$A$2:$H$292,8,TRUE)","v":35.415219999999998}]
[158.5,"Black Gum Gap","3490’","NC / TN","Graham",{"$f":"VLOOKUP(A148,LongLat!$A$2:$H$292,7,TRUE)","v":-83.773600000000002},{"$f":"VLOOKUP(A148,LongLat!$A$2:$H$292,8,TRUE)","v":35.415219999999998}]
[159.9,"Walker Gap","3450’","NC / TN","Graham",{"$f":"VLOOKUP(A149,LongLat!$A$2:$H$292,7,TRUE)","v":-83.773600000000002},{"$f":"VLOOKUP(A149,LongLat!$A$2:$H$292,8,TRUE)","v":35.415219999999998}]
[160.1,"campsite","3200’","NC / TN","Graham",{"$f":"VLOOKUP(A150,LongLat!$A$2:$H$292,7,TRUE)","v":-83.773600000000002},{"$f":"VLOOKUP(A150,LongLat!$A$2:$H$292,8,TRUE)","v":35.415219999999998}]
[162.6,"NC 28, Fontana Dam","1810’","NC / TN","Graham",{"$f":"VLOOKUP(A151,LongLat!$A$2:$H$292,7,TRUE)","v":-83.7941},{"$f":"VLOOKUP(A151,LongLat!$A$2:$H$292,8,TRUE)","v":35.448329999999999}]
[163.69999999999999,"Fontana Dam Shelter (pic)","1775’","NC / TN","Graham",{"$f":"VLOOKUP(A152,LongLat!$A$2:$H$292,7,TRUE)","v":-83.7941},{"$f":"VLOOKUP(A152,LongLat!$A$2:$H$292,8,TRUE)","v":35.448329999999999}]
[164,"Fontana Dam Visitors Center","1700’","NC / TN","Graham",{"$f":"VLOOKUP(A153,LongLat!$A$2:$H$292,7,TRUE)","v":-83.7941},{"$f":"VLOOKUP(A153,LongLat!$A$2:$H$292,8,TRUE)","v":35.448329999999999},"http://www.tva.gov/sites/fontana.htm"]
[164.4,"Fontana Dam, GSMNP west boundary","1740’","NC / TN","Graham",{"$f":"VLOOKUP(A154,LongLat!$A$2:$H$292,7,TRUE)","v":-83.7941},{"$f":"VLOOKUP(A154,LongLat!$A$2:$H$292,8,TRUE)","v":35.448329999999999},"http://www.panoramio.com/photo/9411164"]
[168.4,"Shuckstack","3800’","NC / TN","Graham",{"$f":"VLOOKUP(A155,LongLat!$A$2:$H$292,7,TRUE)","v":-83.7941},{"$f":"VLOOKUP(A155,LongLat!$A$2:$H$292,8,TRUE)","v":35.448329999999999}]
[169.6,"Birch Spring Gap","3680’","NC / TN","Swain",{"$f":"VLOOKUP(A156,LongLat!$A$2:$H$292,7,TRUE)","v":-83.7941},{"$f":"VLOOKUP(A156,LongLat!$A$2:$H$292,8,TRUE)","v":35.448329999999999},"http://i251.photobucket.com/albums/gg313/carlgoodman/IceontentatBirchSpringGap.jpg"]
[171.9,"Doe Knob","4520’","NC / TN","Swain",{"$f":"VLOOKUP(A157,LongLat!$A$2:$H$292,7,TRUE)","v":-83.7941},{"$f":"VLOOKUP(A157,LongLat!$A$2:$H$292,8,TRUE)","v":35.448329999999999}]
[173.3,"Ekaneetlee Gap","3842’","NC / TN","Swain",{"$f":"VLOOKUP(A158,LongLat!$A$2:$H$292,7,TRUE)","v":-83.7941},{"$f":"VLOOKUP(A158,LongLat!$A$2:$H$292,8,TRUE)","v":35.448329999999999}]
[175,"Mollies Ridge Shelter (pic)","4570’","NC / TN","Swain",{"$f":"VLOOKUP(A159,LongLat!$A$2:$H$292,7,TRUE)","v":-83.793599999999998},{"$f":"VLOOKUP(A159,LongLat!$A$2:$H$292,8,TRUE)","v":35.545780000000001},"http://commons.wikimedia.org/wiki/File:Mollies-ridge-shelter-gsmnp1.jpg"]
[175.1,"Devils Tater Patch","4775’","NC / TN","Swain",{"$f":"VLOOKUP(A160,LongLat!$A$2:$H$292,7,TRUE)","v":-83.793599999999998},{"$f":"VLOOKUP(A160,LongLat!$A$2:$H$292,8,TRUE)","v":35.545780000000001}]
[176.7,"Little Abrams Gap","4120’","NC / TN","Swain",{"$f":"VLOOKUP(A161,LongLat!$A$2:$H$292,7,TRUE)","v":-83.766599999999997},{"$f":"VLOOKUP(A161,LongLat!$A$2:$H$292,8,TRUE)","v":35.56174}]
[177.5,"Russell Field Shelter (pic)","4360’","NC / TN","Swain",{"$f":"VLOOKUP(A162,LongLat!$A$2:$H$292,7,TRUE)","v":-83.766599999999997},{"$f":"VLOOKUP(A162,LongLat!$A$2:$H$292,8,TRUE)","v":35.56174},"http://www.panoramio.com/photo/2826804"]
[180.4,"Spence Field Shelter (pic)","4915’","NC / TN","Swain",{"$f":"VLOOKUP(A163,LongLat!$A$2:$H$292,7,TRUE)","v":-83.732699999999994},{"$f":"VLOOKUP(A163,LongLat!$A$2:$H$292,8,TRUE)","v":35.561799999999998},"http://farm2.static.flickr.com/1418/891994108_1746f2edb6.jpg?v=0"]
[181.6,"Rocky Top","5440’","NC / TN","Swain",{"$f":"VLOOKUP(A164,LongLat!$A$2:$H$292,7,TRUE)","v":-83.732699999999994},{"$f":"VLOOKUP(A164,LongLat!$A$2:$H$292,8,TRUE)","v":35.561799999999998}]
[182.2,"Thunderhead Mt.","5527’","NC / TN","Swain",{"$f":"VLOOKUP(A165,LongLat!$A$2:$H$292,7,TRUE)","v":-83.732699999999994},{"$f":"VLOOKUP(A165,LongLat!$A$2:$H$292,8,TRUE)","v":35.561799999999998}]
[182.5,"Beechnut Gap","4920’","NC / TN","Swain",{"$f":"VLOOKUP(A166,LongLat!$A$2:$H$292,7,TRUE)","v":-83.732699999999994},{"$f":"VLOOKUP(A166,LongLat!$A$2:$H$292,8,TRUE)","v":35.561799999999998}]
[183.2,"Mineral Gap","5030’","NC / TN","Swain",{"$f":"VLOOKUP(A167,LongLat!$A$2:$H$292,7,TRUE)","v":-83.732699999999994},{"$f":"VLOOKUP(A167,LongLat!$A$2:$H$292,8,TRUE)","v":35.561799999999998}]
[185.6,"Sugar Tree Gap","4435’","NC / TN","Swain",{"$f":"VLOOKUP(A168,LongLat!$A$2:$H$292,7,TRUE)","v":-83.641900000000007},{"$f":"VLOOKUP(A168,LongLat!$A$2:$H$292,8,TRUE)","v":35.566249999999997}]
[186.7,"Derrick Knob Shelter (pic)","4880’","NC / TN","Swain",{"$f":"VLOOKUP(A169,LongLat!$A$2:$H$292,7,TRUE)","v":-83.641900000000007},{"$f":"VLOOKUP(A169,LongLat!$A$2:$H$292,8,TRUE)","v":35.566249999999997},"http://en.wikipedia.org/wiki/File:Derrick-knob-shelter-tnnc1.jpg"]
[186.9,"Sams Gap","4995’","NC / TN","Swain",{"$f":"VLOOKUP(A170,LongLat!$A$2:$H$292,7,TRUE)","v":-83.641900000000007},{"$f":"VLOOKUP(A170,LongLat!$A$2:$H$292,8,TRUE)","v":35.566249999999997}]
[189.5,"Buckeye Gap","4817’","NC / TN","Swain",{"$f":"VLOOKUP(A171,LongLat!$A$2:$H$292,7,TRUE)","v":-83.641900000000007},{"$f":"VLOOKUP(A171,LongLat!$A$2:$H$292,8,TRUE)","v":35.566249999999997}]
[192.2,"Silers Bald Shelter (pic)","5460’","NC / TN","Swain",{"$f":"VLOOKUP(A172,LongLat!$A$2:$H$292,7,TRUE)","v":-83.568299999999994},{"$f":"VLOOKUP(A172,LongLat!$A$2:$H$292,8,TRUE)","v":35.5642}]
[192.4,"Silers Bald","5607’","NC / TN","Swain",{"$f":"VLOOKUP(A173,LongLat!$A$2:$H$292,7,TRUE)","v":-83.568299999999994},{"$f":"VLOOKUP(A173,LongLat!$A$2:$H$292,8,TRUE)","v":35.5642},"http://www.summitpost.org/mountain/rock/346261/silers-bald.html"]
[193.9,"Double Spring Gap Shelter (pic)","5505’","NC / TN","Swain",{"$f":"VLOOKUP(A174,LongLat!$A$2:$H$292,7,TRUE)","v":-83.542900000000003},{"$f":"VLOOKUP(A174,LongLat!$A$2:$H$292,8,TRUE)","v":35.565170000000002},"http://whiteblaze.net/forum/vbg/files/1/2/6/9/8/IMG_0183.JPG"]
[196.4,"Clingmans Dome","6643’","NC / TN","Swain",{"$f":"VLOOKUP(A175,LongLat!$A$2:$H$292,7,TRUE)","v":-83.542900000000003},{"$f":"VLOOKUP(A175,LongLat!$A$2:$H$292,8,TRUE)","v":35.565170000000002},"http://www.summitpost.org/mountain/rock/150543/clingmans-dome.html"]
[198,"Mt. Love","6446’","NC / TN","Swain",{"$f":"VLOOKUP(A176,LongLat!$A$2:$H$292,7,TRUE)","v":-83.542900000000003},{"$f":"VLOOKUP(A176,LongLat!$A$2:$H$292,8,TRUE)","v":35.565170000000002},"http://www.summitpost.org/mountain/rock/516159/mount-love.html"]
[200.2,"Mt. Collins & Shelter (pic)","5870’","NC / TN","Swain",{"$f":"VLOOKUP(A177,LongLat!$A$2:$H$292,7,TRUE)","v":-83.433800000000005},{"$f":"VLOOKUP(A177,LongLat!$A$2:$H$292,8,TRUE)","v":35.652709999999999},"http://www.summitpost.org/view_object.php?object_id=118029&context_id=383841"]
[203,"Indian Gap","5286’","NC / TN","Swain",{"$f":"VLOOKUP(A178,LongLat!$A$2:$H$292,7,TRUE)","v":-83.433800000000005},{"$f":"VLOOKUP(A178,LongLat!$A$2:$H$292,8,TRUE)","v":35.652709999999999}]
[204.7,"Newfound Gap, US 441","5045’","NC / TN","Swain",{"$f":"VLOOKUP(A179,LongLat!$A$2:$H$292,7,TRUE)","v":-83.433800000000005},{"$f":"VLOOKUP(A179,LongLat!$A$2:$H$292,8,TRUE)","v":35.652709999999999}]
[207.4,"Boulevard Trail","5695’","NC / TN","Swain",{"$f":"VLOOKUP(A180,LongLat!$A$2:$H$292,7,TRUE)","v":-83.386399999999995},{"$f":"VLOOKUP(A180,LongLat!$A$2:$H$292,8,TRUE)","v":35.629689999999997}]
[207.7,"Icewater Spring Shelter (pic)","5920’","NC / TN","Swain",{"$f":"VLOOKUP(A181,LongLat!$A$2:$H$292,7,TRUE)","v":-83.386399999999995},{"$f":"VLOOKUP(A181,LongLat!$A$2:$H$292,8,TRUE)","v":35.629689999999997},"http://www.summitpost.org/view_object.php?object_id=73662&context_id=383841"]
[208.5,"Charlies Bunion","5905’","NC / TN","Swain",{"$f":"VLOOKUP(A182,LongLat!$A$2:$H$292,7,TRUE)","v":-83.367999999999995},{"$f":"VLOOKUP(A182,LongLat!$A$2:$H$292,8,TRUE)","v":35.614510000000003},"http://www.summitpost.org/mountain/rock/152543/charlies-bunion.html"]
[210.5,"Porters Gap, The Sawteeth","5577’","NC / TN","Swain",{"$f":"VLOOKUP(A183,LongLat!$A$2:$H$292,7,TRUE)","v":-83.367999999999995},{"$f":"VLOOKUP(A183,LongLat!$A$2:$H$292,8,TRUE)","v":35.614510000000003}]
[213.8,"Bradley’s View","5200’","NC / TN","Sevier",{"$f":"VLOOKUP(A184,LongLat!$A$2:$H$292,7,TRUE)","v":-83.367999999999995},{"$f":"VLOOKUP(A184,LongLat!$A$2:$H$292,8,TRUE)","v":35.614510000000003}]
[215.1,"Peck’s Corner Shelter (pic)","5280’","NC / TN","Sevier",{"$f":"VLOOKUP(A185,LongLat!$A$2:$H$292,7,TRUE)","v":-83.308599999999998},{"$f":"VLOOKUP(A185,LongLat!$A$2:$H$292,8,TRUE)","v":35.650739999999999},"http://farm3.static.flickr.com/2248/2321483275_6e8698d052.jpg?v=0"]
[217.8,"Mt. Sequoyah","6069’","NC / TN","Sevier",{"$f":"VLOOKUP(A186,LongLat!$A$2:$H$292,7,TRUE)","v":-83.308599999999998},{"$f":"VLOOKUP(A186,LongLat!$A$2:$H$292,8,TRUE)","v":35.650739999999999},"http://commons.wikimedia.org/wiki/File:Mount-sequoyah-appalachian-trail.jpg"]
[219.3,"Mt. Chapman","6417’","NC / TN","Sevier",{"$f":"VLOOKUP(A187,LongLat!$A$2:$H$292,7,TRUE)","v":-83.256699999999995},{"$f":"VLOOKUP(A187,LongLat!$A$2:$H$292,8,TRUE)","v":35.693669999999997},"http://commons.wikimedia.org/wiki/File:Mount-chapman-north.jpg"]
[220.3,"Tri-Corner Knob Shelter (pic)","5920’","NC / TN","Sevier",{"$f":"VLOOKUP(A188,LongLat!$A$2:$H$292,7,TRUE)","v":-83.186499999999995},{"$f":"VLOOKUP(A188,LongLat!$A$2:$H$292,8,TRUE)","v":35.66592},"http://commons.wikimedia.org/wiki/File:Tricorner-knob-shelter.jpg"]
[221.5,"Guyot Spur","6360’","NC / TN","Sevier",{"$f":"VLOOKUP(A189,LongLat!$A$2:$H$292,7,TRUE)","v":-83.186499999999995},{"$f":"VLOOKUP(A189,LongLat!$A$2:$H$292,8,TRUE)","v":35.66592}]
[222.1,"Guyot Spring","6150’","NC / TN","Sevier",{"$f":"VLOOKUP(A190,LongLat!$A$2:$H$292,7,TRUE)","v":-83.186499999999995},{"$f":"VLOOKUP(A190,LongLat!$A$2:$H$292,8,TRUE)","v":35.66592}]
[222.2,"Mt. Guyot side trail","6395’","NC / TN","Sevier",{"$f":"VLOOKUP(A191,LongLat!$A$2:$H$292,7,TRUE)","v":-83.186499999999995},{"$f":"VLOOKUP(A191,LongLat!$A$2:$H$292,8,TRUE)","v":35.66592},"http://commons.wikimedia.org/wiki/File:Guyot-summit1.jpg"]
[224.1,"Snake Den Ridge Trail","5600’","NC / TN","Sevier",{"$f":"VLOOKUP(A192,LongLat!$A$2:$H$292,7,TRUE)","v":-83.186499999999995},{"$f":"VLOOKUP(A192,LongLat!$A$2:$H$292,8,TRUE)","v":35.66592},"http://commons.wikimedia.org/wiki/File:Snake-den-ridge-trail-terminus1.jpg"]
[227.5,"Cosby Knob","5150’","NC / TN","Sevier",{"$f":"VLOOKUP(A193,LongLat!$A$2:$H$292,7,TRUE)","v":-83.182199999999995},{"$f":"VLOOKUP(A193,LongLat!$A$2:$H$292,8,TRUE)","v":35.727080000000001},"http://www.summitpost.org/mountain/rock/358475/cosby-ross-and-camel-back-knobs.html"]
[228,"Cosby Knob Shelter (pic)","4700’","NC / TN","Sevier",{"$f":"VLOOKUP(A194,LongLat!$A$2:$H$292,7,TRUE)","v":-83.182199999999995},{"$f":"VLOOKUP(A194,LongLat!$A$2:$H$292,8,TRUE)","v":35.727080000000001},"http://www.summitpost.org/view_object.php?object_id=357287&context_id=383841"]
[230.8,"Mt. Cammerer side trail","5000’","NC / TN","Sevier",{"$f":"VLOOKUP(A195,LongLat!$A$2:$H$292,7,TRUE)","v":-83.182199999999995},{"$f":"VLOOKUP(A195,LongLat!$A$2:$H$292,8,TRUE)","v":35.727080000000001},"http://www.summitpost.org/mountain/rock/153983/mount-cammerer.html"]
[231.3,"spring","4300’","NC / TN","Sevier",{"$f":"VLOOKUP(A196,LongLat!$A$2:$H$292,7,TRUE)","v":-83.182199999999995},{"$f":"VLOOKUP(A196,LongLat!$A$2:$H$292,8,TRUE)","v":35.727080000000001}]
[232.9,"spring","3700’","NC / TN","Sevier",{"$f":"VLOOKUP(A197,LongLat!$A$2:$H$292,7,TRUE)","v":-83.182199999999995},{"$f":"VLOOKUP(A197,LongLat!$A$2:$H$292,8,TRUE)","v":35.727080000000001}]
[235.1,"Davenport Gap Shelter (pic)","2600’","NC / TN","Cocke",{"$f":"VLOOKUP(A198,LongLat!$A$2:$H$292,7,TRUE)","v":-83.123699999999999},{"$f":"VLOOKUP(A198,LongLat!$A$2:$H$292,8,TRUE)","v":35.769219999999997}]
[236,"Davenport Gap, GSMNP east boundary","1975’","NC / TN","Cocke",{"$f":"VLOOKUP(A199,LongLat!$A$2:$H$292,7,TRUE)","v":-83.123699999999999},{"$f":"VLOOKUP(A199,LongLat!$A$2:$H$292,8,TRUE)","v":35.769219999999997}]
[237.3,"State Line Branch","1600’","NC / TN","Cocke",{"$f":"VLOOKUP(A200,LongLat!$A$2:$H$292,7,TRUE)","v":-83.123699999999999},{"$f":"VLOOKUP(A200,LongLat!$A$2:$H$292,8,TRUE)","v":35.769219999999997}]
[237.5,"Pigeon River","1400’","NC / TN","Cocke",{"$f":"VLOOKUP(A201,LongLat!$A$2:$H$292,7,TRUE)","v":-83.123699999999999},{"$f":"VLOOKUP(A201,LongLat!$A$2:$H$292,8,TRUE)","v":35.769219999999997}]
[237.9,"I-40","1500’","NC / TN","Haywood",{"$f":"VLOOKUP(A202,LongLat!$A$2:$H$292,7,TRUE)","v":-83.123699999999999},{"$f":"VLOOKUP(A202,LongLat!$A$2:$H$292,8,TRUE)","v":35.769219999999997}]
[238.4,"Green Corner Rd.","1800’","NC / TN","Haywood",{"$f":"VLOOKUP(A203,LongLat!$A$2:$H$292,7,TRUE)","v":-83.123699999999999},{"$f":"VLOOKUP(A203,LongLat!$A$2:$H$292,8,TRUE)","v":35.769219999999997}]
[240.7,"Painter Branch","3100’","NC / TN","Haywood",{"$f":"VLOOKUP(A204,LongLat!$A$2:$H$292,7,TRUE)","v":-83.123699999999999},{"$f":"VLOOKUP(A204,LongLat!$A$2:$H$292,8,TRUE)","v":35.769219999999997}]
[241.6,"Spanish Oak Gap","3730’","NC / TN","Haywood",{"$f":"VLOOKUP(A205,LongLat!$A$2:$H$292,7,TRUE)","v":-83.123699999999999},{"$f":"VLOOKUP(A205,LongLat!$A$2:$H$292,8,TRUE)","v":35.769219999999997}]
[243.1,"Snowbird Mt.","4263’","NC / TN","Haywood",{"$f":"VLOOKUP(A206,LongLat!$A$2:$H$292,7,TRUE)","v":-83.123699999999999},{"$f":"VLOOKUP(A206,LongLat!$A$2:$H$292,8,TRUE)","v":35.769219999999997}]
[243.6,"campsite","4100’","NC / TN","Haywood",{"$f":"VLOOKUP(A207,LongLat!$A$2:$H$292,7,TRUE)","v":-83.123699999999999},{"$f":"VLOOKUP(A207,LongLat!$A$2:$H$292,8,TRUE)","v":35.769219999999997}]
[245.6,"Groundhog Creek Shelter (pic)","2850’","NC / TN","Haywood",{"$f":"VLOOKUP(A208,LongLat!$A$2:$H$292,7,TRUE)","v":-83.026300000000006},{"$f":"VLOOKUP(A208,LongLat!$A$2:$H$292,8,TRUE)","v":35.781660000000002},"http://farm4.static.flickr.com/3159/2535205220_78c016079b.jpg?v=0"]
[248.5,"Brown Gap","3500’","NC / TN","Haywood",{"$f":"VLOOKUP(A209,LongLat!$A$2:$H$292,7,TRUE)","v":-83.026300000000006},{"$f":"VLOOKUP(A209,LongLat!$A$2:$H$292,8,TRUE)","v":35.781660000000002},"http://www.flickr.com/photos/7683177@N03/1456787714"]
[251.2,"Max Patch Rd, NC 1182","4380’","NC / TN","Haywood",{"$f":"VLOOKUP(A210,LongLat!$A$2:$H$292,7,TRUE)","v":-83.026300000000006},{"$f":"VLOOKUP(A210,LongLat!$A$2:$H$292,8,TRUE)","v":35.781660000000002}]
[252,"Max Patch Mt.","4629’","NC / TN","Haywood",{"$f":"VLOOKUP(A211,LongLat!$A$2:$H$292,7,TRUE)","v":-83.026300000000006},{"$f":"VLOOKUP(A211,LongLat!$A$2:$H$292,8,TRUE)","v":35.781660000000002},"http://www.summitpost.org/mountain/rock/155063/max-patch.html"]
[253.8,"Roaring Fork Shelter (pic)","3950’","NC / TN","Haywood",{"$f":"VLOOKUP(A212,LongLat!$A$2:$H$292,7,TRUE)","v":-82.938599999999994},{"$f":"VLOOKUP(A212,LongLat!$A$2:$H$292,8,TRUE)","v":35.822339999999997},"http://spiddington.com/at2004/smallphotos/dscn0276.jpg"]
[257.39999999999998,"Lemon Gap, NC 1182/TN 107","3550’","NC / TN","Madison",{"$f":"VLOOKUP(A213,LongLat!$A$2:$H$292,7,TRUE)","v":-82.938599999999994},{"$f":"VLOOKUP(A213,LongLat!$A$2:$H$292,8,TRUE)","v":35.822339999999997},"http://commons.wikimedia.org/wiki/File:Lemon-gap-appalachian-trail-tnnc1.jpg"]
[258.7,"Walnut Mt. Shelter (pic)","4260’","NC / TN","Madison",{"$f":"VLOOKUP(A214,LongLat!$A$2:$H$292,7,TRUE)","v":-82.936700000000002},{"$f":"VLOOKUP(A214,LongLat!$A$2:$H$292,8,TRUE)","v":35.836449999999999}]
[261.10000000000002,"Bluff Mt.","4686’","NC / TN","Madison",{"$f":"VLOOKUP(A215,LongLat!$A$2:$H$292,7,TRUE)","v":-82.936700000000002},{"$f":"VLOOKUP(A215,LongLat!$A$2:$H$292,8,TRUE)","v":35.836449999999999},"http://www.summitpost.org/mountain/rock/646783/bluff-mountain-madison-county-nc.html"]
[262.7,"Big Rock Spring","3730’","NC / TN","Madison",{"$f":"VLOOKUP(A216,LongLat!$A$2:$H$292,7,TRUE)","v":-82.936700000000002},{"$f":"VLOOKUP(A216,LongLat!$A$2:$H$292,8,TRUE)","v":35.836449999999999}]
[265.2,"Garenflo Gap","2500’","NC / TN","Madison",{"$f":"VLOOKUP(A217,LongLat!$A$2:$H$292,7,TRUE)","v":-82.936700000000002},{"$f":"VLOOKUP(A217,LongLat!$A$2:$H$292,8,TRUE)","v":35.836449999999999}]
[268.60000000000002,"Deer Park Mt. Shelter (pic)","2330’","NC / TN","Madison",{"$f":"VLOOKUP(A218,LongLat!$A$2:$H$292,7,TRUE)","v":-82.861400000000003},{"$f":"VLOOKUP(A218,LongLat!$A$2:$H$292,8,TRUE)","v":35.875830000000001},"http://farm3.static.flickr.com/2025/2535207336_1c490ea139.jpg?v=0"]
[271.8,"Hot Springs, US 25/70","1326’","NC / TN","Madison",{"$f":"VLOOKUP(A219,LongLat!$A$2:$H$292,7,TRUE)","v":-82.861400000000003},{"$f":"VLOOKUP(A219,LongLat!$A$2:$H$292,8,TRUE)","v":35.875830000000001}]
[273.2,"Lovers Leap Rock","1820’","NC / TN","Madison",{"$f":"VLOOKUP(A220,LongLat!$A$2:$H$292,7,TRUE)","v":-82.861400000000003},{"$f":"VLOOKUP(A220,LongLat!$A$2:$H$292,8,TRUE)","v":35.875830000000001},"http://www.learnnc.org/lp/media/uploads/2008/03/madisoncofbhotsprings.jpg"]
[275.10000000000002,"Pump Gap","2130’","NC / TN","Madison",{"$f":"VLOOKUP(A221,LongLat!$A$2:$H$292,7,TRUE)","v":-82.861400000000003},{"$f":"VLOOKUP(A221,LongLat!$A$2:$H$292,8,TRUE)","v":35.875830000000001},"http://www.panoramio.com/photo/11182407"]
[276.7,"campsite","2490’","NC / TN","Madison",{"$f":"VLOOKUP(A222,LongLat!$A$2:$H$292,7,TRUE)","v":-82.861400000000003},{"$f":"VLOOKUP(A222,LongLat!$A$2:$H$292,8,TRUE)","v":35.875830000000001}]
[277.7,"Tanyard Gap, US 25/70","2270’","NC / TN","Madison",{"$f":"VLOOKUP(A223,LongLat!$A$2:$H$292,7,TRUE)","v":-82.861400000000003},{"$f":"VLOOKUP(A223,LongLat!$A$2:$H$292,8,TRUE)","v":35.875830000000001}]
[280,"Rich Mt. Fire Tower side trail","3600’","NC / TN","Madison",{"$f":"VLOOKUP(A224,LongLat!$A$2:$H$292,7,TRUE)","v":-82.861400000000003},{"$f":"VLOOKUP(A224,LongLat!$A$2:$H$292,8,TRUE)","v":35.875830000000001},"http://www.summitpost.org/mountain/rock/506107/rich-mountain.html"]
[281.10000000000002,"Hurricane Gap","2900’","NC / TN","Madison",{"$f":"VLOOKUP(A225,LongLat!$A$2:$H$292,7,TRUE)","v":-82.861400000000003},{"$f":"VLOOKUP(A225,LongLat!$A$2:$H$292,8,TRUE)","v":35.875830000000001}]
[282.8,"Spring Mt. Shelter (pic)","3300’","NC / TN","Madison",{"$f":"VLOOKUP(A226,LongLat!$A$2:$H$292,7,TRUE)","v":-82.790199999999999},{"$f":"VLOOKUP(A226,LongLat!$A$2:$H$292,8,TRUE)","v":35.951479999999997}]
[284.3,"spring","3190’","NC / TN","Madison",{"$f":"VLOOKUP(A227,LongLat!$A$2:$H$292,7,TRUE)","v":-82.790199999999999},{"$f":"VLOOKUP(A227,LongLat!$A$2:$H$292,8,TRUE)","v":35.951479999999997}]
[286.5,"Allen Gap, NC 208/TN 70","2234’","NC / TN","Madison",{"$f":"VLOOKUP(A228,LongLat!$A$2:$H$292,7,TRUE)","v":-82.790199999999999},{"$f":"VLOOKUP(A228,LongLat!$A$2:$H$292,8,TRUE)","v":35.951479999999997}]
[288.10000000000002,"Log Cabin Dr.","2560’","NC / TN","Madison",{"$f":"VLOOKUP(A229,LongLat!$A$2:$H$292,7,TRUE)","v":-82.790199999999999},{"$f":"VLOOKUP(A229,LongLat!$A$2:$H$292,8,TRUE)","v":35.951479999999997}]
[291.39999999999998,"Little Laurel Shelter (pic)","3620’","NC / TN","Madison",{"$f":"VLOOKUP(A230,LongLat!$A$2:$H$292,7,TRUE)","v":-82.735900000000001},{"$f":"VLOOKUP(A230,LongLat!$A$2:$H$292,8,TRUE)","v":36.014989999999997}]
[292.7,"Camp Creek Bald side trail","4750’","NC / TN","Greene",{"$f":"VLOOKUP(A231,LongLat!$A$2:$H$292,7,TRUE)","v":-82.735900000000001},{"$f":"VLOOKUP(A231,LongLat!$A$2:$H$292,8,TRUE)","v":36.014989999999997}]
[294.39999999999998,"spring","4390’","NC / TN","Greene",{"$f":"VLOOKUP(A232,LongLat!$A$2:$H$292,7,TRUE)","v":-82.735900000000001},{"$f":"VLOOKUP(A232,LongLat!$A$2:$H$292,8,TRUE)","v":36.014989999999997}]
[294.7,"Blackstack Cliffs","4420’","NC / TN","Greene",{"$f":"VLOOKUP(A233,LongLat!$A$2:$H$292,7,TRUE)","v":-82.735900000000001},{"$f":"VLOOKUP(A233,LongLat!$A$2:$H$292,8,TRUE)","v":36.014989999999997}]
[295.7,"Big Firescald Knob","4360’","NC / TN","Greene",{"$f":"VLOOKUP(A234,LongLat!$A$2:$H$292,7,TRUE)","v":-82.735900000000001},{"$f":"VLOOKUP(A234,LongLat!$A$2:$H$292,8,TRUE)","v":36.014989999999997}]
[298.2,"Jerry Cabin Shelter (pic)","4150’","NC / TN","Greene",{"$f":"VLOOKUP(A235,LongLat!$A$2:$H$292,7,TRUE)","v":-82.657399999999996},{"$f":"VLOOKUP(A235,LongLat!$A$2:$H$292,8,TRUE)","v":36.056469999999997},"http://www.johnnymolloy.com/Jerry%20Cabin%20Shelter.jpg"]
[300.10000000000002,"Big Butt","4750’","NC / TN","Greene",{"$f":"VLOOKUP(A236,LongLat!$A$2:$H$292,7,TRUE)","v":-82.657399999999996},{"$f":"VLOOKUP(A236,LongLat!$A$2:$H$292,8,TRUE)","v":36.056469999999997}]
[301.39999999999998,"spring","4480’","NC / TN","Greene",{"$f":"VLOOKUP(A237,LongLat!$A$2:$H$292,7,TRUE)","v":-82.657399999999996},{"$f":"VLOOKUP(A237,LongLat!$A$2:$H$292,8,TRUE)","v":36.056469999999997}]
[301.7,"Shelton Graves","4490’","NC / TN","Greene",{"$f":"VLOOKUP(A238,LongLat!$A$2:$H$292,7,TRUE)","v":-82.657399999999996},{"$f":"VLOOKUP(A238,LongLat!$A$2:$H$292,8,TRUE)","v":36.056469999999997}]
[304.10000000000002,"Flint Mt. Shelter (pic)","3570’","NC / TN","Greene",{"$f":"VLOOKUP(A239,LongLat!$A$2:$H$292,7,TRUE)","v":-82.596900000000005},{"$f":"VLOOKUP(A239,LongLat!$A$2:$H$292,8,TRUE)","v":36.034790000000001}]
[305,"campsite","3400’","NC / TN","Greene",{"$f":"VLOOKUP(A240,LongLat!$A$2:$H$292,7,TRUE)","v":-82.596900000000005},{"$f":"VLOOKUP(A240,LongLat!$A$2:$H$292,8,TRUE)","v":36.034790000000001}]
[306.8,"Devil Fork Gap, NC 212","3100’","NC / TN","Madison",{"$f":"VLOOKUP(A241,LongLat!$A$2:$H$292,7,TRUE)","v":-82.596900000000005},{"$f":"VLOOKUP(A241,LongLat!$A$2:$H$292,8,TRUE)","v":36.034790000000001}]
[307.3,"Rector Laurel Rd.","2960’","NC / TN","Madison",{"$f":"VLOOKUP(A242,LongLat!$A$2:$H$292,7,TRUE)","v":-82.596900000000005},{"$f":"VLOOKUP(A242,LongLat!$A$2:$H$292,8,TRUE)","v":36.034790000000001}]
[310.10000000000002,"Frozen Knob","4579’","NC / TN","Madison",{"$f":"VLOOKUP(A243,LongLat!$A$2:$H$292,7,TRUE)","v":-82.596900000000005},{"$f":"VLOOKUP(A243,LongLat!$A$2:$H$292,8,TRUE)","v":36.034790000000001}]
[310.7,"Big Flat","4160’","NC / TN","Madison",{"$f":"VLOOKUP(A244,LongLat!$A$2:$H$292,7,TRUE)","v":-82.596900000000005},{"$f":"VLOOKUP(A244,LongLat!$A$2:$H$292,8,TRUE)","v":36.034790000000001}]
[311.7,"Rice Gap","3800’","NC / TN","Madison",{"$f":"VLOOKUP(A245,LongLat!$A$2:$H$292,7,TRUE)","v":-82.596900000000005},{"$f":"VLOOKUP(A245,LongLat!$A$2:$H$292,8,TRUE)","v":36.034790000000001},"http://www.panoramio.com/photo/16552806"]
[312.89999999999998,"Hogback Ridge Shelter (pic)","4255’","NC / TN","Madison",{"$f":"VLOOKUP(A246,LongLat!$A$2:$H$292,7,TRUE)","v":-82.587199999999996},{"$f":"VLOOKUP(A246,LongLat!$A$2:$H$292,8,TRUE)","v":35.963949999999997},"http://www.panoramio.com/photo/16552734"]
[313.5,"High Rock","4460’","NC / TN","Madison",{"$f":"VLOOKUP(A247,LongLat!$A$2:$H$292,7,TRUE)","v":-82.587199999999996},{"$f":"VLOOKUP(A247,LongLat!$A$2:$H$292,8,TRUE)","v":35.963949999999997}]
[315.3,"> Sams Gap, I-26","3850’","NC / TN","Surry",{"$f":"VLOOKUP(A248,LongLat!$A$2:$H$292,7,TRUE)","v":-82.587199999999996},{"$f":"VLOOKUP(A248,LongLat!$A$2:$H$292,8,TRUE)","v":35.963949999999997}]
[316,"springs","4000’","NC / TN","Surry",{"$f":"VLOOKUP(A249,LongLat!$A$2:$H$292,7,TRUE)","v":-82.587199999999996},{"$f":"VLOOKUP(A249,LongLat!$A$2:$H$292,8,TRUE)","v":35.963949999999997}]
[317.7,"Street Gap","4100’","NC / TN","Surry",{"$f":"VLOOKUP(A250,LongLat!$A$2:$H$292,7,TRUE)","v":-82.587199999999996},{"$f":"VLOOKUP(A250,LongLat!$A$2:$H$292,8,TRUE)","v":35.963949999999997}]
[319,"Low Gap","4300’","NC / TN","Surry",{"$f":"VLOOKUP(A251,LongLat!$A$2:$H$292,7,TRUE)","v":-82.587199999999996},{"$f":"VLOOKUP(A251,LongLat!$A$2:$H$292,8,TRUE)","v":35.963949999999997}]
[321,"spring","4850’","NC / TN","Yancey",{"$f":"VLOOKUP(A252,LongLat!$A$2:$H$292,7,TRUE)","v":-82.587199999999996},{"$f":"VLOOKUP(A252,LongLat!$A$2:$H$292,8,TRUE)","v":35.963949999999997}]
[321.8,"Big Bald","5516’","NC / TN","Yancey",{"$f":"VLOOKUP(A253,LongLat!$A$2:$H$292,7,TRUE)","v":-82.478300000000004},{"$f":"VLOOKUP(A253,LongLat!$A$2:$H$292,8,TRUE)","v":36},"http://www.summitpost.org/mountain/rock/216605/big-bald.html"]
[322.10000000000002,"Big Stamp","5300’","NC / TN","Yancey",{"$f":"VLOOKUP(A254,LongLat!$A$2:$H$292,7,TRUE)","v":-82.478300000000004},{"$f":"VLOOKUP(A254,LongLat!$A$2:$H$292,8,TRUE)","v":36}]
[323,"Bald Mt. Shelter (pic)","5100’","NC / TN","Yancey",{"$f":"VLOOKUP(A255,LongLat!$A$2:$H$292,7,TRUE)","v":-82.478300000000004},{"$f":"VLOOKUP(A255,LongLat!$A$2:$H$292,8,TRUE)","v":36},"http://commons.wikimedia.org/wiki/File:Bald-mountain-shelter-tnnc1.jpg"]
[323.39999999999998,"campsite","4890’","NC / TN","Yancey",{"$f":"VLOOKUP(A256,LongLat!$A$2:$H$292,7,TRUE)","v":-82.478300000000004},{"$f":"VLOOKUP(A256,LongLat!$A$2:$H$292,8,TRUE)","v":36}]
[324.39999999999998,"Little Bald","5220’","NC / TN","Yancey",{"$f":"VLOOKUP(A257,LongLat!$A$2:$H$292,7,TRUE)","v":-82.478300000000004},{"$f":"VLOOKUP(A257,LongLat!$A$2:$H$292,8,TRUE)","v":36}]
[326.39999999999998,"Whistling Gap","3650’","NC / TN","Yancey",{"$f":"VLOOKUP(A258,LongLat!$A$2:$H$292,7,TRUE)","v":-82.478300000000004},{"$f":"VLOOKUP(A258,LongLat!$A$2:$H$292,8,TRUE)","v":36}]
[326.7,"High Rocks side trail","4100’","NC / TN","Yancey",{"$f":"VLOOKUP(A259,LongLat!$A$2:$H$292,7,TRUE)","v":-82.478300000000004},{"$f":"VLOOKUP(A259,LongLat!$A$2:$H$292,8,TRUE)","v":36}]
[328.2,"campsite","3490’","NC / TN","Yancey",{"$f":"VLOOKUP(A260,LongLat!$A$2:$H$292,7,TRUE)","v":-82.478300000000004},{"$f":"VLOOKUP(A260,LongLat!$A$2:$H$292,8,TRUE)","v":36}]
[328.7,"Spivey Gap, US 19W","3200’","NC / TN","Yancey",{"$f":"VLOOKUP(A261,LongLat!$A$2:$H$292,7,TRUE)","v":-82.478300000000004},{"$f":"VLOOKUP(A261,LongLat!$A$2:$H$292,8,TRUE)","v":36}]
[329.3,"Oglesby Branch","3800’","NC / TN","Unicoi",{"$f":"VLOOKUP(A262,LongLat!$A$2:$H$292,7,TRUE)","v":-82.478300000000004},{"$f":"VLOOKUP(A262,LongLat!$A$2:$H$292,8,TRUE)","v":36}]
[333.4,"spring","3300’","NC / TN","Unicoi",{"$f":"VLOOKUP(A263,LongLat!$A$2:$H$292,7,TRUE)","v":-82.433599999999998},{"$f":"VLOOKUP(A263,LongLat!$A$2:$H$292,8,TRUE)","v":36.066769999999998}]
[333.6,"No Business Knob Shelter (pic)","3180’","NC / TN","Unicoi",{"$f":"VLOOKUP(A264,LongLat!$A$2:$H$292,7,TRUE)","v":-82.433599999999998},{"$f":"VLOOKUP(A264,LongLat!$A$2:$H$292,8,TRUE)","v":36.066769999999998}]
[336,"Temple Hill Gap","2850’","NC / TN","Unicoi",{"$f":"VLOOKUP(A265,LongLat!$A$2:$H$292,7,TRUE)","v":-82.433599999999998},{"$f":"VLOOKUP(A265,LongLat!$A$2:$H$292,8,TRUE)","v":36.066769999999998}]
[339.9,"Nolichucky River","1700’","NC / TN","Unicoi",{"$f":"VLOOKUP(A266,LongLat!$A$2:$H$292,7,TRUE)","v":-82.433599999999998},{"$f":"VLOOKUP(A266,LongLat!$A$2:$H$292,8,TRUE)","v":36.066769999999998}]
[344.1,"Curley Maple Gap Shelter (pic)","3070’","NC / TN","Unicoi",{"$f":"VLOOKUP(A267,LongLat!$A$2:$H$292,7,TRUE)","v":-82.397000000000006},{"$f":"VLOOKUP(A267,LongLat!$A$2:$H$292,8,TRUE)","v":36.104170000000003}]
[348.2,"Indian Grave Gap, TN 395/NC 197","3350’","NC / TN","Unicoi",{"$f":"VLOOKUP(A268,LongLat!$A$2:$H$292,7,TRUE)","v":-82.397000000000006},{"$f":"VLOOKUP(A268,LongLat!$A$2:$H$292,8,TRUE)","v":36.104170000000003}]
[349.3,"USFS 230","3980’","NC / TN","Unicoi",{"$f":"VLOOKUP(A269,LongLat!$A$2:$H$292,7,TRUE)","v":-82.397000000000006},{"$f":"VLOOKUP(A269,LongLat!$A$2:$H$292,8,TRUE)","v":36.104170000000003}]
[350.5,"Beauty Spot","4437’","NC / TN","Unicoi",{"$f":"VLOOKUP(A270,LongLat!$A$2:$H$292,7,TRUE)","v":-82.397000000000006},{"$f":"VLOOKUP(A270,LongLat!$A$2:$H$292,8,TRUE)","v":36.104170000000003}]
[351,"Beauty Spot Gap","4120’","NC / TN","Unicoi",{"$f":"VLOOKUP(A271,LongLat!$A$2:$H$292,7,TRUE)","v":-82.397000000000006},{"$f":"VLOOKUP(A271,LongLat!$A$2:$H$292,8,TRUE)","v":36.104170000000003}]
[352,"Deep Gap","4100’","NC / TN","Unicoi",{"$f":"VLOOKUP(A272,LongLat!$A$2:$H$292,7,TRUE)","v":-82.397000000000006},{"$f":"VLOOKUP(A272,LongLat!$A$2:$H$292,8,TRUE)","v":36.104170000000003}]
[352.6,"USFS 230","4660’","NC / TN","Unicoi",{"$f":"VLOOKUP(A273,LongLat!$A$2:$H$292,7,TRUE)","v":-82.397000000000006},{"$f":"VLOOKUP(A273,LongLat!$A$2:$H$292,8,TRUE)","v":36.104170000000003}]
[353.6,"Unaka Mt.","5180’","NC / TN","Unicoi",{"$f":"VLOOKUP(A274,LongLat!$A$2:$H$292,7,TRUE)","v":-82.397000000000006},{"$f":"VLOOKUP(A274,LongLat!$A$2:$H$292,8,TRUE)","v":36.104170000000003}]
[353.9,"spring","4750’","NC / TN","Unicoi",{"$f":"VLOOKUP(A275,LongLat!$A$2:$H$292,7,TRUE)","v":-82.397000000000006},{"$f":"VLOOKUP(A275,LongLat!$A$2:$H$292,8,TRUE)","v":36.104170000000003}]
[354.8,"Low Gap","3900’","NC / TN","Unicoi",{"$f":"VLOOKUP(A276,LongLat!$A$2:$H$292,7,TRUE)","v":-82.397000000000006},{"$f":"VLOOKUP(A276,LongLat!$A$2:$H$292,8,TRUE)","v":36.104170000000003}]
[356.8,"Cherry Gap Shelter (pic)","3900’","NC / TN","Unicoi",{"$f":"VLOOKUP(A277,LongLat!$A$2:$H$292,7,TRUE)","v":-82.264200000000002},{"$f":"VLOOKUP(A277,LongLat!$A$2:$H$292,8,TRUE)","v":36.129240000000003}]
[360,"Iron Mt. Gap, TN 107/NC 226","2130’","NC / TN","Mitchell",{"$f":"VLOOKUP(A278,LongLat!$A$2:$H$292,7,TRUE)","v":-82.264200000000002},{"$f":"VLOOKUP(A278,LongLat!$A$2:$H$292,8,TRUE)","v":36.129240000000003}]
[361.3,"campsite","3950’","NC / TN","Mitchell",{"$f":"VLOOKUP(A279,LongLat!$A$2:$H$292,7,TRUE)","v":-82.264200000000002},{"$f":"VLOOKUP(A279,LongLat!$A$2:$H$292,8,TRUE)","v":36.129240000000003}]
[364.2,"Greasy Creek Gap","4034’","NC / TN","Mitchell",{"$f":"VLOOKUP(A280,LongLat!$A$2:$H$292,7,TRUE)","v":-82.161299999999997},{"$f":"VLOOKUP(A280,LongLat!$A$2:$H$292,8,TRUE)","v":36.148440000000001}]
[365,"campsite","4110’","NC / TN","Mitchell",{"$f":"VLOOKUP(A281,LongLat!$A$2:$H$292,7,TRUE)","v":-82.161299999999997},{"$f":"VLOOKUP(A281,LongLat!$A$2:$H$292,8,TRUE)","v":36.148440000000001}]
[366.1,"Clyde Smith Shelter (pic)","4400’","NC / TN","Mitchell",{"$f":"VLOOKUP(A282,LongLat!$A$2:$H$292,7,TRUE)","v":-82.161299999999997},{"$f":"VLOOKUP(A282,LongLat!$A$2:$H$292,8,TRUE)","v":36.148440000000001},"http://farm1.static.flickr.com/79/217117785_aebce7c99c.jpg?v=0"]
[367,"Little Rock Knob","4918’","NC / TN","Mitchell",{"$f":"VLOOKUP(A283,LongLat!$A$2:$H$292,7,TRUE)","v":-82.161299999999997},{"$f":"VLOOKUP(A283,LongLat!$A$2:$H$292,8,TRUE)","v":36.148440000000001},"http://www.summitpost.org/mountain/rock/212630/little-rock-knob.html"]
[369.2,"Hughes Gap","4040’","NC / TN","Mitchell",{"$f":"VLOOKUP(A284,LongLat!$A$2:$H$292,7,TRUE)","v":-82.161299999999997},{"$f":"VLOOKUP(A284,LongLat!$A$2:$H$292,8,TRUE)","v":36.148440000000001}]
[371,"Ash Gap","5350’","NC / TN","Mitchell",{"$f":"VLOOKUP(A285,LongLat!$A$2:$H$292,7,TRUE)","v":-82.122699999999995},{"$f":"VLOOKUP(A285,LongLat!$A$2:$H$292,8,TRUE)","v":36.104959999999998}]
[371.8,"Roan High Bluff Trail","6200’","NC / TN","Mitchell",{"$f":"VLOOKUP(A286,LongLat!$A$2:$H$292,7,TRUE)","v":-82.122699999999995},{"$f":"VLOOKUP(A286,LongLat!$A$2:$H$292,8,TRUE)","v":36.104959999999998},"http://www.summitpost.org/mountain/rock/154372/roan-high-bluff.html"]
[372.5,"Roan High Knob & Shelter (pic)","6275’","NC / TN","Mitchell",{"$f":"VLOOKUP(A287,LongLat!$A$2:$H$292,7,TRUE)","v":-82.122699999999995},{"$f":"VLOOKUP(A287,LongLat!$A$2:$H$292,8,TRUE)","v":36.104959999999998}]
[374,"Carvers Gap, TN143/NC 261","5512’","NC / TN","Mitchell",{"$f":"VLOOKUP(A288,LongLat!$A$2:$H$292,7,TRUE)","v":-82.122699999999995},{"$f":"VLOOKUP(A288,LongLat!$A$2:$H$292,8,TRUE)","v":36.104959999999998},"http://www.summitpost.org/image/222025/218638/carvers-gap-pano.html"]
[375.9,"Grassy Ridge Bald side trail","5770’","NC / TN","Mitchell",{"$f":"VLOOKUP(A289,LongLat!$A$2:$H$292,7,TRUE)","v":-82.065899999999999},{"$f":"VLOOKUP(A289,LongLat!$A$2:$H$292,8,TRUE)","v":36.112270000000002},"http://www.summitpost.org/mountain/rock/154356/grassy-ridge-bald.html"]
[377.3,"Stan Murray Shelter (pic)","5050’","NC / TN","Mitchell",{"$f":"VLOOKUP(A290,LongLat!$A$2:$H$292,7,TRUE)","v":-82.054400000000001},{"$f":"VLOOKUP(A290,LongLat!$A$2:$H$292,8,TRUE)","v":36.123539999999998}]
[379,"Yellow Mt. Gap, Overmountain Shelter (pic)","4550’","NC / TN","Mitchell",{"$f":"VLOOKUP(A291,LongLat!$A$2:$H$292,7,TRUE)","v":-82.054400000000001},{"$f":"VLOOKUP(A291,LongLat!$A$2:$H$292,8,TRUE)","v":36.123539999999998},"http://www.summitpost.org/view_object.php?object_id=385864&context_id=383841"]
[380.6,"Little Hump Mt.","5459’","NC / TN","Mitchell",{"$f":"VLOOKUP(A292,LongLat!$A$2:$H$292,7,TRUE)","v":-82.054400000000001},{"$f":"VLOOKUP(A292,LongLat!$A$2:$H$292,8,TRUE)","v":36.123539999999998}]
[381.9,"Bradley Gap","4950’","NC / TN","Bradley",{"$f":"VLOOKUP(A293,LongLat!$A$2:$H$292,7,TRUE)","v":-82.054400000000001},{"$f":"VLOOKUP(A293,LongLat!$A$2:$H$292,8,TRUE)","v":36.123539999999998}]
[382.8,"Hump Mt.","5587’","NC / TN","Bradley",{"$f":"VLOOKUP(A294,LongLat!$A$2:$H$292,7,TRUE)","v":-82.054400000000001},{"$f":"VLOOKUP(A294,LongLat!$A$2:$H$292,8,TRUE)","v":36.123539999999998},"http://www.summitpost.org/mountain/rock/217555/hump-mountain.html"]
[385.2,"Doll Flats, TN-NC State Line","4600’","NC / TN","Bradley",{"$f":"VLOOKUP(A295,LongLat!$A$2:$H$292,7,TRUE)","v":-82.011300000000006},{"$f":"VLOOKUP(A295,LongLat!$A$2:$H$292,8,TRUE)","v":36.172089999999997},"http://hikingbill.com/2008_logs/2008-12-28/20081228_57.JPG"]
[387.6,"spring","3060’","NC / TN","Bradley",{"$f":"VLOOKUP(A296,LongLat!$A$2:$H$292,7,TRUE)","v":-82.011300000000006},{"$f":"VLOOKUP(A296,LongLat!$A$2:$H$292,8,TRUE)","v":36.172089999999997}]
[387.7,"Apple House Shelter (pic)","3000’","NC / TN","Bradley",{"$f":"VLOOKUP(A297,LongLat!$A$2:$H$292,7,TRUE)","v":-82.011300000000006},{"$f":"VLOOKUP(A297,LongLat!$A$2:$H$292,8,TRUE)","v":36.172089999999997}]
[388.2,"US 19E, Elk Park, NC","2895’","NC / TN","Bradley",{"$f":"VLOOKUP(A298,LongLat!$A$2:$H$292,7,TRUE)","v":-82.011300000000006},{"$f":"VLOOKUP(A298,LongLat!$A$2:$H$292,8,TRUE)","v":36.172089999999997}]
[388.4,"Bear Branch Rd.","2900’","NC / TN","Bradley",{"$f":"VLOOKUP(A299,LongLat!$A$2:$H$292,7,TRUE)","v":-82.011300000000006},{"$f":"VLOOKUP(A299,LongLat!$A$2:$H$292,8,TRUE)","v":36.172089999999997}]
[391.5,"Buck Mt. Rd.","3340’","NC / TN","Bradley",{"$f":"VLOOKUP(A300,LongLat!$A$2:$H$292,7,TRUE)","v":-82.011300000000006},{"$f":"VLOOKUP(A300,LongLat!$A$2:$H$292,8,TRUE)","v":36.172089999999997}]
[391.8,"Campbell Hollow Rd.","3330’","NC / TN","Bradley",{"$f":"VLOOKUP(A301,LongLat!$A$2:$H$292,7,TRUE)","v":-82.011300000000006},{"$f":"VLOOKUP(A301,LongLat!$A$2:$H$292,8,TRUE)","v":36.172089999999997}]
[394.6,"campsite","3590’","NC / TN","Bradley",{"$f":"VLOOKUP(A302,LongLat!$A$2:$H$292,7,TRUE)","v":0},{"$f":"VLOOKUP(A302,LongLat!$A$2:$H$292,8,TRUE)","v":0}]
[396.8,"campsite","n/a","NC / TN","Bradley",{"$f":"VLOOKUP(A303,LongLat!$A$2:$H$292,7,TRUE)","v":0},{"$f":"VLOOKUP(A303,LongLat!$A$2:$H$292,8,TRUE)","v":0}]
[397,"Mountaineer Shelter (pic)","3470’","NC / TN","Bradley",{"$f":"VLOOKUP(A304,LongLat!$A$2:$H$292,7,TRUE)","v":0},{"$f":"VLOOKUP(A304,LongLat!$A$2:$H$292,8,TRUE)","v":0},"http://www.auontheat.com/wp-content/uploads/2008/04/mountaineer-shelter-with-our-friend-alex-rat-sandwich.jpg"]
[397.8,"campsite","n/a","NC / TN","Bradley",{"$f":"VLOOKUP(A305,LongLat!$A$2:$H$292,7,TRUE)","v":0},{"$f":"VLOOKUP(A305,LongLat!$A$2:$H$292,8,TRUE)","v":0}]
[398.6,"Walnut Mt. Rd.","3550’","NC / TN","Bradley",{"$f":"VLOOKUP(A306,LongLat!$A$2:$H$292,7,TRUE)","v":0},{"$f":"VLOOKUP(A306,LongLat!$A$2:$H$292,8,TRUE)","v":0}]
[399.8,"stream","3400’","NC / TN","Bradley",{"$f":"VLOOKUP(A307,LongLat!$A$2:$H$292,7,TRUE)","v":0},{"$f":"VLOOKUP(A307,LongLat!$A$2:$H$292,8,TRUE)","v":0}]
[400.3,"viewpoint","n/a","NC / TN","Bradley",{"$f":"VLOOKUP(A308,LongLat!$A$2:$H$292,7,TRUE)","v":0},{"$f":"VLOOKUP(A308,LongLat!$A$2:$H$292,8,TRUE)","v":0}]
[400.8,"Laurel Fork","3290’","NC / TN","Bradley",{"$f":"VLOOKUP(A309,LongLat!$A$2:$H$292,7,TRUE)","v":0},{"$f":"VLOOKUP(A309,LongLat!$A$2:$H$292,8,TRUE)","v":0}]
[404.7,"campsite","3410’","NC / TN","Bradley",{"$f":"VLOOKUP(A310,LongLat!$A$2:$H$292,7,TRUE)","v":-82.088499999999996},{"$f":"VLOOKUP(A310,LongLat!$A$2:$H$292,8,TRUE)","v":36.220120000000001}]
[406.6,"Moreland Gap Shelter (pic)","3815’","NC / TN","Carter",{"$f":"VLOOKUP(A311,LongLat!$A$2:$H$292,7,TRUE)","v":-82.088499999999996},{"$f":"VLOOKUP(A311,LongLat!$A$2:$H$292,8,TRUE)","v":36.220120000000001}]
[407.9,"White Rocks Mt.","4206’","NC / TN","Carter",{"$f":"VLOOKUP(A312,LongLat!$A$2:$H$292,7,TRUE)","v":-82.088499999999996},{"$f":"VLOOKUP(A312,LongLat!$A$2:$H$292,8,TRUE)","v":36.220120000000001},"http://hikingbill.com/2007_logs/2007-06-17/hiking 029.jpg"]
[408.7,"campsite","n/a","NC / TN","Carter",{"$f":"VLOOKUP(A313,LongLat!$A$2:$H$292,7,TRUE)","v":-82.088499999999996},{"$f":"VLOOKUP(A313,LongLat!$A$2:$H$292,8,TRUE)","v":36.220120000000001}]
[410.9,"Coon Den Falls side trail","2660’","NC / TN","Carter",{"$f":"VLOOKUP(A314,LongLat!$A$2:$H$292,7,TRUE)","v":-82.088499999999996},{"$f":"VLOOKUP(A314,LongLat!$A$2:$H$292,8,TRUE)","v":36.220120000000001},"http://www.summitpost.org/image/240473/240463/coon-den-branch-tn.html"]
[412.6,"Dennis Cove, USFS 50","2550’","NC / TN","Carter",{"$f":"VLOOKUP(A315,LongLat!$A$2:$H$292,7,TRUE)","v":-82.136399999999995},{"$f":"VLOOKUP(A315,LongLat!$A$2:$H$292,8,TRUE)","v":36.278559999999999}]
[413.8,"Laurel Fork Falls","2120’","NC / TN","Carter",{"$f":"VLOOKUP(A316,LongLat!$A$2:$H$292,7,TRUE)","v":-82.136399999999995},{"$f":"VLOOKUP(A316,LongLat!$A$2:$H$292,8,TRUE)","v":36.278559999999999},"http://1.bp.blogspot.com/_s2G9Ja2yxEg/RqmC4P_hj4I/AAAAAAAAIMM/phnFY6La-ag/s400/Laurel%2BFalls.jpg"]
[414.5,"Laurel Fork Shelter (pic)","2450’","NC / TN","Carter",{"$f":"VLOOKUP(A317,LongLat!$A$2:$H$292,7,TRUE)","v":-82.136399999999995},{"$f":"VLOOKUP(A317,LongLat!$A$2:$H$292,8,TRUE)","v":36.278559999999999},"http://smg.photobucket.com/user/bearpawat99/media/Blue%20Blaze%2009%20TN/046.jpg.html"]
[414.8,"Waycaster Spring","n/a","NC / TN","Carter",{"$f":"VLOOKUP(A318,LongLat!$A$2:$H$292,7,TRUE)","v":-82.136399999999995},{"$f":"VLOOKUP(A318,LongLat!$A$2:$H$292,8,TRUE)","v":36.278559999999999}]
[415.3,"US 321 side trail","1900’","NC / TN","Carter",{"$f":"VLOOKUP(A319,LongLat!$A$2:$H$292,7,TRUE)","v":-82.136399999999995},{"$f":"VLOOKUP(A319,LongLat!$A$2:$H$292,8,TRUE)","v":36.278559999999999}]
[418.3,"Pond Flats","3780’","NC / TN","Carter",{"$f":"VLOOKUP(A320,LongLat!$A$2:$H$292,7,TRUE)","v":-82.136399999999995},{"$f":"VLOOKUP(A320,LongLat!$A$2:$H$292,8,TRUE)","v":36.278559999999999}]
[421.5,"US 321","1990’","NC / TN","Carter",{"$f":"VLOOKUP(A321,LongLat!$A$2:$H$292,7,TRUE)","v":-82.129499999999993},{"$f":"VLOOKUP(A321,LongLat!$A$2:$H$292,8,TRUE)","v":36.313879999999997}]
[422.8,"Griffith Branch","2100’","NC / TN","Carter",{"$f":"VLOOKUP(A322,LongLat!$A$2:$H$292,7,TRUE)","v":-82.129499999999993},{"$f":"VLOOKUP(A322,LongLat!$A$2:$H$292,8,TRUE)","v":36.313879999999997}]
[423.3,"Watauga Lake Shelter (pic)","2130’","NC / TN","Carter",{"$f":"VLOOKUP(A323,LongLat!$A$2:$H$292,7,TRUE)","v":-82.129499999999993},{"$f":"VLOOKUP(A323,LongLat!$A$2:$H$292,8,TRUE)","v":36.313879999999997}]
[424.4,"Watauga Dam","1915’","NC / TN","Carter",{"$f":"VLOOKUP(A324,LongLat!$A$2:$H$292,7,TRUE)","v":-82.129499999999993},{"$f":"VLOOKUP(A324,LongLat!$A$2:$H$292,8,TRUE)","v":36.313879999999997},"http://commons.wikimedia.org/wiki/File:WataugaLake.jpg"]
[425.7,"Wilbur Lake Rd.","2250’","NC / TN","Carter",{"$f":"VLOOKUP(A325,LongLat!$A$2:$H$292,7,TRUE)","v":-82.129499999999993},{"$f":"VLOOKUP(A325,LongLat!$A$2:$H$292,8,TRUE)","v":36.313879999999997}]
[428.4,"spring","3400’","NC / TN","Carter",{"$f":"VLOOKUP(A326,LongLat!$A$2:$H$292,7,TRUE)","v":-82.058999999999997},{"$f":"VLOOKUP(A326,LongLat!$A$2:$H$292,8,TRUE)","v":36.36694}]
[430.1,"Vandeventer Shelter (pic)","3620’","NC / TN","Carter",{"$f":"VLOOKUP(A327,LongLat!$A$2:$H$292,7,TRUE)","v":-82.058999999999997},{"$f":"VLOOKUP(A327,LongLat!$A$2:$H$292,8,TRUE)","v":36.36694}]
[433.9,"spring","3900’","NC / TN","Carter",{"$f":"VLOOKUP(A328,LongLat!$A$2:$H$292,7,TRUE)","v":-81.991},{"$f":"VLOOKUP(A328,LongLat!$A$2:$H$292,8,TRUE)","v":36.43553}]
[435.3,"Turkeypen Gap","3840’","NC / TN","Henderson",{"$f":"VLOOKUP(A329,LongLat!$A$2:$H$292,7,TRUE)","v":-81.991},{"$f":"VLOOKUP(A329,LongLat!$A$2:$H$292,8,TRUE)","v":36.43553}]
[436.7,"spring","4000’","NC / TN","Henderson",{"$f":"VLOOKUP(A330,LongLat!$A$2:$H$292,7,TRUE)","v":-81.991},{"$f":"VLOOKUP(A330,LongLat!$A$2:$H$292,8,TRUE)","v":36.43553}]
[436.9,"Iron Mt. Shelter (pic)","4125’","NC / TN","Henderson",{"$f":"VLOOKUP(A331,LongLat!$A$2:$H$292,7,TRUE)","v":-81.991},{"$f":"VLOOKUP(A331,LongLat!$A$2:$H$292,8,TRUE)","v":36.43553}]
[438.2,"Nick Grindstaff Monument","4090’","NC / TN","Henderson",{"$f":"VLOOKUP(A332,LongLat!$A$2:$H$292,7,TRUE)","v":-81.991},{"$f":"VLOOKUP(A332,LongLat!$A$2:$H$292,8,TRUE)","v":36.43553}]
[438.3,"spring","n/a","NC / TN","Henderson",{"$f":"VLOOKUP(A333,LongLat!$A$2:$H$292,7,TRUE)","v":-81.991},{"$f":"VLOOKUP(A333,LongLat!$A$2:$H$292,8,TRUE)","v":36.43553}]
[440.7,"stream","n/a","NC / TN","Henderson",{"$f":"VLOOKUP(A334,LongLat!$A$2:$H$292,7,TRUE)","v":-81.991},{"$f":"VLOOKUP(A334,LongLat!$A$2:$H$292,8,TRUE)","v":36.43553}]
[441.5,"TN 91 (Osborn Farm)","3450’","NC / TN","Henderson",{"$f":"VLOOKUP(A335,LongLat!$A$2:$H$292,7,TRUE)","v":-81.986199999999997},{"$f":"VLOOKUP(A335,LongLat!$A$2:$H$292,8,TRUE)","v":36.508969999999998},"http://hikingbill.com/2007_logs/2007-04-21/2007-04-21/hiking 001.jpg"]
[443.6,"campsite","3990’","NC / TN","Henderson",{"$f":"VLOOKUP(A336,LongLat!$A$2:$H$292,7,TRUE)","v":-81.986199999999997},{"$f":"VLOOKUP(A336,LongLat!$A$2:$H$292,8,TRUE)","v":36.508969999999998}]
[444.5,"Double Springs Shelter (pic)","4060’","NC / TN","Henderson",{"$f":"VLOOKUP(A337,LongLat!$A$2:$H$292,7,TRUE)","v":-81.986199999999997},{"$f":"VLOOKUP(A337,LongLat!$A$2:$H$292,8,TRUE)","v":36.508969999999998},"http://www.panoramio.com/photo/450299"]
[448,"Low Gap, US 421","3384’","NC / TN","Henderson",{"$f":"VLOOKUP(A338,LongLat!$A$2:$H$292,7,TRUE)","v":-81.986199999999997},{"$f":"VLOOKUP(A338,LongLat!$A$2:$H$292,8,TRUE)","v":36.508969999999998}]
[449.9,"Double Spring Gap","3650’","NC / TN","Henderson",{"$f":"VLOOKUP(A339,LongLat!$A$2:$H$292,7,TRUE)","v":-81.902199999999993},{"$f":"VLOOKUP(A339,LongLat!$A$2:$H$292,8,TRUE)","v":36.581009999999999}]
[451.3,"McQueens Knob","3900’","NC / TN","Sullivan",{"$f":"VLOOKUP(A340,LongLat!$A$2:$H$292,7,TRUE)","v":-81.902199999999993},{"$f":"VLOOKUP(A340,LongLat!$A$2:$H$292,8,TRUE)","v":36.581009999999999},"http://www.spilledimages.com/Nature/THE-APPALACHIAN-TRAIL/6546707_ZYEHW/9/416529813_w2u23"]
[451.7,"McQueens Gap, USFS 69","3680’","NC / TN","Sullivan",{"$f":"VLOOKUP(A341,LongLat!$A$2:$H$292,7,TRUE)","v":-81.902199999999993},{"$f":"VLOOKUP(A341,LongLat!$A$2:$H$292,8,TRUE)","v":36.581009999999999}]
[452.8,"Abingdon Gap Shelter (pic)","3785’","NC / TN","Sullivan",{"$f":"VLOOKUP(A342,LongLat!$A$2:$H$292,7,TRUE)","v":-81.902199999999993},{"$f":"VLOOKUP(A342,LongLat!$A$2:$H$292,8,TRUE)","v":36.581009999999999}]
[459.3,"TN-VA State Line","3302’",null,null,{"$f":"VLOOKUP(A343,LongLat!$A$2:$H$292,7,TRUE)","v":-81.902199999999993},{"$f":"VLOOKUP(A343,LongLat!$A$2:$H$292,8,TRUE)","v":36.581009999999999},"http://www.flickr.com/photos/63933718@N00/2434843390"]
[460.9,"spring","2600’","VA","Washington",{"$f":"VLOOKUP(A344,LongLat!$A$2:$H$292,7,TRUE)","v":-81.902199999999993},{"$f":"VLOOKUP(A344,LongLat!$A$2:$H$292,8,TRUE)","v":36.581009999999999}]
[463,"Damascus, VA","1928’","VA","Washington",{"$f":"VLOOKUP(A345,LongLat!$A$2:$H$292,7,TRUE)","v":-81.902199999999993},{"$f":"VLOOKUP(A345,LongLat!$A$2:$H$292,8,TRUE)","v":36.581009999999999},"http://www.rlrouse.com/pic-of-the-day/appalachian-trail-sign.jpg"]
[464.1,"Creeper Trail, US 58","1928’","VA","Washington",{"$f":"VLOOKUP(A346,LongLat!$A$2:$H$292,7,TRUE)","v":-81.902199999999993},{"$f":"VLOOKUP(A346,LongLat!$A$2:$H$292,8,TRUE)","v":36.581009999999999},"http://www.vacreepertrail.us/"]
[466.5,"Iron Mt. Trail","2850’","VA","Washington",{"$f":"VLOOKUP(A347,LongLat!$A$2:$H$292,7,TRUE)","v":-81.902199999999993},{"$f":"VLOOKUP(A347,LongLat!$A$2:$H$292,8,TRUE)","v":36.581009999999999},"http://img.photobucket.com/albums/v425/bearpawat99/Blue Blaze 09 VA/119.jpg"]
[468.6,"Straight Branch, US 58","2200’","VA","Washington",{"$f":"VLOOKUP(A348,LongLat!$A$2:$H$292,7,TRUE)","v":-81.902199999999993},{"$f":"VLOOKUP(A348,LongLat!$A$2:$H$292,8,TRUE)","v":36.581009999999999}]
[469.9,"stream","2490’","VA","Washington",{"$f":"VLOOKUP(A349,LongLat!$A$2:$H$292,7,TRUE)","v":-81.713200000000001},{"$f":"VLOOKUP(A349,LongLat!$A$2:$H$292,8,TRUE)","v":36.637700000000002}]
[470.6,"Taylors Valley side trail","2850’","VA","Washington",{"$f":"VLOOKUP(A350,LongLat!$A$2:$H$292,7,TRUE)","v":-81.713200000000001},{"$f":"VLOOKUP(A350,LongLat!$A$2:$H$292,8,TRUE)","v":36.637700000000002}]
[472.1,"Straight Mt.","3500’","VA","Washington",{"$f":"VLOOKUP(A351,LongLat!$A$2:$H$292,7,TRUE)","v":-81.713200000000001},{"$f":"VLOOKUP(A351,LongLat!$A$2:$H$292,8,TRUE)","v":36.637700000000002}]
[472.4,"Saunders Shelter (pic)","3310’","VA","Washington",{"$f":"VLOOKUP(A352,LongLat!$A$2:$H$292,7,TRUE)","v":-81.713200000000001},{"$f":"VLOOKUP(A352,LongLat!$A$2:$H$292,8,TRUE)","v":36.637700000000002},"http://farm4.static.flickr.com/3183/2599874562_98af6e31d2.jpg"]
[473.5,"stream","3150’","VA","Washington",{"$f":"VLOOKUP(A353,LongLat!$A$2:$H$292,7,TRUE)","v":-81.713200000000001},{"$f":"VLOOKUP(A353,LongLat!$A$2:$H$292,8,TRUE)","v":36.637700000000002}]
[474.6,"Beartree Gap Trail","3050’","VA","Washington",{"$f":"VLOOKUP(A354,LongLat!$A$2:$H$292,7,TRUE)","v":-81.713200000000001},{"$f":"VLOOKUP(A354,LongLat!$A$2:$H$292,8,TRUE)","v":36.637700000000002}]
[474.8,"campsite","4160’","VA","Washington",{"$f":"VLOOKUP(A355,LongLat!$A$2:$H$292,7,TRUE)","v":-81.713200000000001},{"$f":"VLOOKUP(A355,LongLat!$A$2:$H$292,8,TRUE)","v":36.637700000000002}]
[476.6,"VA 728","2720’","VA","Washington",{"$f":"VLOOKUP(A356,LongLat!$A$2:$H$292,7,TRUE)","v":-81.656300000000002},{"$f":"VLOOKUP(A356,LongLat!$A$2:$H$292,8,TRUE)","v":36.644060000000003}]
[477,"Creeper Trail, Whitetop Laurel Creek","2690’","VA","Washington",{"$f":"VLOOKUP(A357,LongLat!$A$2:$H$292,7,TRUE)","v":-81.656300000000002},{"$f":"VLOOKUP(A357,LongLat!$A$2:$H$292,8,TRUE)","v":36.644060000000003},"http://www.waterfall-picture-guide.com/image-files/whitetop-laurel-falls1.jpg"]
[477.6,"VA 859 (Grassy Ridge Rd.)","2900’","VA","Washington",{"$f":"VLOOKUP(A358,LongLat!$A$2:$H$292,7,TRUE)","v":-81.656300000000002},{"$f":"VLOOKUP(A358,LongLat!$A$2:$H$292,8,TRUE)","v":36.644060000000003}]
[478.8,"Lost Mt. Shelter (pic)","3360’","VA","Washington",{"$f":"VLOOKUP(A359,LongLat!$A$2:$H$292,7,TRUE)","v":-81.656300000000002},{"$f":"VLOOKUP(A359,LongLat!$A$2:$H$292,8,TRUE)","v":36.644060000000003}]
[479.9,"US 58, Summit Cut","3160’","VA","Washington",{"$f":"VLOOKUP(A360,LongLat!$A$2:$H$292,7,TRUE)","v":-81.656300000000002},{"$f":"VLOOKUP(A360,LongLat!$A$2:$H$292,8,TRUE)","v":36.644060000000003}]
[481.1,"VA 601 (Beech Mt. Rd.)","3600’","VA","Washington",{"$f":"VLOOKUP(A361,LongLat!$A$2:$H$292,7,TRUE)","v":-81.656300000000002},{"$f":"VLOOKUP(A361,LongLat!$A$2:$H$292,8,TRUE)","v":36.644060000000003}]
[483.6,"Buzzard Rock, Whitetop Mt.","5080’","VA","Washington",{"$f":"VLOOKUP(A362,LongLat!$A$2:$H$292,7,TRUE)","v":-81.656300000000002},{"$f":"VLOOKUP(A362,LongLat!$A$2:$H$292,8,TRUE)","v":36.644060000000003},"http://www.summitpost.org/mountain/rock/153534/whitetop-mountain.html"]
[484.1,"spring","5100’","VA","Washington",{"$f":"VLOOKUP(A363,LongLat!$A$2:$H$292,7,TRUE)","v":-81.656300000000002},{"$f":"VLOOKUP(A363,LongLat!$A$2:$H$292,8,TRUE)","v":36.644060000000003}]
[484.3,"Whitetop Mt. Rd.","5150’","VA","Washington",{"$f":"VLOOKUP(A364,LongLat!$A$2:$H$292,7,TRUE)","v":-81.656300000000002},{"$f":"VLOOKUP(A364,LongLat!$A$2:$H$292,8,TRUE)","v":36.644060000000003}]
[486.8,"VA 600, Elk Garden","4434’","VA","Washington",{"$f":"VLOOKUP(A365,LongLat!$A$2:$H$292,7,TRUE)","v":-81.656300000000002},{"$f":"VLOOKUP(A365,LongLat!$A$2:$H$292,8,TRUE)","v":36.644060000000003},"http://www.summitpost.org/image/521439/150778/mt-rogers.html"]
[488.8,"Deep Gap","4900’","VA","Washington",{"$f":"VLOOKUP(A366,LongLat!$A$2:$H$292,7,TRUE)","v":-81.535399999999996},{"$f":"VLOOKUP(A366,LongLat!$A$2:$H$292,8,TRUE)","v":36.656559999999999}]
[490.6,"Mt. Rogers summit spur","5490’","VA","Washington",{"$f":"VLOOKUP(A367,LongLat!$A$2:$H$292,7,TRUE)","v":-81.535399999999996},{"$f":"VLOOKUP(A367,LongLat!$A$2:$H$292,8,TRUE)","v":36.656559999999999},"http://www.summitpost.org/mountain/rock/150778/mount-rogers.html"]
[491,"Thomas Knob Shelter (pic)","5400’","VA","Washington",{"$f":"VLOOKUP(A368,LongLat!$A$2:$H$292,7,TRUE)","v":-81.535399999999996},{"$f":"VLOOKUP(A368,LongLat!$A$2:$H$292,8,TRUE)","v":36.656559999999999}]
[491.8,"Rhododendron Gap","5440’","VA","Grayson",{"$f":"VLOOKUP(A369,LongLat!$A$2:$H$292,7,TRUE)","v":-81.535399999999996},{"$f":"VLOOKUP(A369,LongLat!$A$2:$H$292,8,TRUE)","v":36.656559999999999},"http://www.dwhike.com/Hikes/Hikes-2006/Mt-Rogers-VA-10-14-06/4627484_Xcgba/2"]
[493.1,"Wilburn Ridge","4900’","VA","Grayson",{"$f":"VLOOKUP(A370,LongLat!$A$2:$H$292,7,TRUE)","v":-81.498599999999996},{"$f":"VLOOKUP(A370,LongLat!$A$2:$H$292,8,TRUE)","v":36.653919999999999},"http://www.summitpost.org/mountain/rock/152547/wilburn-ridge-pine-mountain.html"]
[493.9,"Massie Gap","4800’","VA","Grayson",{"$f":"VLOOKUP(A371,LongLat!$A$2:$H$292,7,TRUE)","v":-81.498599999999996},{"$f":"VLOOKUP(A371,LongLat!$A$2:$H$292,8,TRUE)","v":36.653919999999999}]
[496.1,"Wise Shelter (pic)","4460’","VA","Grayson",{"$f":"VLOOKUP(A372,LongLat!$A$2:$H$292,7,TRUE)","v":-81.498599999999996},{"$f":"VLOOKUP(A372,LongLat!$A$2:$H$292,8,TRUE)","v":36.653919999999999},"http://farm4.static.flickr.com/3418/3399953925_cd983acca0.jpg"]
[496.4,"Big Wilson Creek","4300’","VA","Grayson",{"$f":"VLOOKUP(A373,LongLat!$A$2:$H$292,7,TRUE)","v":-81.498599999999996},{"$f":"VLOOKUP(A373,LongLat!$A$2:$H$292,8,TRUE)","v":36.653919999999999},"http://www.summitpost.org/image/240541/240463/wilson-creek-va.html"]
[497.4,"spring","4610’","VA","Grayson",{"$f":"VLOOKUP(A374,LongLat!$A$2:$H$292,7,TRUE)","v":-81.498599999999996},{"$f":"VLOOKUP(A374,LongLat!$A$2:$H$292,8,TRUE)","v":36.653919999999999}]
[498.6,"Stone Mt.","4820’","VA","Grayson",{"$f":"VLOOKUP(A375,LongLat!$A$2:$H$292,7,TRUE)","v":-81.511200000000002},{"$f":"VLOOKUP(A375,LongLat!$A$2:$H$292,8,TRUE)","v":36.683210000000003},"http://www.flickr.com/photos/stepol/2599335548/in/set-72157605737180518/"]
[500.3,"Pine Mt.","5000’","VA","Grayson",{"$f":"VLOOKUP(A376,LongLat!$A$2:$H$292,7,TRUE)","v":-81.511200000000002},{"$f":"VLOOKUP(A376,LongLat!$A$2:$H$292,8,TRUE)","v":36.683210000000003},"http://www.summitpost.org/mountain/rock/152547/wilburn-ridge-pine-mountain.html"]
[499.8,"Scales","4650’","VA","Grayson",{"$f":"VLOOKUP(A377,LongLat!$A$2:$H$292,7,TRUE)","v":-81.511200000000002},{"$f":"VLOOKUP(A377,LongLat!$A$2:$H$292,8,TRUE)","v":36.683210000000003},"http://img.photobucket.com/albums/v425/bearpawat99/Blue Blaze 09 VA/102.jpg"]
[502,"Old Orchard Shelter (pic)","4050’","VA","Grayson",{"$f":"VLOOKUP(A378,LongLat!$A$2:$H$292,7,TRUE)","v":-81.511200000000002},{"$f":"VLOOKUP(A378,LongLat!$A$2:$H$292,8,TRUE)","v":36.683210000000003}]
[503.7,"VA 603, Fox Creek","3480’","VA","Grayson",{"$f":"VLOOKUP(A379,LongLat!$A$2:$H$292,7,TRUE)","v":-81.509500000000003},{"$f":"VLOOKUP(A379,LongLat!$A$2:$H$292,8,TRUE)","v":36.715350000000001},"http://www.flickr.com/photos/stepol/2598422559/in/set-72157605737180518/"]
[505.7,"Hurricane Mt.","4320’","VA","Grayson",{"$f":"VLOOKUP(A380,LongLat!$A$2:$H$292,7,TRUE)","v":-81.509500000000003},{"$f":"VLOOKUP(A380,LongLat!$A$2:$H$292,8,TRUE)","v":36.715350000000001},"http://www.flickr.com/photos/stepol/2599231946/in/set-72157605737180518/"]
[506,"Iron Mt. Trail, Chestnut Flats","4240’","VA","Grayson",{"$f":"VLOOKUP(A381,LongLat!$A$2:$H$292,7,TRUE)","v":-81.509500000000003},{"$f":"VLOOKUP(A381,LongLat!$A$2:$H$292,8,TRUE)","v":36.715350000000001}]
[506.3,"stream","3000’","VA","Grayson",{"$f":"VLOOKUP(A382,LongLat!$A$2:$H$292,7,TRUE)","v":-81.509500000000003},{"$f":"VLOOKUP(A382,LongLat!$A$2:$H$292,8,TRUE)","v":36.715350000000001}]
[507,"Hurricane Mt. Shelter (pic)","4300’","VA","Grayson",{"$f":"VLOOKUP(A383,LongLat!$A$2:$H$292,7,TRUE)","v":-81.509500000000003},{"$f":"VLOOKUP(A383,LongLat!$A$2:$H$292,8,TRUE)","v":36.715350000000001},"http://web.eecs.utk.edu/~dunigan/at/x/hurricane.jpg"]
[508.4,"stream","3000’","VA","Grayson",{"$f":"VLOOKUP(A384,LongLat!$A$2:$H$292,7,TRUE)","v":-81.509500000000003},{"$f":"VLOOKUP(A384,LongLat!$A$2:$H$292,8,TRUE)","v":36.715350000000001}]
[510.1,"Hurricane Campground Trail","3090’","VA","Grayson",{"$f":"VLOOKUP(A385,LongLat!$A$2:$H$292,7,TRUE)","v":-81.509500000000003},{"$f":"VLOOKUP(A385,LongLat!$A$2:$H$292,8,TRUE)","v":36.715350000000001},"http://www.fs.fed.us/r8/gwj/mr/recreation/camping/hurricane.shtml"]
[511,"Comers Creek","3100’","VA","Grayson",{"$f":"VLOOKUP(A386,LongLat!$A$2:$H$292,7,TRUE)","v":-81.471999999999994},{"$f":"VLOOKUP(A386,LongLat!$A$2:$H$292,8,TRUE)","v":36.730919999999998}]
[512.20000000000005,"Dickey Gap, VA 650 & 16","3300’","VA","Grayson",{"$f":"VLOOKUP(A387,LongLat!$A$2:$H$292,7,TRUE)","v":-81.471999999999994},{"$f":"VLOOKUP(A387,LongLat!$A$2:$H$292,8,TRUE)","v":36.730919999999998},"http://www.flickr.com/photos/66425017@N00/2599208034"]
[513.70000000000005,"spring","3570’","VA","Grayson",{"$f":"VLOOKUP(A388,LongLat!$A$2:$H$292,7,TRUE)","v":-81.480599999999995},{"$f":"VLOOKUP(A388,LongLat!$A$2:$H$292,8,TRUE)","v":36.749180000000003}]
[514.29999999999995,"High Point","4040’","VA","Grayson",{"$f":"VLOOKUP(A389,LongLat!$A$2:$H$292,7,TRUE)","v":-81.480599999999995},{"$f":"VLOOKUP(A389,LongLat!$A$2:$H$292,8,TRUE)","v":36.749180000000003}]
[516.1,"Trimpi Shelter (pic)","2900’","VA","Grayson",{"$f":"VLOOKUP(A390,LongLat!$A$2:$H$292,7,TRUE)","v":-81.480599999999995},{"$f":"VLOOKUP(A390,LongLat!$A$2:$H$292,8,TRUE)","v":36.749180000000003},"http://farm4.static.flickr.com/3237/2407364533_cdd103b949.jpg"]
[517.6,"VA 672","2700’","VA","Grayson",{"$f":"VLOOKUP(A391,LongLat!$A$2:$H$292,7,TRUE)","v":-81.480599999999995},{"$f":"VLOOKUP(A391,LongLat!$A$2:$H$292,8,TRUE)","v":36.749180000000003}]
[518.9,"VA 670","2450’","VA","Grayson",{"$f":"VLOOKUP(A392,LongLat!$A$2:$H$292,7,TRUE)","v":-81.480599999999995},{"$f":"VLOOKUP(A392,LongLat!$A$2:$H$292,8,TRUE)","v":36.749180000000003},"http://www.flickr.com/photos/2000miler/2576162516/in/set-72157605596928499/"]
[522.70000000000005,"VA 601","3250’","VA","Grayson",{"$f":"VLOOKUP(A393,LongLat!$A$2:$H$292,7,TRUE)","v":-81.480599999999995},{"$f":"VLOOKUP(A393,LongLat!$A$2:$H$292,8,TRUE)","v":36.749180000000003},"http://www.flickr.com/photos/2000miler/605341537/in/set-72157600452577964/"]
[526.70000000000005,"Partnership Shelter (pic)","3360’","VA","Grayson",{"$f":"VLOOKUP(A394,LongLat!$A$2:$H$292,7,TRUE)","v":-81.422600000000003},{"$f":"VLOOKUP(A394,LongLat!$A$2:$H$292,8,TRUE)","v":36.809399999999997}]
[526.79999999999995,"Mt. Rogers NRA Headquarters","3220’","VA","Grayson",{"$f":"VLOOKUP(A395,LongLat!$A$2:$H$292,7,TRUE)","v":-81.422600000000003},{"$f":"VLOOKUP(A395,LongLat!$A$2:$H$292,8,TRUE)","v":36.809399999999997}]
[527.5,"VA 622","3270’","VA","Grayson",{"$f":"VLOOKUP(A396,LongLat!$A$2:$H$292,7,TRUE)","v":-81.422600000000003},{"$f":"VLOOKUP(A396,LongLat!$A$2:$H$292,8,TRUE)","v":36.809399999999997}]
[528,"Brushy Mt.","3600’","VA","Grayson",{"$f":"VLOOKUP(A397,LongLat!$A$2:$H$292,7,TRUE)","v":-81.422600000000003},{"$f":"VLOOKUP(A397,LongLat!$A$2:$H$292,8,TRUE)","v":36.809399999999997}]
[530.5,"Locust Mt.","3900’","VA","Grayson",{"$f":"VLOOKUP(A398,LongLat!$A$2:$H$292,7,TRUE)","v":-81.363299999999995},{"$f":"VLOOKUP(A398,LongLat!$A$2:$H$292,8,TRUE)","v":36.849910000000001},"http://www.flickr.com/photos/2000miler/2576072642/in/set-72157605590948604/"]
[530.9,"USFS 86","3650’","VA","Grayson",{"$f":"VLOOKUP(A399,LongLat!$A$2:$H$292,7,TRUE)","v":-81.363299999999995},{"$f":"VLOOKUP(A399,LongLat!$A$2:$H$292,8,TRUE)","v":36.849910000000001}]
[531.79999999999995,"Glade Mt.","3900’","VA","Smyth",{"$f":"VLOOKUP(A400,LongLat!$A$2:$H$292,7,TRUE)","v":-81.363299999999995},{"$f":"VLOOKUP(A400,LongLat!$A$2:$H$292,8,TRUE)","v":36.849910000000001},"http://www.flickr.com/photos/2000miler/2575163103/in/set-72157605596165137/"]
[533.79999999999995,"Chatfield Shelter (pic)","3150’","VA","Smyth",{"$f":"VLOOKUP(A401,LongLat!$A$2:$H$292,7,TRUE)","v":-81.363299999999995},{"$f":"VLOOKUP(A401,LongLat!$A$2:$H$292,8,TRUE)","v":36.849910000000001},"http://farm4.static.flickr.com/3576/3505785712_2c2e4c718e.jpg"]
[534.1,"USFS 644","3100’","VA","Smyth",{"$f":"VLOOKUP(A402,LongLat!$A$2:$H$292,7,TRUE)","v":-81.363299999999995},{"$f":"VLOOKUP(A402,LongLat!$A$2:$H$292,8,TRUE)","v":36.849910000000001}]
[535.6,"VA 615, Settlers Museum","2650’","VA","Smyth",{"$f":"VLOOKUP(A403,LongLat!$A$2:$H$292,7,TRUE)","v":-81.363299999999995},{"$f":"VLOOKUP(A403,LongLat!$A$2:$H$292,8,TRUE)","v":36.849910000000001},"http://www.flickr.com/photos/astrogirl/3505782360/"]
[536.1,"VA 729","2700’","VA","Smyth",{"$f":"VLOOKUP(A404,LongLat!$A$2:$H$292,7,TRUE)","v":-81.363299999999995},{"$f":"VLOOKUP(A404,LongLat!$A$2:$H$292,8,TRUE)","v":36.849910000000001}]
[538.29999999999995,"I-81 Crossing","2420’","VA","Smyth",{"$f":"VLOOKUP(A405,LongLat!$A$2:$H$292,7,TRUE)","v":-81.376900000000006},{"$f":"VLOOKUP(A405,LongLat!$A$2:$H$292,8,TRUE)","v":36.914439999999999},"http://www.flickr.com/photos/2000miler/2575165311/in/set-72157605596165137/"]
[539.4,"VA 617","2580’","VA","Smyth",{"$f":"VLOOKUP(A406,LongLat!$A$2:$H$292,7,TRUE)","v":-81.376900000000006},{"$f":"VLOOKUP(A406,LongLat!$A$2:$H$292,8,TRUE)","v":36.914439999999999}]
[540.1,"spring","2610’","VA","Smyth",{"$f":"VLOOKUP(A407,LongLat!$A$2:$H$292,7,TRUE)","v":-81.376900000000006},{"$f":"VLOOKUP(A407,LongLat!$A$2:$H$292,8,TRUE)","v":36.914439999999999}]
[541,"Davis Path Campsite","2840’","VA","Smyth",{"$f":"VLOOKUP(A408,LongLat!$A$2:$H$292,7,TRUE)","v":-81.376900000000006},{"$f":"VLOOKUP(A408,LongLat!$A$2:$H$292,8,TRUE)","v":36.914439999999999},"http://walkingnorth.files.wordpress.com/2008/10/may25.jpg"]
[543.5,"Guillon (Little Brushy) Mt.","3300’","VA","Smyth",{"$f":"VLOOKUP(A409,LongLat!$A$2:$H$292,7,TRUE)","v":-81.376900000000006},{"$f":"VLOOKUP(A409,LongLat!$A$2:$H$292,8,TRUE)","v":36.914439999999999}]
[544.6,"Crawfish Valley","2600’","VA","Smyth",{"$f":"VLOOKUP(A410,LongLat!$A$2:$H$292,7,TRUE)","v":-81.376900000000006},{"$f":"VLOOKUP(A410,LongLat!$A$2:$H$292,8,TRUE)","v":36.914439999999999}]
[546.29999999999995,"Big Walker Mt.","3500’","VA","Smyth",{"$f":"VLOOKUP(A411,LongLat!$A$2:$H$292,7,TRUE)","v":-81.376900000000006},{"$f":"VLOOKUP(A411,LongLat!$A$2:$H$292,8,TRUE)","v":36.914439999999999},"http://www.summitpost.org/mountain/rock/515758/walker-mountain.html"]
[547.70000000000005,"VA 610","2700’","VA","Smyth",{"$f":"VLOOKUP(A412,LongLat!$A$2:$H$292,7,TRUE)","v":-81.376900000000006},{"$f":"VLOOKUP(A412,LongLat!$A$2:$H$292,8,TRUE)","v":36.914439999999999},"http://www.flickr.com/photos/2000miler/2575872900/in/set-72157605595600707/"]
[550.1,"VA 42","2650’","VA","Smyth",{"$f":"VLOOKUP(A413,LongLat!$A$2:$H$292,7,TRUE)","v":-81.404600000000002},{"$f":"VLOOKUP(A413,LongLat!$A$2:$H$292,8,TRUE)","v":37.000660000000003},"http://www.flickr.com/photos/2000miler/2575861238/in/set-72157605595600707/"]
[551,"Brushy Mt.","3200’","VA","Smyth",{"$f":"VLOOKUP(A414,LongLat!$A$2:$H$292,7,TRUE)","v":-81.404600000000002},{"$f":"VLOOKUP(A414,LongLat!$A$2:$H$292,8,TRUE)","v":37.000660000000003}]
[552.29999999999995,"Knot Maul Branch Shelter (pic)","2880’","VA","Smyth",{"$f":"VLOOKUP(A415,LongLat!$A$2:$H$292,7,TRUE)","v":-81.404600000000002},{"$f":"VLOOKUP(A415,LongLat!$A$2:$H$292,8,TRUE)","v":37.000660000000003}]
[552.4,"spring","2810’","VA","Smyth",{"$f":"VLOOKUP(A416,LongLat!$A$2:$H$292,7,TRUE)","v":-81.404600000000002},{"$f":"VLOOKUP(A416,LongLat!$A$2:$H$292,8,TRUE)","v":37.000660000000003}]
[553.4,"Lynn Camp Creek","2400’","VA","Smyth",{"$f":"VLOOKUP(A417,LongLat!$A$2:$H$292,7,TRUE)","v":-81.404600000000002},{"$f":"VLOOKUP(A417,LongLat!$A$2:$H$292,8,TRUE)","v":37.000660000000003}]
[554.20000000000005,"Lynn Camp Mt.","3000’","VA","Smyth",{"$f":"VLOOKUP(A418,LongLat!$A$2:$H$292,7,TRUE)","v":-81.404600000000002},{"$f":"VLOOKUP(A418,LongLat!$A$2:$H$292,8,TRUE)","v":37.000660000000003},"http://www.flickr.com/photos/2000miler/2575033821/in/set-72157605595600707/"]
[557.6,"USFS 222","2380’","VA","Smyth",{"$f":"VLOOKUP(A419,LongLat!$A$2:$H$292,7,TRUE)","v":-81.404600000000002},{"$f":"VLOOKUP(A419,LongLat!$A$2:$H$292,8,TRUE)","v":37.000660000000003}]
[559.5,"spring","3800’","VA","Smyth",{"$f":"VLOOKUP(A420,LongLat!$A$2:$H$292,7,TRUE)","v":-81.399500000000003},{"$f":"VLOOKUP(A420,LongLat!$A$2:$H$292,8,TRUE)","v":37.057690000000001}]
[561.29999999999995,"Chestnut Knob Shelter (pic)","4409’","VA","Smyth",{"$f":"VLOOKUP(A421,LongLat!$A$2:$H$292,7,TRUE)","v":-81.399500000000003},{"$f":"VLOOKUP(A421,LongLat!$A$2:$H$292,8,TRUE)","v":37.057690000000001}]
[562.6,"Walker Gap","3520’","VA","Tazewell",{"$f":"VLOOKUP(A422,LongLat!$A$2:$H$292,7,TRUE)","v":-81.399500000000003},{"$f":"VLOOKUP(A422,LongLat!$A$2:$H$292,8,TRUE)","v":37.057690000000001}]
[567.5,"VA 623, Garden Mt.","3880’","VA","Tazewell",{"$f":"VLOOKUP(A423,LongLat!$A$2:$H$292,7,TRUE)","v":-81.399500000000003},{"$f":"VLOOKUP(A423,LongLat!$A$2:$H$292,8,TRUE)","v":37.057690000000001},"http://www.summitpost.org/garden-mt-bm-maiden/224231"]
[568.29999999999995,"Davis Farm Campsite","3850’","VA","Tazewell",{"$f":"VLOOKUP(A424,LongLat!$A$2:$H$292,7,TRUE)","v":-81.247799999999998},{"$f":"VLOOKUP(A424,LongLat!$A$2:$H$292,8,TRUE)","v":37.093389999999999},"http://www.flickr.com/photos/2000miler/2562752714/in/set-72157605494433749/"]
[571.29999999999995,"Jenkins Shelter (pic)","2500’","VA","Tazewell",{"$f":"VLOOKUP(A425,LongLat!$A$2:$H$292,7,TRUE)","v":-81.247799999999998},{"$f":"VLOOKUP(A425,LongLat!$A$2:$H$292,8,TRUE)","v":37.093389999999999}]
[575.5,"Brushy Mt.","3080’","VA","Tazewell",{"$f":"VLOOKUP(A426,LongLat!$A$2:$H$292,7,TRUE)","v":-81.247799999999998},{"$f":"VLOOKUP(A426,LongLat!$A$2:$H$292,8,TRUE)","v":37.093389999999999}]
[576.1,"VA 615, Laurel Creek","2450’","VA","Tazewell",{"$f":"VLOOKUP(A427,LongLat!$A$2:$H$292,7,TRUE)","v":-81.247799999999998},{"$f":"VLOOKUP(A427,LongLat!$A$2:$H$292,8,TRUE)","v":37.093389999999999},"http://www.flickr.com/photos/2000miler/2560059312/in/set-72157605488048844/"]
[583,"US 21/52","2900’","VA","Tazewell",{"$f":"VLOOKUP(A428,LongLat!$A$2:$H$292,7,TRUE)","v":-81.104399999999998},{"$f":"VLOOKUP(A428,LongLat!$A$2:$H$292,8,TRUE)","v":37.132620000000003},"http://www.flickr.com/photos/2000miler/2560055282/in/set-72157605488048844/"]
[583.20000000000005,"I-77 Crossing","2750’","VA","Tazewell",{"$f":"VLOOKUP(A429,LongLat!$A$2:$H$292,7,TRUE)","v":-81.104399999999998},{"$f":"VLOOKUP(A429,LongLat!$A$2:$H$292,8,TRUE)","v":37.132620000000003},"http://www.flickr.com/photos/2000miler/2559231853/in/set-72157605488048844/"]
[583.79999999999995,"VA 612, Kimberling Creek","2700’","VA","Tazewell",{"$f":"VLOOKUP(A430,LongLat!$A$2:$H$292,7,TRUE)","v":-81.104399999999998},{"$f":"VLOOKUP(A430,LongLat!$A$2:$H$292,8,TRUE)","v":37.132620000000003}]
[585.29999999999995,"Helveys Mill Shelter (pic)","3090’","VA","Tazewell",{"$f":"VLOOKUP(A431,LongLat!$A$2:$H$292,7,TRUE)","v":-81.104399999999998},{"$f":"VLOOKUP(A431,LongLat!$A$2:$H$292,8,TRUE)","v":37.132620000000003}]
[592,"VA 611","2820’","VA","Tazewell",{"$f":"VLOOKUP(A432,LongLat!$A$2:$H$292,7,TRUE)","v":-80.9803},{"$f":"VLOOKUP(A432,LongLat!$A$2:$H$292,8,TRUE)","v":37.154980000000002}]
[593.4,"Brushy Mt.","3101’","VA","Tazewell",{"$f":"VLOOKUP(A433,LongLat!$A$2:$H$292,7,TRUE)","v":-80.9803},{"$f":"VLOOKUP(A433,LongLat!$A$2:$H$292,8,TRUE)","v":37.154980000000002},"http://www.flickr.com/photos/2000miler/2560052182/in/set-72157605488048844/"]
[595.1,"Jenny Knob Shelter (pic)","2800’","VA","Tazewell",{"$f":"VLOOKUP(A434,LongLat!$A$2:$H$292,7,TRUE)","v":-80.9803},{"$f":"VLOOKUP(A434,LongLat!$A$2:$H$292,8,TRUE)","v":37.154980000000002}]
[596.29999999999995,"VA 608, Crandon","2200’","VA","Tazewell",{"$f":"VLOOKUP(A435,LongLat!$A$2:$H$292,7,TRUE)","v":-80.9803},{"$f":"VLOOKUP(A435,LongLat!$A$2:$H$292,8,TRUE)","v":37.154980000000002}]
[599.6,"Brushy Mt.","2900’","VA","Tazewell",{"$f":"VLOOKUP(A436,LongLat!$A$2:$H$292,7,TRUE)","v":-80.9803},{"$f":"VLOOKUP(A436,LongLat!$A$2:$H$292,8,TRUE)","v":37.154980000000002}]
[601.5,"Kimberling Creek Suspension Bridge","2090’","VA","Tazewell",{"$f":"VLOOKUP(A437,LongLat!$A$2:$H$292,7,TRUE)","v":-80.9803},{"$f":"VLOOKUP(A437,LongLat!$A$2:$H$292,8,TRUE)","v":37.154980000000002},"http://www.flickr.com/photos/2000miler/2559009989/in/set-72157605492426943/"]
[601.6,"VA 606","2100’","VA","Tazewell",{"$f":"VLOOKUP(A438,LongLat!$A$2:$H$292,7,TRUE)","v":-80.9803},{"$f":"VLOOKUP(A438,LongLat!$A$2:$H$292,8,TRUE)","v":37.154980000000002},"http://www.flickr.com/photos/2000miler/2559008795/in/set-72157605492426943/"]
[603.5,"Dismal Creek Falls","2320’","VA","Giles",{"$f":"VLOOKUP(A439,LongLat!$A$2:$H$292,7,TRUE)","v":-80.9803},{"$f":"VLOOKUP(A439,LongLat!$A$2:$H$292,8,TRUE)","v":37.154980000000002},"http://www.panoramio.com/photo/5634693"]
[607.4,"White Pine Horse Campground","2400’","VA","Giles",{"$f":"VLOOKUP(A440,LongLat!$A$2:$H$292,7,TRUE)","v":-80.824100000000001},{"$f":"VLOOKUP(A440,LongLat!$A$2:$H$292,8,TRUE)","v":37.223939999999999}]
[607.79999999999995,"stream","2500’","VA","Giles",{"$f":"VLOOKUP(A441,LongLat!$A$2:$H$292,7,TRUE)","v":-80.824100000000001},{"$f":"VLOOKUP(A441,LongLat!$A$2:$H$292,8,TRUE)","v":37.223939999999999},"http://www.flickr.com/photos/2000miler/2559006397/in/set-72157605492426943/"]
[609.29999999999995,"Wapiti Shelter (pic)","2640’","VA","Giles",{"$f":"VLOOKUP(A442,LongLat!$A$2:$H$292,7,TRUE)","v":-80.824100000000001},{"$f":"VLOOKUP(A442,LongLat!$A$2:$H$292,8,TRUE)","v":37.223939999999999},"http://www.panoramio.com/photo/16442271"]
[613.79999999999995,"Ribble Trail, north jct.","3800’","VA","Giles",{"$f":"VLOOKUP(A443,LongLat!$A$2:$H$292,7,TRUE)","v":-80.824100000000001},{"$f":"VLOOKUP(A443,LongLat!$A$2:$H$292,8,TRUE)","v":37.223939999999999}]
[613.9,"Big Horse Gap, USFS 103","3800’","VA","Giles",{"$f":"VLOOKUP(A444,LongLat!$A$2:$H$292,7,TRUE)","v":-80.836399999999998},{"$f":"VLOOKUP(A444,LongLat!$A$2:$H$292,8,TRUE)","v":37.270209999999999}]
[615.5,"Sugar Run Gap, VA 663","3450’","VA","Giles",{"$f":"VLOOKUP(A445,LongLat!$A$2:$H$292,7,TRUE)","v":-80.836399999999998},{"$f":"VLOOKUP(A445,LongLat!$A$2:$H$292,8,TRUE)","v":37.270209999999999},"http://www.flickr.com/photos/2000miler/2559512692/in/set-72157605484734902/"]
[617.70000000000005,"Doc’s Knob Shelter (pic)","3555’","VA","Giles",{"$f":"VLOOKUP(A446,LongLat!$A$2:$H$292,7,TRUE)","v":-80.836399999999998},{"$f":"VLOOKUP(A446,LongLat!$A$2:$H$292,8,TRUE)","v":37.270209999999999}]
[622.9,"campsite, spring","3750’","VA","Giles",{"$f":"VLOOKUP(A447,LongLat!$A$2:$H$292,7,TRUE)","v":-80.836399999999998},{"$f":"VLOOKUP(A447,LongLat!$A$2:$H$292,8,TRUE)","v":37.270209999999999}]
[623.4,"Pearis Mt. (Angels Rest)","3550’","VA","Giles",{"$f":"VLOOKUP(A448,LongLat!$A$2:$H$292,7,TRUE)","v":-80.836399999999998},{"$f":"VLOOKUP(A448,LongLat!$A$2:$H$292,8,TRUE)","v":37.270209999999999},"http://www.flickr.com/photos/2000miler/2558531483/in/set-72157605489014547/"]
[625.4,"VA 634","2200’","VA","Giles",{"$f":"VLOOKUP(A449,LongLat!$A$2:$H$292,7,TRUE)","v":-80.836399999999998},{"$f":"VLOOKUP(A449,LongLat!$A$2:$H$292,8,TRUE)","v":37.270209999999999}]
[625.9,"Lane St, Pearisburg, VA","1650’","VA","Giles",{"$f":"VLOOKUP(A450,LongLat!$A$2:$H$292,7,TRUE)","v":-80.836399999999998},{"$f":"VLOOKUP(A450,LongLat!$A$2:$H$292,8,TRUE)","v":37.270209999999999},"http://www.flickr.com/photos/99692266@N00/1545085653"]
[626.4,"US 460, New River","1600’","VA","Giles",{"$f":"VLOOKUP(A451,LongLat!$A$2:$H$292,7,TRUE)","v":-80.836399999999998},{"$f":"VLOOKUP(A451,LongLat!$A$2:$H$292,8,TRUE)","v":37.270209999999999},"http://www.flickr.com/photos/2000miler/2559353264/in/set-72157605489014547/"]
[627.9,"VA 641 (Clendennin Rd.)","1750’","VA","Giles",{"$f":"VLOOKUP(A452,LongLat!$A$2:$H$292,7,TRUE)","v":-80.836399999999998},{"$f":"VLOOKUP(A452,LongLat!$A$2:$H$292,8,TRUE)","v":37.270209999999999}]
[630.1,"spring","3250’","VA","Giles",{"$f":"VLOOKUP(A453,LongLat!$A$2:$H$292,7,TRUE)","v":-80.758600000000001},{"$f":"VLOOKUP(A453,LongLat!$A$2:$H$292,8,TRUE)","v":37.374789999999997}]
[632.70000000000005,"Rice Field Shelter (pic)","3375’","VA","Giles",{"$f":"VLOOKUP(A454,LongLat!$A$2:$H$292,7,TRUE)","v":-80.758600000000001},{"$f":"VLOOKUP(A454,LongLat!$A$2:$H$292,8,TRUE)","v":37.374789999999997}]
[634.29999999999995,"campsite","3300’","VA","Giles",{"$f":"VLOOKUP(A455,LongLat!$A$2:$H$292,7,TRUE)","v":-80.758600000000001},{"$f":"VLOOKUP(A455,LongLat!$A$2:$H$292,8,TRUE)","v":37.374789999999997},"http://www.flickr.com/photos/2000miler/2558342883/in/set-72157605487933611/"]
[637.79999999999995,"Symms Gap Meadow","3320’","VA","Giles",{"$f":"VLOOKUP(A456,LongLat!$A$2:$H$292,7,TRUE)","v":-80.758600000000001},{"$f":"VLOOKUP(A456,LongLat!$A$2:$H$292,8,TRUE)","v":37.374789999999997},"http://www.flickr.com/photos/2000miler/2559165692/in/set-72157605487933611/"]
[638.79999999999995,"Groundhog Trail","3400’","VA","Giles",{"$f":"VLOOKUP(A457,LongLat!$A$2:$H$292,7,TRUE)","v":-80.758600000000001},{"$f":"VLOOKUP(A457,LongLat!$A$2:$H$292,8,TRUE)","v":37.374789999999997},"http://www.flickr.com/photos/2000miler/2558340357/in/set-72157605487933611/"]
[640.29999999999995,"Dickinson Gap","3300’","VA","Giles",{"$f":"VLOOKUP(A458,LongLat!$A$2:$H$292,7,TRUE)","v":-80.758600000000001},{"$f":"VLOOKUP(A458,LongLat!$A$2:$H$292,8,TRUE)","v":37.374789999999997}]
[642.5,"Peters Mt.","3500’","VA","Buchanan",{"$f":"VLOOKUP(A459,LongLat!$A$2:$H$292,7,TRUE)","v":-80.608800000000002},{"$f":"VLOOKUP(A459,LongLat!$A$2:$H$292,8,TRUE)","v":37.422089999999997}]
[642.70000000000005,"Allegheny Trail","n/a","VA","Buchanan",{"$f":"VLOOKUP(A460,LongLat!$A$2:$H$292,7,TRUE)","v":-80.608800000000002},{"$f":"VLOOKUP(A460,LongLat!$A$2:$H$292,8,TRUE)","v":37.422089999999997},"http://www.flickr.com/photos/broken_images/1545044651/"]
[645.20000000000005,"Pine Swamp Branch Shelter (pic)","2530’","VA","Buchanan",{"$f":"VLOOKUP(A461,LongLat!$A$2:$H$292,7,TRUE)","v":-80.577200000000005},{"$f":"VLOOKUP(A461,LongLat!$A$2:$H$292,8,TRUE)","v":37.400860000000002}]
[645.5,"VA 635, Stony Creek Valley","2370’","VA","Buchanan",{"$f":"VLOOKUP(A462,LongLat!$A$2:$H$292,7,TRUE)","v":-80.577200000000005},{"$f":"VLOOKUP(A462,LongLat!$A$2:$H$292,8,TRUE)","v":37.400860000000002},"http://www.flickr.com/photos/2000miler/2558338067/in/set-72157605487933611/"]
[646.6,"Dismal Branch","2480’","VA","Buchanan",{"$f":"VLOOKUP(A463,LongLat!$A$2:$H$292,7,TRUE)","v":-80.577200000000005},{"$f":"VLOOKUP(A463,LongLat!$A$2:$H$292,8,TRUE)","v":37.400860000000002},"http://www.flickr.com/photos/11617481@N00/332732423/"]
[647.6,"VA 635, Stony Creek","2450’","VA","Buchanan",{"$f":"VLOOKUP(A464,LongLat!$A$2:$H$292,7,TRUE)","v":-80.577200000000005},{"$f":"VLOOKUP(A464,LongLat!$A$2:$H$292,8,TRUE)","v":37.400860000000002},"http://www.flickr.com/photos/2000miler/2558338377/in/set-72157605487933611/"]
[648.9,"spring","3490’","VA","Buchanan",{"$f":"VLOOKUP(A465,LongLat!$A$2:$H$292,7,TRUE)","v":-80.577200000000005},{"$f":"VLOOKUP(A465,LongLat!$A$2:$H$292,8,TRUE)","v":37.400860000000002}]
[649.1,"Bailey Gap Shelter (pic)","3525’","VA","Buchanan",{"$f":"VLOOKUP(A466,LongLat!$A$2:$H$292,7,TRUE)","v":-80.577200000000005},{"$f":"VLOOKUP(A466,LongLat!$A$2:$H$292,8,TRUE)","v":37.400860000000002}]
[652.79999999999995,"VA 613","3950’","VA","Buchanan",{"$f":"VLOOKUP(A467,LongLat!$A$2:$H$292,7,TRUE)","v":-80.577200000000005},{"$f":"VLOOKUP(A467,LongLat!$A$2:$H$292,8,TRUE)","v":37.400860000000002},"http://farm4.static.flickr.com/3473/3208129746_889f3113d4.jpg"]
[653,"Wind Rock","4100’","VA","Buchanan",{"$f":"VLOOKUP(A468,LongLat!$A$2:$H$292,7,TRUE)","v":-80.577200000000005},{"$f":"VLOOKUP(A468,LongLat!$A$2:$H$292,8,TRUE)","v":37.400860000000002},"http://www.flickr.com/photos/2000miler/2557930659/in/set-72157605485528373/"]
[654.20000000000005,"campsites","4000’","VA","Buchanan",{"$f":"VLOOKUP(A469,LongLat!$A$2:$H$292,7,TRUE)","v":-80.474000000000004},{"$f":"VLOOKUP(A469,LongLat!$A$2:$H$292,8,TRUE)","v":37.397539999999999}]
[657.9,"War Spur Shelter (pic)","2340’","VA","Buchanan",{"$f":"VLOOKUP(A470,LongLat!$A$2:$H$292,7,TRUE)","v":-80.474000000000004},{"$f":"VLOOKUP(A470,LongLat!$A$2:$H$292,8,TRUE)","v":37.397539999999999}]
[658.7,"USFS 156, Johns Creek Valley","2080’","VA","Buchanan",{"$f":"VLOOKUP(A471,LongLat!$A$2:$H$292,7,TRUE)","v":-80.474000000000004},{"$f":"VLOOKUP(A471,LongLat!$A$2:$H$292,8,TRUE)","v":37.397539999999999},"http://www.flickr.com/photos/2000miler/2558754002/in/set-72157605485528373/"]
[659.7,"stream","2700’","VA","Buchanan",{"$f":"VLOOKUP(A472,LongLat!$A$2:$H$292,7,TRUE)","v":-80.421199999999999},{"$f":"VLOOKUP(A472,LongLat!$A$2:$H$292,8,TRUE)","v":37.358910000000002}]
[660.7,"Rocky Gap, VA 601","3250’","VA","Bland",{"$f":"VLOOKUP(A473,LongLat!$A$2:$H$292,7,TRUE)","v":-80.421199999999999},{"$f":"VLOOKUP(A473,LongLat!$A$2:$H$292,8,TRUE)","v":37.358910000000002},"http://www.flickr.com/photos/2000miler/2558755180/in/set-72157605485528373/"]
[663.7,"Laurel Creek Shelter (pic)","2720’","VA","Bland",{"$f":"VLOOKUP(A474,LongLat!$A$2:$H$292,7,TRUE)","v":-80.421199999999999},{"$f":"VLOOKUP(A474,LongLat!$A$2:$H$292,8,TRUE)","v":37.358910000000002}]
[664.7,"spring","2400’","VA","Bland",{"$f":"VLOOKUP(A475,LongLat!$A$2:$H$292,7,TRUE)","v":-80.421199999999999},{"$f":"VLOOKUP(A475,LongLat!$A$2:$H$292,8,TRUE)","v":37.358910000000002}]
[666.1,"VA 42","2200’","VA","Bland",{"$f":"VLOOKUP(A476,LongLat!$A$2:$H$292,7,TRUE)","v":-80.3352},{"$f":"VLOOKUP(A476,LongLat!$A$2:$H$292,8,TRUE)","v":37.355449999999998}]
[667,"VA 630, Stinking Creek","2100’","VA","Bland",{"$f":"VLOOKUP(A477,LongLat!$A$2:$H$292,7,TRUE)","v":-80.3352},{"$f":"VLOOKUP(A477,LongLat!$A$2:$H$292,8,TRUE)","v":37.355449999999998}]
[667.4,"Keffer Oak","2240’","VA","Bland",{"$f":"VLOOKUP(A478,LongLat!$A$2:$H$292,7,TRUE)","v":-80.3352},{"$f":"VLOOKUP(A478,LongLat!$A$2:$H$292,8,TRUE)","v":37.355449999999998},"http://www.flickr.com/photos/tgaw/2421931216/in/set-72157604591071182/"]
[670.1,"Sarver Hollow Shelter (pic)","3000’","VA","Bland",{"$f":"VLOOKUP(A479,LongLat!$A$2:$H$292,7,TRUE)","v":-80.3352},{"$f":"VLOOKUP(A479,LongLat!$A$2:$H$292,8,TRUE)","v":37.355449999999998}]
[673.7,"Stinking Creek Mt.","3450’","VA","Bland",{"$f":"VLOOKUP(A480,LongLat!$A$2:$H$292,7,TRUE)","v":-80.264399999999995},{"$f":"VLOOKUP(A480,LongLat!$A$2:$H$292,8,TRUE)","v":37.38749},"http://www.flickr.com/photos/tgaw/3357764299/"]
[675.4,"Cabin Branch","2490’","VA","Bland",{"$f":"VLOOKUP(A481,LongLat!$A$2:$H$292,7,TRUE)","v":-80.264399999999995},{"$f":"VLOOKUP(A481,LongLat!$A$2:$H$292,8,TRUE)","v":37.38749}]
[676.1,"Niday Shelter (pic)","1800’","VA","Bland",{"$f":"VLOOKUP(A482,LongLat!$A$2:$H$292,7,TRUE)","v":-80.264399999999995},{"$f":"VLOOKUP(A482,LongLat!$A$2:$H$292,8,TRUE)","v":37.38749}]
[677.4,"VA 621, Craig Creek Valley","1540’","VA","Bland",{"$f":"VLOOKUP(A483,LongLat!$A$2:$H$292,7,TRUE)","v":-80.264399999999995},{"$f":"VLOOKUP(A483,LongLat!$A$2:$H$292,8,TRUE)","v":37.38749}]
[681.2,"Audie Murphy Monument","3100’","VA","Roanoke",{"$f":"VLOOKUP(A484,LongLat!$A$2:$H$292,7,TRUE)","v":-80.264399999999995},{"$f":"VLOOKUP(A484,LongLat!$A$2:$H$292,8,TRUE)","v":37.38749},"http://www.panoramio.com/photo/5999580"]
[685,"VA 620, Trout Creek","1525’","VA","Roanoke",{"$f":"VLOOKUP(A485,LongLat!$A$2:$H$292,7,TRUE)","v":-80.191100000000006},{"$f":"VLOOKUP(A485,LongLat!$A$2:$H$292,8,TRUE)","v":37.388100000000001},"http://www.flickr.com/photos/2000miler/605226515/in/set-72157600452577964/"]
[686.2,"Pickle Branch Shelter (pic)","1845’","VA","Roanoke",{"$f":"VLOOKUP(A486,LongLat!$A$2:$H$292,7,TRUE)","v":-80.191100000000006},{"$f":"VLOOKUP(A486,LongLat!$A$2:$H$292,8,TRUE)","v":37.388100000000001},"http://images112.fotki.com/v1071/photos/1/1255226/5659180/050427-vi.jpg"]
[690.4,"Cove Mt, Dragons Tooth","3020’","VA","Roanoke",{"$f":"VLOOKUP(A487,LongLat!$A$2:$H$292,7,TRUE)","v":-80.191100000000006},{"$f":"VLOOKUP(A487,LongLat!$A$2:$H$292,8,TRUE)","v":37.388100000000001},"http://picasaweb.google.com/getathike/ATVirginia"]
[691.4,"Lost Spectacles Gap","2550’","VA","Roanoke",{"$f":"VLOOKUP(A488,LongLat!$A$2:$H$292,7,TRUE)","v":-80.191100000000006},{"$f":"VLOOKUP(A488,LongLat!$A$2:$H$292,8,TRUE)","v":37.388100000000001}]
[691.9,"Rawies Rest","2350’","VA","Roanoke",{"$f":"VLOOKUP(A489,LongLat!$A$2:$H$292,7,TRUE)","v":-80.191100000000006},{"$f":"VLOOKUP(A489,LongLat!$A$2:$H$292,8,TRUE)","v":37.388100000000001}]
[692.9,"VA 624, North Mt. Trail","1810’","VA","Roanoke",{"$f":"VLOOKUP(A490,LongLat!$A$2:$H$292,7,TRUE)","v":-80.191100000000006},{"$f":"VLOOKUP(A490,LongLat!$A$2:$H$292,8,TRUE)","v":37.388100000000001},"http://doc.dartmouth.edu/mw/images/6/6f/VA6242.jpg"]
[694.5,"VA 785","1790’","VA","Roanoke",{"$f":"VLOOKUP(A491,LongLat!$A$2:$H$292,7,TRUE)","v":-80.191100000000006},{"$f":"VLOOKUP(A491,LongLat!$A$2:$H$292,8,TRUE)","v":37.388100000000001},"http://www.flickr.com/photos/2000miler/605306416/in/set-72157600452577964/"]
[698.8,"VA 311, Catawba, VA","1990’","VA","Roanoke",{"$f":"VLOOKUP(A492,LongLat!$A$2:$H$292,7,TRUE)","v":-80.057400000000001},{"$f":"VLOOKUP(A492,LongLat!$A$2:$H$292,8,TRUE)","v":37.388199999999998},"http://www.flickr.com/photos/2000miler/605032181/in/set-72157600452577964/"]
[699.8,"Johns Spring Shelter (pic)","1980’","VA","Roanoke",{"$f":"VLOOKUP(A493,LongLat!$A$2:$H$292,7,TRUE)","v":-80.029499999999999},{"$f":"VLOOKUP(A493,LongLat!$A$2:$H$292,8,TRUE)","v":37.390790000000003},"http://www.virginiaplaces.org/parktour/graphics/johnsspringshelter.jpg"]
[700.8,"Catawba Mt. Shelter (pic)","2580’","VA","Roanoke",{"$f":"VLOOKUP(A494,LongLat!$A$2:$H$292,7,TRUE)","v":-80.029499999999999},{"$f":"VLOOKUP(A494,LongLat!$A$2:$H$292,8,TRUE)","v":37.390790000000003}]
[702.5,"McAfee Knob","3197’","VA","Roanoke",{"$f":"VLOOKUP(A495,LongLat!$A$2:$H$292,7,TRUE)","v":-80.029499999999999},{"$f":"VLOOKUP(A495,LongLat!$A$2:$H$292,8,TRUE)","v":37.390790000000003}]
[703.1,"Pig Farm Campsite","3000’","VA","Roanoke",{"$f":"VLOOKUP(A496,LongLat!$A$2:$H$292,7,TRUE)","v":-80.029499999999999},{"$f":"VLOOKUP(A496,LongLat!$A$2:$H$292,8,TRUE)","v":37.390790000000003}]
[703.2,"Campbell Shelter (pic)","2580’","VA","Roanoke",{"$f":"VLOOKUP(A497,LongLat!$A$2:$H$292,7,TRUE)","v":-80.029499999999999},{"$f":"VLOOKUP(A497,LongLat!$A$2:$H$292,8,TRUE)","v":37.390790000000003},"http://farm4.static.flickr.com/3062/3024816069_c365d717f2.jpg"]
[706.3,"Brickey’s Gap","2250’","VA","Roanoke",{"$f":"VLOOKUP(A498,LongLat!$A$2:$H$292,7,TRUE)","v":-79.987799999999993},{"$f":"VLOOKUP(A498,LongLat!$A$2:$H$292,8,TRUE)","v":37.434559999999998},"http://www.flickr.com/photos/2000miler/604713933/in/set-72157600452577964/"]
[708.1,"Tinker Cliffs","3000’","VA","Roanoke",{"$f":"VLOOKUP(A499,LongLat!$A$2:$H$292,7,TRUE)","v":-79.987799999999993},{"$f":"VLOOKUP(A499,LongLat!$A$2:$H$292,8,TRUE)","v":37.434559999999998},"http://www.summitpost.org/image/589956/280069/tinker-cliffs-view.html"]
[708.6,"Scorched Earth Gap","2600’","VA","Roanoke",{"$f":"VLOOKUP(A500,LongLat!$A$2:$H$292,7,TRUE)","v":-79.987799999999993},{"$f":"VLOOKUP(A500,LongLat!$A$2:$H$292,8,TRUE)","v":37.434559999999998},"http://www.flickr.com/photos/98576553@N00/2237789367"]
[709.2,"Lamberts Meadow Shelter (pic)","2080’","VA","Roanoke",{"$f":"VLOOKUP(A501,LongLat!$A$2:$H$292,7,TRUE)","v":-79.987799999999993},{"$f":"VLOOKUP(A501,LongLat!$A$2:$H$292,8,TRUE)","v":37.434559999999998},"http://www.imrisk.com/blueridge/P6100116_br.JPG"]
[709.5,"Lamberts Meadow Campsite","2000’","VA","Roanoke",{"$f":"VLOOKUP(A502,LongLat!$A$2:$H$292,7,TRUE)","v":-79.987799999999993},{"$f":"VLOOKUP(A502,LongLat!$A$2:$H$292,8,TRUE)","v":37.434559999999998}]
[713.5,"Angels Gap","1800’","VA","Roanoke",{"$f":"VLOOKUP(A503,LongLat!$A$2:$H$292,7,TRUE)","v":-79.987799999999993},{"$f":"VLOOKUP(A503,LongLat!$A$2:$H$292,8,TRUE)","v":37.434559999999998},"http://www.flickr.com/photos/2000miler/604450880/in/set-72157600452577964/"]
[714.6,"Hay Rock, Tinker Ridge","1900’","VA","Roanoke",{"$f":"VLOOKUP(A504,LongLat!$A$2:$H$292,7,TRUE)","v":-79.987799999999993},{"$f":"VLOOKUP(A504,LongLat!$A$2:$H$292,8,TRUE)","v":37.434559999999998},"http://www.flickr.com/photos/2000miler/604450834/in/set-72157600452577964/"]
[718.1,"Tinker Creek","1165’","VA","Roanoke",{"$f":"VLOOKUP(A505,LongLat!$A$2:$H$292,7,TRUE)","v":-79.987799999999993},{"$f":"VLOOKUP(A505,LongLat!$A$2:$H$292,8,TRUE)","v":37.434559999999998}]
[718.6,"US 220","1350’","VA","Roanoke",{"$f":"VLOOKUP(A506,LongLat!$A$2:$H$292,7,TRUE)","v":-79.987799999999993},{"$f":"VLOOKUP(A506,LongLat!$A$2:$H$292,8,TRUE)","v":37.434559999999998}]
[719.8,"I-81 Crossing","1400’","VA","Roanoke",{"$f":"VLOOKUP(A507,LongLat!$A$2:$H$292,7,TRUE)","v":-79.853899999999996},{"$f":"VLOOKUP(A507,LongLat!$A$2:$H$292,8,TRUE)","v":37.398470000000003}]
[720.1,"US 11","1300’","VA","Roanoke",{"$f":"VLOOKUP(A508,LongLat!$A$2:$H$292,7,TRUE)","v":-79.853899999999996},{"$f":"VLOOKUP(A508,LongLat!$A$2:$H$292,8,TRUE)","v":37.398470000000003},"http://www.panoramio.com/photo/5999516"]
[720.7,"VA 652","1450’","VA","Roanoke",{"$f":"VLOOKUP(A509,LongLat!$A$2:$H$292,7,TRUE)","v":-79.853899999999996},{"$f":"VLOOKUP(A509,LongLat!$A$2:$H$292,8,TRUE)","v":37.398470000000003},"http://purebound.com/AT/virginia_central/VA652_AT_sign.jpg"]
[723.6,"Fullhardt Knob Shelter (pic)","2670’","VA","Botetourt",{"$f":"VLOOKUP(A510,LongLat!$A$2:$H$292,7,TRUE)","v":-79.853899999999996},{"$f":"VLOOKUP(A510,LongLat!$A$2:$H$292,8,TRUE)","v":37.398470000000003},"http://images112.fotki.com/v1067/photos/1/1255226/5659180/050620-vi.jpg"]
[726.4,"USFS 191 (Salt Pond Rd.)","2260’","VA","Botetourt",{"$f":"VLOOKUP(A511,LongLat!$A$2:$H$292,7,TRUE)","v":-79.785700000000006},{"$f":"VLOOKUP(A511,LongLat!$A$2:$H$292,8,TRUE)","v":37.419260000000001}]
[727.2,"Curry Creek","1680’","VA","Botetourt",{"$f":"VLOOKUP(A512,LongLat!$A$2:$H$292,7,TRUE)","v":-79.785700000000006},{"$f":"VLOOKUP(A512,LongLat!$A$2:$H$292,8,TRUE)","v":37.419260000000001}]
[729.1,"Wilson Creek","1690’","VA","Botetourt",{"$f":"VLOOKUP(A513,LongLat!$A$2:$H$292,7,TRUE)","v":-79.785700000000006},{"$f":"VLOOKUP(A513,LongLat!$A$2:$H$292,8,TRUE)","v":37.419260000000001},"http://www.flickr.com/photos/2000miler/603662101/in/set-72157600452577964/"]
[729.8,"Wilson Creek Shelter (pic)","1830’","VA","Botetourt",{"$f":"VLOOKUP(A514,LongLat!$A$2:$H$292,7,TRUE)","v":-79.785700000000006},{"$f":"VLOOKUP(A514,LongLat!$A$2:$H$292,8,TRUE)","v":37.419260000000001},"http://www.ragtag.org/at0402gs.jpg"]
[730.2,"spring","2050’","VA","Botetourt",{"$f":"VLOOKUP(A515,LongLat!$A$2:$H$292,7,TRUE)","v":-79.785700000000006},{"$f":"VLOOKUP(A515,LongLat!$A$2:$H$292,8,TRUE)","v":37.419260000000001}]
[732.2,"Blackhorse Gap, BRP","2402’","VA","Bedford",{"$f":"VLOOKUP(A516,LongLat!$A$2:$H$292,7,TRUE)","v":-79.785700000000006},{"$f":"VLOOKUP(A516,LongLat!$A$2:$H$292,8,TRUE)","v":37.419260000000001}]
[733,"Taylors Mt. Overlook, BRP","2350’","VA","Bedford",{"$f":"VLOOKUP(A517,LongLat!$A$2:$H$292,7,TRUE)","v":-79.701400000000007},{"$f":"VLOOKUP(A517,LongLat!$A$2:$H$292,8,TRUE)","v":37.467199999999998}]
[734.1,"Montvale Overlook, BRP","2400’","VA","Bedford",{"$f":"VLOOKUP(A518,LongLat!$A$2:$H$292,7,TRUE)","v":-79.701400000000007},{"$f":"VLOOKUP(A518,LongLat!$A$2:$H$292,8,TRUE)","v":37.467199999999998},"http://i227.photobucket.com/albums/dd66/CraigCreekRider/Blue Ridge Parkway Area/Aug 9 2008 Ride Spec Mine and Glenwood/100_3421.jpg"]
[734.7,"Harveys Knob Overlook, BRP","2550’","VA","Bedford",{"$f":"VLOOKUP(A519,LongLat!$A$2:$H$292,7,TRUE)","v":-79.701400000000007},{"$f":"VLOOKUP(A519,LongLat!$A$2:$H$292,8,TRUE)","v":37.467199999999998},"http://www.flickr.com/photos/mineral2/3079687891/"]
[737.1,"Bobblets Gap Shelter","1920’","VA","Bedford",{"$f":"VLOOKUP(A520,LongLat!$A$2:$H$292,7,TRUE)","v":-79.701400000000007},{"$f":"VLOOKUP(A520,LongLat!$A$2:$H$292,8,TRUE)","v":37.467199999999998},"http://www.cs.utk.edu/~dunigan/at/m.php?wpt=BobbletsG"]
[737.8,"Sharp Top Overlook, BRP","2350’","VA","Bedford",{"$f":"VLOOKUP(A521,LongLat!$A$2:$H$292,7,TRUE)","v":-79.701400000000007},{"$f":"VLOOKUP(A521,LongLat!$A$2:$H$292,8,TRUE)","v":37.467199999999998},"http://www.flickr.com/photos/mineral2/3079684775/"]
[738.5,"Mills Gap Overlook, BRP","2450’","VA","Bedford",{"$f":"VLOOKUP(A522,LongLat!$A$2:$H$292,7,TRUE)","v":-79.701400000000007},{"$f":"VLOOKUP(A522,LongLat!$A$2:$H$292,8,TRUE)","v":37.467199999999998}]
[740.3,"Bearwallow Gap, VA 43","2228’","VA","Bedford",{"$f":"VLOOKUP(A523,LongLat!$A$2:$H$292,7,TRUE)","v":-79.6511},{"$f":"VLOOKUP(A523,LongLat!$A$2:$H$292,8,TRUE)","v":37.511710000000001}]
[741.7,"Cove Mt.","2720’","VA","Bedford",{"$f":"VLOOKUP(A524,LongLat!$A$2:$H$292,7,TRUE)","v":-79.6511},{"$f":"VLOOKUP(A524,LongLat!$A$2:$H$292,8,TRUE)","v":37.511710000000001}]
[742.1,"Little Cove Mt. Trail","2600’","VA","Bedford",{"$f":"VLOOKUP(A525,LongLat!$A$2:$H$292,7,TRUE)","v":-79.6511},{"$f":"VLOOKUP(A525,LongLat!$A$2:$H$292,8,TRUE)","v":37.511710000000001}]
[743.5,"Cove Mt. Shelter (pic)","1925’","VA","Bedford",{"$f":"VLOOKUP(A526,LongLat!$A$2:$H$292,7,TRUE)","v":-79.6511},{"$f":"VLOOKUP(A526,LongLat!$A$2:$H$292,8,TRUE)","v":37.511710000000001}]
[745.2,"Buchanan Trail","1790’","VA","Bedford",{"$f":"VLOOKUP(A527,LongLat!$A$2:$H$292,7,TRUE)","v":-79.6511},{"$f":"VLOOKUP(A527,LongLat!$A$2:$H$292,8,TRUE)","v":37.511710000000001}]
[746.7,"VA 614, Jennings Creek","951’","VA","Bedford",{"$f":"VLOOKUP(A528,LongLat!$A$2:$H$292,7,TRUE)","v":-79.585599999999999},{"$f":"VLOOKUP(A528,LongLat!$A$2:$H$292,8,TRUE)","v":37.53004},"http://www.swimmingholes.org/VAJEN31.jpg"]
[748.3,"Fork Mt.","2042’","VA","Bedford",{"$f":"VLOOKUP(A529,LongLat!$A$2:$H$292,7,TRUE)","v":-79.585599999999999},{"$f":"VLOOKUP(A529,LongLat!$A$2:$H$292,8,TRUE)","v":37.53004},"http://www.flickr.com/photos/2000miler/603320422/in/set-72157600452577964/"]
[750.4,"Bryant Ridge Shelter (pic)","1320’","VA","Bedford",{"$f":"VLOOKUP(A530,LongLat!$A$2:$H$292,7,TRUE)","v":-79.585599999999999},{"$f":"VLOOKUP(A530,LongLat!$A$2:$H$292,8,TRUE)","v":37.53004}]
[754.8,"Floyd Mt.","3560’","VA","Bedford",{"$f":"VLOOKUP(A531,LongLat!$A$2:$H$292,7,TRUE)","v":-79.547200000000004},{"$f":"VLOOKUP(A531,LongLat!$A$2:$H$292,8,TRUE)","v":37.49391}]
[755.4,"Cornelius Creek Shelter (pic)","3145’","VA","Bedford",{"$f":"VLOOKUP(A532,LongLat!$A$2:$H$292,7,TRUE)","v":-79.547200000000004},{"$f":"VLOOKUP(A532,LongLat!$A$2:$H$292,8,TRUE)","v":37.49391},"http://www.panoramio.com/photo/11274451"]
[756.3,"Black Rock","3450’","VA","Bedford",{"$f":"VLOOKUP(A533,LongLat!$A$2:$H$292,7,TRUE)","v":-79.547200000000004},{"$f":"VLOOKUP(A533,LongLat!$A$2:$H$292,8,TRUE)","v":37.49391},"http://www.flickr.com/photos/31286567@N03/3526009662/"]
[758,"Apple Orchard Falls Trail","3250’","VA","Bedford",{"$f":"VLOOKUP(A534,LongLat!$A$2:$H$292,7,TRUE)","v":-79.504199999999997},{"$f":"VLOOKUP(A534,LongLat!$A$2:$H$292,8,TRUE)","v":37.527380000000001},"http://www.summitpost.org/image/469960/469959/apple-orchard-falls.html"]
[759.5,"Apple Orchard Mt.","4225’","VA","Bedford",{"$f":"VLOOKUP(A535,LongLat!$A$2:$H$292,7,TRUE)","v":-79.504199999999997},{"$f":"VLOOKUP(A535,LongLat!$A$2:$H$292,8,TRUE)","v":37.527380000000001},"http://www.summitpost.org/mountain/rock/469959/apple-orchard-mountain.html"]
[759.8,"The Guillotine","4090’","VA","Buckingham",{"$f":"VLOOKUP(A536,LongLat!$A$2:$H$292,7,TRUE)","v":-79.504199999999997},{"$f":"VLOOKUP(A536,LongLat!$A$2:$H$292,8,TRUE)","v":37.527380000000001}]
[760.4,"Upper BRP mp 76.3","3900’","VA","Buckingham",{"$f":"VLOOKUP(A537,LongLat!$A$2:$H$292,7,TRUE)","v":-79.504199999999997},{"$f":"VLOOKUP(A537,LongLat!$A$2:$H$292,8,TRUE)","v":37.527380000000001}]
[760.7,"Thunder Hill Shelter (pic)","3960’","VA","Buckingham",{"$f":"VLOOKUP(A538,LongLat!$A$2:$H$292,7,TRUE)","v":-79.504199999999997},{"$f":"VLOOKUP(A538,LongLat!$A$2:$H$292,8,TRUE)","v":37.527380000000001},"http://1.bp.blogspot.com/_F-i_aUsLFAU/SpNFVWHi3NI/AAAAAAAAEXk/x-AJZa6EuGc/s400/82209+016.jpg"]
[761.7,"Lower BRP mp 74.9","3650’","VA","Buckingham",{"$f":"VLOOKUP(A539,LongLat!$A$2:$H$292,7,TRUE)","v":-79.504199999999997},{"$f":"VLOOKUP(A539,LongLat!$A$2:$H$292,8,TRUE)","v":37.527380000000001}]
[762.1,"Thunder Ridge Overlook, BRP","3501’","VA","Buckingham",{"$f":"VLOOKUP(A540,LongLat!$A$2:$H$292,7,TRUE)","v":-79.504199999999997},{"$f":"VLOOKUP(A540,LongLat!$A$2:$H$292,8,TRUE)","v":37.527380000000001}]
[764,"Harrison Ground Spring","3200’","VA","Buckingham",{"$f":"VLOOKUP(A541,LongLat!$A$2:$H$292,7,TRUE)","v":-79.504199999999997},{"$f":"VLOOKUP(A541,LongLat!$A$2:$H$292,8,TRUE)","v":37.527380000000001}]
[765.4,"Petites Gap, USFS 35 ","2369’","VA","Buckingham",{"$f":"VLOOKUP(A542,LongLat!$A$2:$H$292,7,TRUE)","v":-79.504199999999997},{"$f":"VLOOKUP(A542,LongLat!$A$2:$H$292,8,TRUE)","v":37.527380000000001}]
[766.6,"High Cock Knob","3073’","VA","Buckingham",{"$f":"VLOOKUP(A543,LongLat!$A$2:$H$292,7,TRUE)","v":-79.504199999999997},{"$f":"VLOOKUP(A543,LongLat!$A$2:$H$292,8,TRUE)","v":37.527380000000001},"http://www.flickr.com/photos/31286567@N03/3525174771/"]
[767.6,"Marble Spring","2290’","VA","Buckingham",{"$f":"VLOOKUP(A544,LongLat!$A$2:$H$292,7,TRUE)","v":-79.504199999999997},{"$f":"VLOOKUP(A544,LongLat!$A$2:$H$292,8,TRUE)","v":37.527380000000001},"http://img.groundspeak.com/waymarking/display/c232ca1e-d57d-4c3c-8547-d30441311203.JPG"]
[768.1,"Sulphur Spring Trail","2400’","VA","Buckingham",{"$f":"VLOOKUP(A545,LongLat!$A$2:$H$292,7,TRUE)","v":-79.504199999999997},{"$f":"VLOOKUP(A545,LongLat!$A$2:$H$292,8,TRUE)","v":37.527380000000001}]
[769.9,"Belfast Trail, Hickory Stand","2650’","VA","Buckingham",{"$f":"VLOOKUP(A546,LongLat!$A$2:$H$292,7,TRUE)","v":-79.413499999999999},{"$f":"VLOOKUP(A546,LongLat!$A$2:$H$292,8,TRUE)","v":37.599449999999997}]
[770.4,"Sulphur Spring Trail","2588’","VA","Buckingham",{"$f":"VLOOKUP(A547,LongLat!$A$2:$H$292,7,TRUE)","v":-79.413499999999999},{"$f":"VLOOKUP(A547,LongLat!$A$2:$H$292,8,TRUE)","v":37.599449999999997}]
[771.2,"Big Cove Branch","1890’","VA","Buckingham",{"$f":"VLOOKUP(A548,LongLat!$A$2:$H$292,7,TRUE)","v":-79.413499999999999},{"$f":"VLOOKUP(A548,LongLat!$A$2:$H$292,8,TRUE)","v":37.599449999999997}]
[773.1,"Matts Creek Shelter (pic)","835’","VA","Buckingham",{"$f":"VLOOKUP(A549,LongLat!$A$2:$H$292,7,TRUE)","v":-79.392099999999999},{"$f":"VLOOKUP(A549,LongLat!$A$2:$H$292,8,TRUE)","v":37.613},"http://maryland.sierraclub.org/HC/pictures/2008/04/20080419-jnf12.jpg"]
[773.9,"campsite","700’","VA","Buckingham",{"$f":"VLOOKUP(A550,LongLat!$A$2:$H$292,7,TRUE)","v":-79.392099999999999},{"$f":"VLOOKUP(A550,LongLat!$A$2:$H$292,8,TRUE)","v":37.613}]
[775.1,"James River foot bridge","678’","VA","Buckingham",{"$f":"VLOOKUP(A551,LongLat!$A$2:$H$292,7,TRUE)","v":-79.392099999999999},{"$f":"VLOOKUP(A551,LongLat!$A$2:$H$292,8,TRUE)","v":37.613},"http://www.panoramio.com/photo/18775990"]
[775.3,"US 501/VA 130","680’","VA","Floyd",{"$f":"VLOOKUP(A552,LongLat!$A$2:$H$292,7,TRUE)","v":-79.392099999999999},{"$f":"VLOOKUP(A552,LongLat!$A$2:$H$292,8,TRUE)","v":37.613}]
[775.4,"Lower Rocky Row Run bridge","670’","VA","Floyd",{"$f":"VLOOKUP(A553,LongLat!$A$2:$H$292,7,TRUE)","v":-79.392099999999999},{"$f":"VLOOKUP(A553,LongLat!$A$2:$H$292,8,TRUE)","v":37.613}]
[776.3,"Rocky Row Run","760’","VA","Floyd",{"$f":"VLOOKUP(A554,LongLat!$A$2:$H$292,7,TRUE)","v":-79.392099999999999},{"$f":"VLOOKUP(A554,LongLat!$A$2:$H$292,8,TRUE)","v":37.613},"http://maryland.sierraclub.org/hc/pictures/2008/04/20080419-jnf25.jpg"]
[776.4,"VA 812/USFS 36","825’","VA","Floyd",{"$f":"VLOOKUP(A555,LongLat!$A$2:$H$292,7,TRUE)","v":-79.392099999999999},{"$f":"VLOOKUP(A555,LongLat!$A$2:$H$292,8,TRUE)","v":37.613}]
[777,"Johns Hollow Shelter (pic)","1020’","VA","Floyd",{"$f":"VLOOKUP(A556,LongLat!$A$2:$H$292,7,TRUE)","v":-79.392099999999999},{"$f":"VLOOKUP(A556,LongLat!$A$2:$H$292,8,TRUE)","v":37.613}]
[779,"Rocky Row Trail","2400’","VA","Floyd",{"$f":"VLOOKUP(A557,LongLat!$A$2:$H$292,7,TRUE)","v":-79.392099999999999},{"$f":"VLOOKUP(A557,LongLat!$A$2:$H$292,8,TRUE)","v":37.613},"http://maryland.sierraclub.org/hc/pictures/2008/04/20080419-jnf27.jpg"]
[779.1,"Fullers Rocks","2472’","VA","Floyd",{"$f":"VLOOKUP(A558,LongLat!$A$2:$H$292,7,TRUE)","v":-79.392099999999999},{"$f":"VLOOKUP(A558,LongLat!$A$2:$H$292,8,TRUE)","v":37.613},"http://www.flickr.com/photos/xrahy/2512701788/"]
[780.1,"Big Rocky Row","2992’","VA","Floyd",{"$f":"VLOOKUP(A559,LongLat!$A$2:$H$292,7,TRUE)","v":-79.392099999999999},{"$f":"VLOOKUP(A559,LongLat!$A$2:$H$292,8,TRUE)","v":37.613}]
[781.6,"Saddle Gap","2600’","VA","Floyd",{"$f":"VLOOKUP(A560,LongLat!$A$2:$H$292,7,TRUE)","v":-79.338800000000006},{"$f":"VLOOKUP(A560,LongLat!$A$2:$H$292,8,TRUE)","v":37.677750000000003}]
[782.7,"Saltlog Gap","2573’","VA","Amherst",{"$f":"VLOOKUP(A561,LongLat!$A$2:$H$292,7,TRUE)","v":-79.338800000000006},{"$f":"VLOOKUP(A561,LongLat!$A$2:$H$292,8,TRUE)","v":37.677750000000003}]
[784.2,"Bluff Mt.","3372’","VA","Amherst",{"$f":"VLOOKUP(A562,LongLat!$A$2:$H$292,7,TRUE)","v":-79.338800000000006},{"$f":"VLOOKUP(A562,LongLat!$A$2:$H$292,8,TRUE)","v":37.677750000000003}]
[785.3,"Punchbowl Mt.","2850’","VA","Amherst",{"$f":"VLOOKUP(A563,LongLat!$A$2:$H$292,7,TRUE)","v":-79.338800000000006},{"$f":"VLOOKUP(A563,LongLat!$A$2:$H$292,8,TRUE)","v":37.677750000000003}]
[785.8,"Punchbowl Shelter (pic)","2500’","VA","Amherst",{"$f":"VLOOKUP(A564,LongLat!$A$2:$H$292,7,TRUE)","v":-79.338800000000006},{"$f":"VLOOKUP(A564,LongLat!$A$2:$H$292,8,TRUE)","v":37.677750000000003}]
[786.2,"Punchbowl Mt. Crossing, BRP","2170’","VA","Amherst",{"$f":"VLOOKUP(A565,LongLat!$A$2:$H$292,7,TRUE)","v":-79.338800000000006},{"$f":"VLOOKUP(A565,LongLat!$A$2:$H$292,8,TRUE)","v":37.677750000000003}]
[786.5,"VA 607 (Robinson Gap Rd.)","2100’","VA","Amherst",{"$f":"VLOOKUP(A566,LongLat!$A$2:$H$292,7,TRUE)","v":-79.338800000000006},{"$f":"VLOOKUP(A566,LongLat!$A$2:$H$292,8,TRUE)","v":37.677750000000003}]
[788.4,"Rice Mt.","2228’","VA","Amherst",{"$f":"VLOOKUP(A567,LongLat!$A$2:$H$292,7,TRUE)","v":-79.338800000000006},{"$f":"VLOOKUP(A567,LongLat!$A$2:$H$292,8,TRUE)","v":37.677750000000003}]
[790.3,"USFS 39, Pedlar River","990’","VA","Amherst",{"$f":"VLOOKUP(A568,LongLat!$A$2:$H$292,7,TRUE)","v":-79.338800000000006},{"$f":"VLOOKUP(A568,LongLat!$A$2:$H$292,8,TRUE)","v":37.677750000000003},"http://www.flickr.com/photos/ideonexus/3776313923/in/set-72157621908814496/"]
[793.3,"Pedlar Lake Rd.","1000’","VA","Amherst",{"$f":"VLOOKUP(A569,LongLat!$A$2:$H$292,7,TRUE)","v":-79.268199999999993},{"$f":"VLOOKUP(A569,LongLat!$A$2:$H$292,8,TRUE)","v":37.710230000000003},"http://www.flickr.com/photos/ideonexus/3776263165/in/set-72157621908814496/"]
[795.3,"Brown Mt. Creek Shelter (pic)","1395’","VA","Amherst",{"$f":"VLOOKUP(A570,LongLat!$A$2:$H$292,7,TRUE)","v":-79.268199999999993},{"$f":"VLOOKUP(A570,LongLat!$A$2:$H$292,8,TRUE)","v":37.710230000000003}]
[797.1,"US 60","2065’","VA","Amherst",{"$f":"VLOOKUP(A571,LongLat!$A$2:$H$292,7,TRUE)","v":-79.213300000000004},{"$f":"VLOOKUP(A571,LongLat!$A$2:$H$292,8,TRUE)","v":37.74662}]
[799.9,"Bald Knob","4059’","VA","Amherst",{"$f":"VLOOKUP(A572,LongLat!$A$2:$H$292,7,TRUE)","v":-79.213300000000004},{"$f":"VLOOKUP(A572,LongLat!$A$2:$H$292,8,TRUE)","v":37.74662},"http://www.panoramio.com/photo/6642309"]
[800.9,"Cow Camp Gap Shelter (pic)","3160’","VA","Amherst",{"$f":"VLOOKUP(A573,LongLat!$A$2:$H$292,7,TRUE)","v":-79.213300000000004},{"$f":"VLOOKUP(A573,LongLat!$A$2:$H$292,8,TRUE)","v":37.74662}]
[802.1,"Cold Mt.","4022’","VA","Amherst",{"$f":"VLOOKUP(A574,LongLat!$A$2:$H$292,7,TRUE)","v":-79.213300000000004},{"$f":"VLOOKUP(A574,LongLat!$A$2:$H$292,8,TRUE)","v":37.74662},"http://www.flickr.com/photos/gafoto/2745241388/"]
[803.4,"Hog Camp Gap, USFS 48","3485’","VA","Amherst",{"$f":"VLOOKUP(A575,LongLat!$A$2:$H$292,7,TRUE)","v":-79.213300000000004},{"$f":"VLOOKUP(A575,LongLat!$A$2:$H$292,8,TRUE)","v":37.74662}]
[804.3,"Tar Jacket Ridge","3847’","VA","Amherst",{"$f":"VLOOKUP(A576,LongLat!$A$2:$H$292,7,TRUE)","v":-79.213300000000004},{"$f":"VLOOKUP(A576,LongLat!$A$2:$H$292,8,TRUE)","v":37.74662},"http://maryland.sierraclub.org/hc/pictures/2006/07/20060715-TarJacket.jpg"]
[805.6,"Salt Log Gap, USFS 63","3257’","VA","Nelson",{"$f":"VLOOKUP(A577,LongLat!$A$2:$H$292,7,TRUE)","v":-79.213300000000004},{"$f":"VLOOKUP(A577,LongLat!$A$2:$H$292,8,TRUE)","v":37.74662}]
[806.8,"USFS 246","3500’","VA","Nelson",{"$f":"VLOOKUP(A578,LongLat!$A$2:$H$292,7,TRUE)","v":-79.155100000000004},{"$f":"VLOOKUP(A578,LongLat!$A$2:$H$292,8,TRUE)","v":37.818930000000002}]
[807.3,"Greasy Spring Rd.","3600’","VA","Nelson",{"$f":"VLOOKUP(A579,LongLat!$A$2:$H$292,7,TRUE)","v":-79.155100000000004},{"$f":"VLOOKUP(A579,LongLat!$A$2:$H$292,8,TRUE)","v":37.818930000000002}]
[809.2,"North Fork of Piney River","3500’","VA","Nelson",{"$f":"VLOOKUP(A580,LongLat!$A$2:$H$292,7,TRUE)","v":-79.155100000000004},{"$f":"VLOOKUP(A580,LongLat!$A$2:$H$292,8,TRUE)","v":37.818930000000002}]
[810.4,"Elk Pond Branch","3750’","VA","Nelson",{"$f":"VLOOKUP(A581,LongLat!$A$2:$H$292,7,TRUE)","v":-79.155100000000004},{"$f":"VLOOKUP(A581,LongLat!$A$2:$H$292,8,TRUE)","v":37.818930000000002}]
[811.1,"Seeley-Woodworth Shelter (pic)","3770’","VA","Nelson",{"$f":"VLOOKUP(A582,LongLat!$A$2:$H$292,7,TRUE)","v":-79.155100000000004},{"$f":"VLOOKUP(A582,LongLat!$A$2:$H$292,8,TRUE)","v":37.818930000000002}]
[812.2,"Porters Field","3650’","VA","Nelson",{"$f":"VLOOKUP(A583,LongLat!$A$2:$H$292,7,TRUE)","v":-79.155100000000004},{"$f":"VLOOKUP(A583,LongLat!$A$2:$H$292,8,TRUE)","v":37.818930000000002}]
[813.4,"Spy Rock Rd.","3454’","VA","Nelson",{"$f":"VLOOKUP(A584,LongLat!$A$2:$H$292,7,TRUE)","v":-79.155100000000004},{"$f":"VLOOKUP(A584,LongLat!$A$2:$H$292,8,TRUE)","v":37.818930000000002}]
[813.9,"Spy Rock","3680’","VA","Nelson",{"$f":"VLOOKUP(A585,LongLat!$A$2:$H$292,7,TRUE)","v":-79.070599999999999},{"$f":"VLOOKUP(A585,LongLat!$A$2:$H$292,8,TRUE)","v":37.817749999999997},"http://www.personal.psu.edu/sdb210/pictures/spy_rock.jpg"]
[814.2,"Main Top Mt.","4040’","VA","Nelson",{"$f":"VLOOKUP(A586,LongLat!$A$2:$H$292,7,TRUE)","v":-79.070599999999999},{"$f":"VLOOKUP(A586,LongLat!$A$2:$H$292,8,TRUE)","v":37.817749999999997},"http://www.summitpost.org/mountain/rock/243195/maintop-mountain.html"]
[815,"Cash Hollow Rock","3550’","VA","Nelson",{"$f":"VLOOKUP(A587,LongLat!$A$2:$H$292,7,TRUE)","v":-79.070599999999999},{"$f":"VLOOKUP(A587,LongLat!$A$2:$H$292,8,TRUE)","v":37.817749999999997}]
[816.3,"Cash Hollow Rd.","3280’","VA","Nelson",{"$f":"VLOOKUP(A588,LongLat!$A$2:$H$292,7,TRUE)","v":-79.070599999999999},{"$f":"VLOOKUP(A588,LongLat!$A$2:$H$292,8,TRUE)","v":37.817749999999997}]
[817.1,"VA 826, Crabtree Falls Trail","3350’","VA","Nelson",{"$f":"VLOOKUP(A589,LongLat!$A$2:$H$292,7,TRUE)","v":-79.070599999999999},{"$f":"VLOOKUP(A589,LongLat!$A$2:$H$292,8,TRUE)","v":37.817749999999997},"http://www.summitpost.org/parent/207534/crabtree-falls.html"]
[818,"The Priest Shelter (pic)","3840’","VA","Nelson",{"$f":"VLOOKUP(A590,LongLat!$A$2:$H$292,7,TRUE)","v":-79.070599999999999},{"$f":"VLOOKUP(A590,LongLat!$A$2:$H$292,8,TRUE)","v":37.817749999999997},"http://farm4.static.flickr.com/3074/3012650914_f7a49d63fb.jpg"]
[818.5,"The Priest","4063’","VA","Nelson",{"$f":"VLOOKUP(A591,LongLat!$A$2:$H$292,7,TRUE)","v":-79.070599999999999},{"$f":"VLOOKUP(A591,LongLat!$A$2:$H$292,8,TRUE)","v":37.817749999999997},"http://www.summitpost.org/mountain/rock/213382/the-priest.html"]
[821.5,"Cripple Creek","1800’","VA","Nelson",{"$f":"VLOOKUP(A592,LongLat!$A$2:$H$292,7,TRUE)","v":-79.001199999999997},{"$f":"VLOOKUP(A592,LongLat!$A$2:$H$292,8,TRUE)","v":37.856409999999997},"http://purebound.com/AT/virginia_central/cripple_creek_bridge.jpg"]
[822.8,"Tye River, VA 56","970’","VA","Nelson",{"$f":"VLOOKUP(A593,LongLat!$A$2:$H$292,7,TRUE)","v":-79.001199999999997},{"$f":"VLOOKUP(A593,LongLat!$A$2:$H$292,8,TRUE)","v":37.856409999999997},"http://www.flickr.com/photos/marklarson/662095474/in/set-72157600553114109/"]
[824.5,"Mau-Har Trail","2090’","VA","Nelson",{"$f":"VLOOKUP(A594,LongLat!$A$2:$H$292,7,TRUE)","v":-79.001199999999997},{"$f":"VLOOKUP(A594,LongLat!$A$2:$H$292,8,TRUE)","v":37.856409999999997}]
[825.5,"Harpers Creek Shelter (pic)","1800’","VA","Nelson",{"$f":"VLOOKUP(A595,LongLat!$A$2:$H$292,7,TRUE)","v":-79.001199999999997},{"$f":"VLOOKUP(A595,LongLat!$A$2:$H$292,8,TRUE)","v":37.856409999999997},"http://www.panoramio.com/photo/8705408"]
[827.5,"Chimney Rocks","3190’","VA","Nelson",{"$f":"VLOOKUP(A596,LongLat!$A$2:$H$292,7,TRUE)","v":-78.993899999999996},{"$f":"VLOOKUP(A596,LongLat!$A$2:$H$292,8,TRUE)","v":37.884880000000003}]
[828.8,"Three Ridges","3870’","VA","Nelson",{"$f":"VLOOKUP(A597,LongLat!$A$2:$H$292,7,TRUE)","v":-78.993899999999996},{"$f":"VLOOKUP(A597,LongLat!$A$2:$H$292,8,TRUE)","v":37.884880000000003},"http://www.summitpost.org/mountain/rock/271355/three-ridges.html"]
[829.7,"Hanging Rock Vista","3750’","VA","Nelson",{"$f":"VLOOKUP(A598,LongLat!$A$2:$H$292,7,TRUE)","v":-78.993899999999996},{"$f":"VLOOKUP(A598,LongLat!$A$2:$H$292,8,TRUE)","v":37.884880000000003}]
[831.7,"Maupin Field Shelter (pic)","2720’","VA","Nelson",{"$f":"VLOOKUP(A599,LongLat!$A$2:$H$292,7,TRUE)","v":-78.993899999999996},{"$f":"VLOOKUP(A599,LongLat!$A$2:$H$292,8,TRUE)","v":37.884880000000003},"http://www.panoramio.com/photo/8691649"]
[833.4,"Reeds Gap, VA 664","2650’","VA","Nelson",{"$f":"VLOOKUP(A600,LongLat!$A$2:$H$292,7,TRUE)","v":-78.993899999999996},{"$f":"VLOOKUP(A600,LongLat!$A$2:$H$292,8,TRUE)","v":37.884880000000003},"http://www.hikingupward.com/GWNF/ThreeRidges/images/042107/P4210001.jpg"]
[833.9,"Three Ridges Overlook, BRP","2700’","VA","Nelson",{"$f":"VLOOKUP(A601,LongLat!$A$2:$H$292,7,TRUE)","v":-78.993899999999996},{"$f":"VLOOKUP(A601,LongLat!$A$2:$H$292,8,TRUE)","v":37.884880000000003},"http://www.flickr.com/photos/oriolefan/1692908308/"]
[837.7,"Cedar Cliffs","2800’","VA","Nelson",{"$f":"VLOOKUP(A602,LongLat!$A$2:$H$292,7,TRUE)","v":-78.993899999999996},{"$f":"VLOOKUP(A602,LongLat!$A$2:$H$292,8,TRUE)","v":37.884880000000003},"http://www.hikingupward.com/GWNF/Wintergreen/images/040409/DSC05070.jpg"]
[838.2,"Dripping Rock Parking Area, BRP","2950’","VA","Nelson",{"$f":"VLOOKUP(A603,LongLat!$A$2:$H$292,7,TRUE)","v":-78.993899999999996},{"$f":"VLOOKUP(A603,LongLat!$A$2:$H$292,8,TRUE)","v":37.884880000000003},"http://www.hikingupward.com/GWNF/Wintergreen/images/040409/DSC04946.jpg"]
[841,"Humpback Mt.","3250’","VA","Nelson",{"$f":"VLOOKUP(A604,LongLat!$A$2:$H$292,7,TRUE)","v":-78.993899999999996},{"$f":"VLOOKUP(A604,LongLat!$A$2:$H$292,8,TRUE)","v":37.884880000000003}]
[842,"Humpback Rocks side trail","n/a","VA","Nelson",{"$f":"VLOOKUP(A605,LongLat!$A$2:$H$292,7,TRUE)","v":-78.993899999999996},{"$f":"VLOOKUP(A605,LongLat!$A$2:$H$292,8,TRUE)","v":37.884880000000003},"http://www.summitpost.org/mountain/rock/154703/humpback-rocks.html"]
[843.5,"Bear Spring","3200’","VA","Nelson",{"$f":"VLOOKUP(A606,LongLat!$A$2:$H$292,7,TRUE)","v":-78.883899999999997},{"$f":"VLOOKUP(A606,LongLat!$A$2:$H$292,8,TRUE)","v":37.985639999999997}]
[845.7,"Glass Hollow Overlook","2750’","VA","Nelson",{"$f":"VLOOKUP(A607,LongLat!$A$2:$H$292,7,TRUE)","v":-78.883899999999997},{"$f":"VLOOKUP(A607,LongLat!$A$2:$H$292,8,TRUE)","v":37.985639999999997},"http://www.flickr.com/photos/carobe/58617235/in/set-1267888/"]
[846,"Humpback Visitors Center trail","2150’","VA","Nelson",{"$f":"VLOOKUP(A608,LongLat!$A$2:$H$292,7,TRUE)","v":-78.883899999999997},{"$f":"VLOOKUP(A608,LongLat!$A$2:$H$292,8,TRUE)","v":37.985639999999997},"http://www.summitpost.org/image/127172/154703/-humpback-rocks-from-the.html"]
[847.5,"Paul C. Wolfe Shelter (pic)","1700’","VA","Nelson",{"$f":"VLOOKUP(A609,LongLat!$A$2:$H$292,7,TRUE)","v":-78.883899999999997},{"$f":"VLOOKUP(A609,LongLat!$A$2:$H$292,8,TRUE)","v":37.985639999999997}]
[852.5,"Rockfish Gap, I-64","1902’","VA","Nelson",{"$f":"VLOOKUP(A610,LongLat!$A$2:$H$292,7,TRUE)","v":-78.883899999999997},{"$f":"VLOOKUP(A610,LongLat!$A$2:$H$292,8,TRUE)","v":37.985639999999997},"http://en.wikipedia.org/wiki/File:Rockfish_Gap_November_2009.jpg"]
[852.7,"Skyline Drive (SD)","1902’","VA","Shenandoah",{"$f":"VLOOKUP(A611,LongLat!$A$2:$H$292,7,TRUE)","v":-78.883899999999997},{"$f":"VLOOKUP(A611,LongLat!$A$2:$H$292,8,TRUE)","v":37.985639999999997},"http://www.nps.gov/shen/planyourvisit/driving-skyline-drive.htm"]
[853.2,"Shenandoah NP kiosk","2200’","VA","Shenandoah",{"$f":"VLOOKUP(A612,LongLat!$A$2:$H$292,7,TRUE)","v":-78.883899999999997},{"$f":"VLOOKUP(A612,LongLat!$A$2:$H$292,8,TRUE)","v":37.985639999999997}]
[856.1,"McCormick Gap, SD","2450’","VA","Shenandoah",{"$f":"VLOOKUP(A613,LongLat!$A$2:$H$292,7,TRUE)","v":-78.786799999999999},{"$f":"VLOOKUP(A613,LongLat!$A$2:$H$292,8,TRUE)","v":38.085520000000002},"http://www.panoramio.com/photo/15200542"]
[857.4,"Bear Den Mt.","2885’","VA","Shenandoah",{"$f":"VLOOKUP(A614,LongLat!$A$2:$H$292,7,TRUE)","v":-78.786799999999999},{"$f":"VLOOKUP(A614,LongLat!$A$2:$H$292,8,TRUE)","v":38.085520000000002},"http://www.summitpost.org/mountain/rock/238499/bear-den-mountain.html"]
[857.9,"Beagle Gap, SD","2550’","VA","Shenandoah",{"$f":"VLOOKUP(A615,LongLat!$A$2:$H$292,7,TRUE)","v":-78.786799999999999},{"$f":"VLOOKUP(A615,LongLat!$A$2:$H$292,8,TRUE)","v":38.085520000000002}]
[859.4,"Calf Mt. Shelter (pic)","2700’","VA","Shenandoah",{"$f":"VLOOKUP(A616,LongLat!$A$2:$H$292,7,TRUE)","v":-78.786799999999999},{"$f":"VLOOKUP(A616,LongLat!$A$2:$H$292,8,TRUE)","v":38.085520000000002},"http://farm4.static.flickr.com/3018/3090370947_f28095eb0b.jpg?v=0"]
[860,"spring","2200’","VA","Shenandoah",{"$f":"VLOOKUP(A617,LongLat!$A$2:$H$292,7,TRUE)","v":-78.786799999999999},{"$f":"VLOOKUP(A617,LongLat!$A$2:$H$292,8,TRUE)","v":38.085520000000002}]
[860.4,"Shenandoah NP south boundary","2250’","VA","Shenandoah",{"$f":"VLOOKUP(A618,LongLat!$A$2:$H$292,7,TRUE)","v":-78.786799999999999},{"$f":"VLOOKUP(A618,LongLat!$A$2:$H$292,8,TRUE)","v":38.085520000000002}]
[860.6,"spring","2150’","VA","Page",{"$f":"VLOOKUP(A619,LongLat!$A$2:$H$292,7,TRUE)","v":-78.786799999999999},{"$f":"VLOOKUP(A619,LongLat!$A$2:$H$292,8,TRUE)","v":38.085520000000002}]
[862.2,"Sawmill Run Overlook, SD","2200’","VA","Page",{"$f":"VLOOKUP(A620,LongLat!$A$2:$H$292,7,TRUE)","v":-78.786799999999999},{"$f":"VLOOKUP(A620,LongLat!$A$2:$H$292,8,TRUE)","v":38.085520000000002},"http://www.panoramio.com/photo/15200564"]
[863.8,"Turk Gap, SD","2600’","VA","Page",{"$f":"VLOOKUP(A621,LongLat!$A$2:$H$292,7,TRUE)","v":-78.786799999999999},{"$f":"VLOOKUP(A621,LongLat!$A$2:$H$292,8,TRUE)","v":38.085520000000002},"http://www.hikingupward.com/SNP/TurkMountain/images/122308/DSC04425.jpg"]
[865.8,"Skyline Drive mp 92.4","3100’","VA","Page",{"$f":"VLOOKUP(A622,LongLat!$A$2:$H$292,7,TRUE)","v":-78.786799999999999},{"$f":"VLOOKUP(A622,LongLat!$A$2:$H$292,8,TRUE)","v":38.085520000000002}]
[869.9,"Skyline Drive mp 88.9","2350’","VA","Page",{"$f":"VLOOKUP(A623,LongLat!$A$2:$H$292,7,TRUE)","v":-78.742699999999999},{"$f":"VLOOKUP(A623,LongLat!$A$2:$H$292,8,TRUE)","v":38.214080000000003}]
[871.9,"Blackrock Gap, SD","2321’","VA","Page",{"$f":"VLOOKUP(A624,LongLat!$A$2:$H$292,7,TRUE)","v":-78.742699999999999},{"$f":"VLOOKUP(A624,LongLat!$A$2:$H$292,8,TRUE)","v":38.214080000000003}]
[872.4,"Blackrock Hut (pic)","2645’","VA","Page",{"$f":"VLOOKUP(A625,LongLat!$A$2:$H$292,7,TRUE)","v":-78.742699999999999},{"$f":"VLOOKUP(A625,LongLat!$A$2:$H$292,8,TRUE)","v":38.214080000000003}]
[873,"Blackrock","3100’","VA","Page",{"$f":"VLOOKUP(A626,LongLat!$A$2:$H$292,7,TRUE)","v":-78.742699999999999},{"$f":"VLOOKUP(A626,LongLat!$A$2:$H$292,8,TRUE)","v":38.214080000000003},"http://www.summitpost.org/mountain/rock/154137/blackrock.html"]
[874,"Skyline Drive mp 84.3","2800’","VA","Page",{"$f":"VLOOKUP(A627,LongLat!$A$2:$H$292,7,TRUE)","v":-78.742699999999999},{"$f":"VLOOKUP(A627,LongLat!$A$2:$H$292,8,TRUE)","v":38.214080000000003}]
[875.5,"Browns Gap, SD","2600’","VA","Page",{"$f":"VLOOKUP(A628,LongLat!$A$2:$H$292,7,TRUE)","v":-78.742699999999999},{"$f":"VLOOKUP(A628,LongLat!$A$2:$H$292,8,TRUE)","v":38.214080000000003},"http://www.hikingupward.com/SNP/AustinFurnaceMountains/images/062108/P6210001.jpg"]
[876.4,"Skyline Drive mp 82.2","2800’","VA","Page",{"$f":"VLOOKUP(A629,LongLat!$A$2:$H$292,7,TRUE)","v":-78.742699999999999},{"$f":"VLOOKUP(A629,LongLat!$A$2:$H$292,8,TRUE)","v":38.214080000000003}]
[876.8,"Doyles River Overlook, SD","2800’","VA","Page",{"$f":"VLOOKUP(A630,LongLat!$A$2:$H$292,7,TRUE)","v":-78.742699999999999},{"$f":"VLOOKUP(A630,LongLat!$A$2:$H$292,8,TRUE)","v":38.214080000000003}]
[877.7,"Doyles River Cabin, SD","2900’","VA","Page",{"$f":"VLOOKUP(A631,LongLat!$A$2:$H$292,7,TRUE)","v":-78.742699999999999},{"$f":"VLOOKUP(A631,LongLat!$A$2:$H$292,8,TRUE)","v":38.214080000000003},"http://www.flickr.com/photos/ryaninva/3044280075/"]
[879.8,"Loft Mt. Campground","3300’","VA","Greene",{"$f":"VLOOKUP(A632,LongLat!$A$2:$H$292,7,TRUE)","v":-78.742699999999999},{"$f":"VLOOKUP(A632,LongLat!$A$2:$H$292,8,TRUE)","v":38.214080000000003}]
[880.9,"Frazier Discovery Trail","2950’","VA","Greene",{"$f":"VLOOKUP(A633,LongLat!$A$2:$H$292,7,TRUE)","v":-78.742699999999999},{"$f":"VLOOKUP(A633,LongLat!$A$2:$H$292,8,TRUE)","v":38.214080000000003}]
[881.6,"Loft Mt.","3200’","VA","Greene",{"$f":"VLOOKUP(A634,LongLat!$A$2:$H$292,7,TRUE)","v":-78.646000000000001},{"$f":"VLOOKUP(A634,LongLat!$A$2:$H$292,8,TRUE)","v":38.290550000000003},"http://www.summitpost.org/image/313578/239448/at-near-loft-mtn.html"]
[881.9,"spring","2950’","VA","Greene",{"$f":"VLOOKUP(A635,LongLat!$A$2:$H$292,7,TRUE)","v":-78.646000000000001},{"$f":"VLOOKUP(A635,LongLat!$A$2:$H$292,8,TRUE)","v":38.290550000000003}]
[884,"Ivy Creek Overlook, SD","2800’","VA","Greene",{"$f":"VLOOKUP(A636,LongLat!$A$2:$H$292,7,TRUE)","v":-78.646000000000001},{"$f":"VLOOKUP(A636,LongLat!$A$2:$H$292,8,TRUE)","v":38.290550000000003}]
[885.6,"Pinefield Hut (pic)","2430’","VA","Greene",{"$f":"VLOOKUP(A637,LongLat!$A$2:$H$292,7,TRUE)","v":-78.646000000000001},{"$f":"VLOOKUP(A637,LongLat!$A$2:$H$292,8,TRUE)","v":38.290550000000003},"http://www.swarpa.net/~danforth/graphics/pinefield2000.jpg"]
[885.8,"Pinefield Gap, SD","2590’","VA","Greene",{"$f":"VLOOKUP(A638,LongLat!$A$2:$H$292,7,TRUE)","v":-78.646000000000001},{"$f":"VLOOKUP(A638,LongLat!$A$2:$H$292,8,TRUE)","v":38.290550000000003}]
[887.7,"Simmons Gap, SD","2250’","VA","Greene",{"$f":"VLOOKUP(A639,LongLat!$A$2:$H$292,7,TRUE)","v":-78.646000000000001},{"$f":"VLOOKUP(A639,LongLat!$A$2:$H$292,8,TRUE)","v":38.290550000000003}]
[891,"Powell Gap, SD","2294’","VA","Greene",{"$f":"VLOOKUP(A640,LongLat!$A$2:$H$292,7,TRUE)","v":-78.558599999999998},{"$f":"VLOOKUP(A640,LongLat!$A$2:$H$292,8,TRUE)","v":38.333039999999997},"http://www.flickr.com/photos/broken_images/1545844379/"]
[891.4,"Little Roundtop Mt.","2700’","VA","Greene",{"$f":"VLOOKUP(A641,LongLat!$A$2:$H$292,7,TRUE)","v":-78.558599999999998},{"$f":"VLOOKUP(A641,LongLat!$A$2:$H$292,8,TRUE)","v":38.333039999999997},"http://walkingnorth.files.wordpress.com/2008/07/img_1854-e-medium2.jpg"]
[892.6,"Smith Roach Gap, SD","2600’","VA","Greene",{"$f":"VLOOKUP(A642,LongLat!$A$2:$H$292,7,TRUE)","v":-78.558599999999998},{"$f":"VLOOKUP(A642,LongLat!$A$2:$H$292,8,TRUE)","v":38.333039999999997},"http://www.flickr.com/photos/rasudduth/2969838385/"]
[893.8,"Hightop Hut (pic)","3175’","VA","Greene",{"$f":"VLOOKUP(A643,LongLat!$A$2:$H$292,7,TRUE)","v":-78.558599999999998},{"$f":"VLOOKUP(A643,LongLat!$A$2:$H$292,8,TRUE)","v":38.333039999999997},"http://farm3.static.flickr.com/2043/2179453942_d14a7450b9.jpg?v=0"]
[894.3,"spring","3450’","VA","Greene",{"$f":"VLOOKUP(A644,LongLat!$A$2:$H$292,7,TRUE)","v":-78.558599999999998},{"$f":"VLOOKUP(A644,LongLat!$A$2:$H$292,8,TRUE)","v":38.333039999999997}]
[894.4,"Hightop","3587’","VA","Greene",{"$f":"VLOOKUP(A645,LongLat!$A$2:$H$292,7,TRUE)","v":-78.558599999999998},{"$f":"VLOOKUP(A645,LongLat!$A$2:$H$292,8,TRUE)","v":38.333039999999997},"http://www.summitpost.org/mountain/rock/153448/hightop.html"]
[895.9,"Skyline Drive mp 66.7","2650’","VA","Greene",{"$f":"VLOOKUP(A646,LongLat!$A$2:$H$292,7,TRUE)","v":-78.558599999999998},{"$f":"VLOOKUP(A646,LongLat!$A$2:$H$292,8,TRUE)","v":38.333039999999997}]
[897.2,"Swift Run Gap, SD","2367’","VA","Greene",{"$f":"VLOOKUP(A647,LongLat!$A$2:$H$292,7,TRUE)","v":-78.558599999999998},{"$f":"VLOOKUP(A647,LongLat!$A$2:$H$292,8,TRUE)","v":38.333039999999997}]
[900.2,"South River Picnic Grounds","3200’","VA","Greene",{"$f":"VLOOKUP(A648,LongLat!$A$2:$H$292,7,TRUE)","v":-78.558599999999998},{"$f":"VLOOKUP(A648,LongLat!$A$2:$H$292,8,TRUE)","v":38.333039999999997}]
[903.6,"Pocosin Cabin","3150’","VA","Greene",{"$f":"VLOOKUP(A649,LongLat!$A$2:$H$292,7,TRUE)","v":-78.470699999999994},{"$f":"VLOOKUP(A649,LongLat!$A$2:$H$292,8,TRUE)","v":38.44408}]
[903.7,"spring","3100’","VA","Madison",{"$f":"VLOOKUP(A650,LongLat!$A$2:$H$292,7,TRUE)","v":-78.470699999999994},{"$f":"VLOOKUP(A650,LongLat!$A$2:$H$292,8,TRUE)","v":38.44408}]
[905.5,"Lewis Mt. Campground","3500’","VA","Madison",{"$f":"VLOOKUP(A651,LongLat!$A$2:$H$292,7,TRUE)","v":-78.470699999999994},{"$f":"VLOOKUP(A651,LongLat!$A$2:$H$292,8,TRUE)","v":38.44408},"http://www.nps.gov/shen/planyourvisit/campgrounds.htm"]
[906.2,"Bearfence Mt. Hut (pic)","3110’","VA","Madison",{"$f":"VLOOKUP(A652,LongLat!$A$2:$H$292,7,TRUE)","v":-78.470699999999994},{"$f":"VLOOKUP(A652,LongLat!$A$2:$H$292,8,TRUE)","v":38.44408},"http://www.swarpa.net/~danforth/graphics/bearfence.jpg"]
[908.8,"Bootens Gap, SD","3243’","VA","Madison",{"$f":"VLOOKUP(A653,LongLat!$A$2:$H$292,7,TRUE)","v":-78.470699999999994},{"$f":"VLOOKUP(A653,LongLat!$A$2:$H$292,8,TRUE)","v":38.44408}]
[909.7,"Hazeltop","3812’","VA","Madison",{"$f":"VLOOKUP(A654,LongLat!$A$2:$H$292,7,TRUE)","v":-78.470699999999994},{"$f":"VLOOKUP(A654,LongLat!$A$2:$H$292,8,TRUE)","v":38.44408},"http://www.summitpost.org/mountain/rock/152777/hazeltop.html"]
[911.6,"Milam Gap, SD","3300’","VA","Madison",{"$f":"VLOOKUP(A655,LongLat!$A$2:$H$292,7,TRUE)","v":-78.470699999999994},{"$f":"VLOOKUP(A655,LongLat!$A$2:$H$292,8,TRUE)","v":38.44408},"http://picasaweb.google.com/lh/photo/wopqwdCXMyEwfV3jWMEqKg"]
[912.5,"spring","3380’","VA","Madison",{"$f":"VLOOKUP(A656,LongLat!$A$2:$H$292,7,TRUE)","v":-78.470699999999994},{"$f":"VLOOKUP(A656,LongLat!$A$2:$H$292,8,TRUE)","v":38.44408}]
[913.3,"Big Meadows Wayside","3390’","VA","Madison",{"$f":"VLOOKUP(A657,LongLat!$A$2:$H$292,7,TRUE)","v":-78.470699999999994},{"$f":"VLOOKUP(A657,LongLat!$A$2:$H$292,8,TRUE)","v":38.44408},"http://www.summitpost.org/mountain/rock/230710/blackrock-big-meadows.html"]
[914.2,"Big Meadows Lodge","3500’","VA","Madison",{"$f":"VLOOKUP(A658,LongLat!$A$2:$H$292,7,TRUE)","v":-78.408600000000007},{"$f":"VLOOKUP(A658,LongLat!$A$2:$H$292,8,TRUE)","v":38.553069999999998},"http://www.visitshenandoah.com/"]
[914.8,"David Spring","3490’","VA","Madison",{"$f":"VLOOKUP(A659,LongLat!$A$2:$H$292,7,TRUE)","v":-78.408600000000007},{"$f":"VLOOKUP(A659,LongLat!$A$2:$H$292,8,TRUE)","v":38.553069999999998}]
[915.8,"Fishers Gap, SD","3050’","VA","Madison",{"$f":"VLOOKUP(A660,LongLat!$A$2:$H$292,7,TRUE)","v":-78.408600000000007},{"$f":"VLOOKUP(A660,LongLat!$A$2:$H$292,8,TRUE)","v":38.553069999999998}]
[917.7,"Rock Spring Hut (pic)","3465’","VA","Page",{"$f":"VLOOKUP(A661,LongLat!$A$2:$H$292,7,TRUE)","v":-78.408600000000007},{"$f":"VLOOKUP(A661,LongLat!$A$2:$H$292,8,TRUE)","v":38.553069999999998},"http://farm1.static.flickr.com/23/25885700_9d6f2964fc.jpg"]
[918,"Hawksbill Trail","3600’","VA","Page",{"$f":"VLOOKUP(A662,LongLat!$A$2:$H$292,7,TRUE)","v":-78.408600000000007},{"$f":"VLOOKUP(A662,LongLat!$A$2:$H$292,8,TRUE)","v":38.553069999999998},"http://www.summitpost.org/mountain/rock/151584/hawksbill.html"]
[919,"Hawksbill Gap, SD","3361’","VA","Page",{"$f":"VLOOKUP(A663,LongLat!$A$2:$H$292,7,TRUE)","v":-78.408600000000007},{"$f":"VLOOKUP(A663,LongLat!$A$2:$H$292,8,TRUE)","v":38.553069999999998},"http://www.flickr.com/photos/82906348@N00/44899913"]
[919.4,"Crescent Rock Overlook, SD","3450’","VA","Page",{"$f":"VLOOKUP(A664,LongLat!$A$2:$H$292,7,TRUE)","v":-78.408600000000007},{"$f":"VLOOKUP(A664,LongLat!$A$2:$H$292,8,TRUE)","v":38.553069999999998},"http://www.flickr.com/photos/jmhouse/1600555101"]
[921.5,"Skyland Service Rd. (south)","3550’","VA","Rappahannock",{"$f":"VLOOKUP(A665,LongLat!$A$2:$H$292,7,TRUE)","v":-78.408600000000007},{"$f":"VLOOKUP(A665,LongLat!$A$2:$H$292,8,TRUE)","v":38.553069999999998}]
[922.3,"Skyland Service Rd. (north)","3790’","VA","Rappahannock",{"$f":"VLOOKUP(A666,LongLat!$A$2:$H$292,7,TRUE)","v":-78.408600000000007},{"$f":"VLOOKUP(A666,LongLat!$A$2:$H$292,8,TRUE)","v":38.553069999999998}]
[922.7,"Stony Man Summit Trail","3847’","VA","Rappahannock",{"$f":"VLOOKUP(A667,LongLat!$A$2:$H$292,7,TRUE)","v":-78.408600000000007},{"$f":"VLOOKUP(A667,LongLat!$A$2:$H$292,8,TRUE)","v":38.553069999999998},"http://www.summitpost.org/mountain/rock/151574/stony-man.html"]
[924.3,"Hughes River Gap, SD","3097’","VA","Rappahannock",{"$f":"VLOOKUP(A668,LongLat!$A$2:$H$292,7,TRUE)","v":-78.408600000000007},{"$f":"VLOOKUP(A668,LongLat!$A$2:$H$292,8,TRUE)","v":38.553069999999998},"http://www.panoramio.com/photo/4502404"]
[926.5,"Pinnacles Picnic Ground","3390’","VA","Rappahannock",{"$f":"VLOOKUP(A669,LongLat!$A$2:$H$292,7,TRUE)","v":-78.408600000000007},{"$f":"VLOOKUP(A669,LongLat!$A$2:$H$292,8,TRUE)","v":38.553069999999998}]
[926.6,"Jewell Hollow Overlook, SD","3350’","VA","Rappahannock",{"$f":"VLOOKUP(A670,LongLat!$A$2:$H$292,7,TRUE)","v":-78.408600000000007},{"$f":"VLOOKUP(A670,LongLat!$A$2:$H$292,8,TRUE)","v":38.553069999999998}]
[927.6,"The Pinnacle","3730’","VA","Rappahannock",{"$f":"VLOOKUP(A671,LongLat!$A$2:$H$292,7,TRUE)","v":-78.408600000000007},{"$f":"VLOOKUP(A671,LongLat!$A$2:$H$292,8,TRUE)","v":38.553069999999998},"http://www.summitpost.org/mountain/rock/153912/the-pinnacle.html"]
[928.6,"Byrds Nest #3 Hut (pic)","3290’","VA","Rappahannock",{"$f":"VLOOKUP(A672,LongLat!$A$2:$H$292,7,TRUE)","v":-78.408600000000007},{"$f":"VLOOKUP(A672,LongLat!$A$2:$H$292,8,TRUE)","v":38.553069999999998}]
[929.3,"Meadow Spring","3100’","VA","Rappahannock",{"$f":"VLOOKUP(A673,LongLat!$A$2:$H$292,7,TRUE)","v":-78.319199999999995},{"$f":"VLOOKUP(A673,LongLat!$A$2:$H$292,8,TRUE)","v":38.676569999999998},"http://www.summitpost.org/route/397514/Meadow-Spring-Trail-to-App-Trail.html"]
[929.9,"Marys Rock","3514’","VA","Rappahannock",{"$f":"VLOOKUP(A674,LongLat!$A$2:$H$292,7,TRUE)","v":-78.319199999999995},{"$f":"VLOOKUP(A674,LongLat!$A$2:$H$292,8,TRUE)","v":38.676569999999998},"http://www.summitpost.org/mountain/rock/151984/mary-s-rock.html"]
[931.8,"Thornton Gap, SD","2307’","VA","Loudon",{"$f":"VLOOKUP(A675,LongLat!$A$2:$H$292,7,TRUE)","v":-78.319199999999995},{"$f":"VLOOKUP(A675,LongLat!$A$2:$H$292,8,TRUE)","v":38.676569999999998}]
[933,"Pass Mt. Hut (pic)","2690’","VA","Loudon",{"$f":"VLOOKUP(A676,LongLat!$A$2:$H$292,7,TRUE)","v":-78.319199999999995},{"$f":"VLOOKUP(A676,LongLat!$A$2:$H$292,8,TRUE)","v":38.676569999999998}]
[933.8,"Pass Mt.","3052’","VA","Loudon",{"$f":"VLOOKUP(A677,LongLat!$A$2:$H$292,7,TRUE)","v":-78.319199999999995},{"$f":"VLOOKUP(A677,LongLat!$A$2:$H$292,8,TRUE)","v":38.676569999999998},"http://www.summitpost.org/mountain/rock/153252/pass-mountain.html"]
[935.1,"Beahms Gap, SD","2490’","VA","Loudon",{"$f":"VLOOKUP(A678,LongLat!$A$2:$H$292,7,TRUE)","v":-78.319199999999995},{"$f":"VLOOKUP(A678,LongLat!$A$2:$H$292,8,TRUE)","v":38.676569999999998},"http://z.about.com/d/forestry/1/0/3/l/Skyline_Beahms_Gap.jpg"]
[935.2,"Skyline Drive mp 28.5","2490’","VA","Loudon",{"$f":"VLOOKUP(A679,LongLat!$A$2:$H$292,7,TRUE)","v":-78.319199999999995},{"$f":"VLOOKUP(A679,LongLat!$A$2:$H$292,8,TRUE)","v":38.676569999999998}]
[935.3,"Byrds Nest #4 Picnic Shelter","2600’","VA","Loudon",{"$f":"VLOOKUP(A680,LongLat!$A$2:$H$292,7,TRUE)","v":-78.319199999999995},{"$f":"VLOOKUP(A680,LongLat!$A$2:$H$292,8,TRUE)","v":38.676569999999998}]
[939.9,"spring","2600’","VA","Loudon",{"$f":"VLOOKUP(A681,LongLat!$A$2:$H$292,7,TRUE)","v":-78.319199999999995},{"$f":"VLOOKUP(A681,LongLat!$A$2:$H$292,8,TRUE)","v":38.676569999999998}]
[940.4,"Elkwallow Wayside, SD","2480’","VA","Loudon",{"$f":"VLOOKUP(A682,LongLat!$A$2:$H$292,7,TRUE)","v":-78.319199999999995},{"$f":"VLOOKUP(A682,LongLat!$A$2:$H$292,8,TRUE)","v":38.676569999999998}]
[941.2,"Range View Cabin","2950’","VA","Loudon",{"$f":"VLOOKUP(A683,LongLat!$A$2:$H$292,7,TRUE)","v":-78.319199999999995},{"$f":"VLOOKUP(A683,LongLat!$A$2:$H$292,8,TRUE)","v":38.676569999999998}]
[941.9,"Rattlesnake Point Overlook, SD","3100’","VA","Loudon",{"$f":"VLOOKUP(A684,LongLat!$A$2:$H$292,7,TRUE)","v":-78.319199999999995},{"$f":"VLOOKUP(A684,LongLat!$A$2:$H$292,8,TRUE)","v":38.676569999999998},"http://farm2.static.flickr.com/1236/1418923608_d33e64aa5a.jpg"]
[942.5,"Tuscarora Trail","3400’","VA","Loudon",{"$f":"VLOOKUP(A685,LongLat!$A$2:$H$292,7,TRUE)","v":-78.234499999999997},{"$f":"VLOOKUP(A685,LongLat!$A$2:$H$292,8,TRUE)","v":38.763469999999998}]
[942.9,"Skyline Drive mp 21.1","3350’","VA","Loudon",{"$f":"VLOOKUP(A686,LongLat!$A$2:$H$292,7,TRUE)","v":-78.234499999999997},{"$f":"VLOOKUP(A686,LongLat!$A$2:$H$292,8,TRUE)","v":38.763469999999998}]
[943.1,"Hogback Third Peak","3400’","VA","Loudon",{"$f":"VLOOKUP(A687,LongLat!$A$2:$H$292,7,TRUE)","v":-78.234499999999997},{"$f":"VLOOKUP(A687,LongLat!$A$2:$H$292,8,TRUE)","v":38.763469999999998},"http://www.summitpost.org/mountain/rock/152414/hogback-mountain.html"]
[943.2,"Skyline Drive mp 20.8","3350’","VA","Loudon",{"$f":"VLOOKUP(A688,LongLat!$A$2:$H$292,7,TRUE)","v":-78.234499999999997},{"$f":"VLOOKUP(A688,LongLat!$A$2:$H$292,8,TRUE)","v":38.763469999999998}]
[943.4,"Hogback Second Peak","3475’","VA","Loudon",{"$f":"VLOOKUP(A689,LongLat!$A$2:$H$292,7,TRUE)","v":-78.234499999999997},{"$f":"VLOOKUP(A689,LongLat!$A$2:$H$292,8,TRUE)","v":38.763469999999998},"http://www.summitpost.org/mountain/rock/152414/hogback-mountain.html"]
[943.6,"spring","3250’","VA","Loudon",{"$f":"VLOOKUP(A690,LongLat!$A$2:$H$292,7,TRUE)","v":-78.234499999999997},{"$f":"VLOOKUP(A690,LongLat!$A$2:$H$292,8,TRUE)","v":38.763469999999998}]
[943.7,"Hogback First Peak","3390’","VA","Loudon",{"$f":"VLOOKUP(A691,LongLat!$A$2:$H$292,7,TRUE)","v":-78.234499999999997},{"$f":"VLOOKUP(A691,LongLat!$A$2:$H$292,8,TRUE)","v":38.763469999999998},"http://www.summitpost.org/mountain/rock/152414/hogback-mountain.html"]
[944.3,"Little Hogback Overlook, SD","3000’","VA","Loudon",{"$f":"VLOOKUP(A692,LongLat!$A$2:$H$292,7,TRUE)","v":-78.234499999999997},{"$f":"VLOOKUP(A692,LongLat!$A$2:$H$292,8,TRUE)","v":38.763469999999998}]
[944.5,"Little Hogback Mt.","3050’","VA","Loudon",{"$f":"VLOOKUP(A693,LongLat!$A$2:$H$292,7,TRUE)","v":-78.234499999999997},{"$f":"VLOOKUP(A693,LongLat!$A$2:$H$292,8,TRUE)","v":38.763469999999998},"http://virginiatrails.files.wordpress.com/2009/06/mom-on-little-hog.jpg"]
[945,"Skyline Drive mp 18.9","2850’","VA","Frederick",{"$f":"VLOOKUP(A694,LongLat!$A$2:$H$292,7,TRUE)","v":-78.234499999999997},{"$f":"VLOOKUP(A694,LongLat!$A$2:$H$292,8,TRUE)","v":38.763469999999998}]
[946.1,"Gravel Springs Hut (pic)","2480’","VA","Frederick",{"$f":"VLOOKUP(A695,LongLat!$A$2:$H$292,7,TRUE)","v":-78.234499999999997},{"$f":"VLOOKUP(A695,LongLat!$A$2:$H$292,8,TRUE)","v":38.763469999999998}]
[946.3,"Gravel Springs Gap,SD","2666’","VA","Frederick",{"$f":"VLOOKUP(A696,LongLat!$A$2:$H$292,7,TRUE)","v":-78.234499999999997},{"$f":"VLOOKUP(A696,LongLat!$A$2:$H$292,8,TRUE)","v":38.763469999999998},"http://www.summitpost.org/parent/160966/gravel-springs-gap.html"]
[947.4,"South Marshall Mt.","3212’","VA","Rappahannock",{"$f":"VLOOKUP(A697,LongLat!$A$2:$H$292,7,TRUE)","v":-78.234499999999997},{"$f":"VLOOKUP(A697,LongLat!$A$2:$H$292,8,TRUE)","v":38.763469999999998},"http://www.summitpost.org/mountain/rock/152410/mount-marshall-north-south-marshall.html"]
[947.9,"Skyline Drive mp 15.9","3050’","VA","Rappahannock",{"$f":"VLOOKUP(A698,LongLat!$A$2:$H$292,7,TRUE)","v":-78.234499999999997},{"$f":"VLOOKUP(A698,LongLat!$A$2:$H$292,8,TRUE)","v":38.763469999999998}]
[948.6,"North Marshall Mt.","3368’","VA","Rappahannock",{"$f":"VLOOKUP(A699,LongLat!$A$2:$H$292,7,TRUE)","v":-78.234499999999997},{"$f":"VLOOKUP(A699,LongLat!$A$2:$H$292,8,TRUE)","v":38.763469999999998},"http://www.summitpost.org/mountain/rock/152410/mount-marshall-north-south-marshall.html"]
[949.5,"Hogwallow Spring","2950’","VA","Rappahannock",{"$f":"VLOOKUP(A700,LongLat!$A$2:$H$292,7,TRUE)","v":-78.234499999999997},{"$f":"VLOOKUP(A700,LongLat!$A$2:$H$292,8,TRUE)","v":38.763469999999998}]
[950.1,"Hogwallow Gap, SD","2739’","VA","Rappahannock",{"$f":"VLOOKUP(A701,LongLat!$A$2:$H$292,7,TRUE)","v":-78.234499999999997},{"$f":"VLOOKUP(A701,LongLat!$A$2:$H$292,8,TRUE)","v":38.763469999999998}]
[951.8,"Jenkins Gap, SD","2400’","VA","Fauquier",{"$f":"VLOOKUP(A702,LongLat!$A$2:$H$292,7,TRUE)","v":-78.234499999999997},{"$f":"VLOOKUP(A702,LongLat!$A$2:$H$292,8,TRUE)","v":38.763469999999998},"http://www.wunderground.com/data/wximagenew/r/Robbles/23.jpg"]
[952.7,"Compton Springs","2700’","VA","Fauquier",{"$f":"VLOOKUP(A703,LongLat!$A$2:$H$292,7,TRUE)","v":-78.163899999999998},{"$f":"VLOOKUP(A703,LongLat!$A$2:$H$292,8,TRUE)","v":38.850389999999997}]
[953.1,"Compton Peak","2909’","VA","Fauquier",{"$f":"VLOOKUP(A704,LongLat!$A$2:$H$292,7,TRUE)","v":-78.163899999999998},{"$f":"VLOOKUP(A704,LongLat!$A$2:$H$292,8,TRUE)","v":38.850389999999997},"http://www.summitpost.org/mountain/rock/153626/compton-peak.html"]
[953.9,"Compton Gap, BRP","2550’","VA","Fauquier",{"$f":"VLOOKUP(A705,LongLat!$A$2:$H$292,7,TRUE)","v":-78.163899999999998},{"$f":"VLOOKUP(A705,LongLat!$A$2:$H$292,8,TRUE)","v":38.850389999999997}]
[954.1,"Indian Run Spring","2350’","VA","Fauquier",{"$f":"VLOOKUP(A706,LongLat!$A$2:$H$292,7,TRUE)","v":-78.163899999999998},{"$f":"VLOOKUP(A706,LongLat!$A$2:$H$292,8,TRUE)","v":38.850389999999997}]
[955.6,"Shenandoah NP kiosk","2350’","VA","Fauquier",{"$f":"VLOOKUP(A707,LongLat!$A$2:$H$292,7,TRUE)","v":-78.163899999999998},{"$f":"VLOOKUP(A707,LongLat!$A$2:$H$292,8,TRUE)","v":38.850389999999997}]
[955.8,"Shenandoah NP north boundary","2300’","VA","Fauquier",{"$f":"VLOOKUP(A708,LongLat!$A$2:$H$292,7,TRUE)","v":-78.163899999999998},{"$f":"VLOOKUP(A708,LongLat!$A$2:$H$292,8,TRUE)","v":38.850389999999997},"http://www.nps.gov/SHEN/index.htm"]
[956.6,"Tom Floyd Wayside Shelter (pic)","1900’","VA","Fauquier",{"$f":"VLOOKUP(A709,LongLat!$A$2:$H$292,7,TRUE)","v":-78.163899999999998},{"$f":"VLOOKUP(A709,LongLat!$A$2:$H$292,8,TRUE)","v":38.850389999999997},"http://www.jmclum.com/spring2000hike/042800b.jpg"]
[957.6,"4-H Swimming Pool","1350’","VA","Fauquier",{"$f":"VLOOKUP(A710,LongLat!$A$2:$H$292,7,TRUE)","v":-78.163899999999998},{"$f":"VLOOKUP(A710,LongLat!$A$2:$H$292,8,TRUE)","v":38.850389999999997}]
[958.1,"VA 602","1150’","VA","Warren",{"$f":"VLOOKUP(A711,LongLat!$A$2:$H$292,7,TRUE)","v":-78.163899999999998},{"$f":"VLOOKUP(A711,LongLat!$A$2:$H$292,8,TRUE)","v":38.850389999999997}]
[959.5,"US 522","950’","VA","Warren",{"$f":"VLOOKUP(A712,LongLat!$A$2:$H$292,7,TRUE)","v":-78.163899999999998},{"$f":"VLOOKUP(A712,LongLat!$A$2:$H$292,8,TRUE)","v":38.850389999999997}]
[959.7,"Nat’l Zoological Park Research Center","990’","VA","Warren",{"$f":"VLOOKUP(A713,LongLat!$A$2:$H$292,7,TRUE)","v":-78.163899999999998},{"$f":"VLOOKUP(A713,LongLat!$A$2:$H$292,8,TRUE)","v":38.850389999999997}]
[962.9,"Mosby Campsite","1800’","VA","Warren",{"$f":"VLOOKUP(A714,LongLat!$A$2:$H$292,7,TRUE)","v":-78.083299999999994},{"$f":"VLOOKUP(A714,LongLat!$A$2:$H$292,8,TRUE)","v":38.889960000000002}]
[964.8,"Jim and Molly Denton Shelter (pic)","1310’","VA","Warren",{"$f":"VLOOKUP(A715,LongLat!$A$2:$H$292,7,TRUE)","v":-78.083299999999994},{"$f":"VLOOKUP(A715,LongLat!$A$2:$H$292,8,TRUE)","v":38.889960000000002},"http://www.trailjournals.com/photos.cfm?id=224228&back=1"]
[965.9,"VA 638, Linden, VA","1150’","VA","Warren",{"$f":"VLOOKUP(A716,LongLat!$A$2:$H$292,7,TRUE)","v":-78.083299999999994},{"$f":"VLOOKUP(A716,LongLat!$A$2:$H$292,8,TRUE)","v":38.889960000000002}]
[967.8,"Manassas Gap, VA 55","800’","VA","Warren",{"$f":"VLOOKUP(A717,LongLat!$A$2:$H$292,7,TRUE)","v":-78.033100000000005},{"$f":"VLOOKUP(A717,LongLat!$A$2:$H$292,8,TRUE)","v":38.930590000000002}]
[970.3,"Manassas Gap Shelter (pic)","1655’","VA","Warren",{"$f":"VLOOKUP(A718,LongLat!$A$2:$H$292,7,TRUE)","v":-78.033100000000005},{"$f":"VLOOKUP(A718,LongLat!$A$2:$H$292,8,TRUE)","v":38.930590000000002}]
[972.2,"Trillium Trail","1900’","VA","Warren",{"$f":"VLOOKUP(A719,LongLat!$A$2:$H$292,7,TRUE)","v":-77.997},{"$f":"VLOOKUP(A719,LongLat!$A$2:$H$292,8,TRUE)","v":38.969920000000002}]
[974.8,"Dick’s Dome Shelter (pic)","1230’","VA","Warren",{"$f":"VLOOKUP(A720,LongLat!$A$2:$H$292,7,TRUE)","v":-77.997},{"$f":"VLOOKUP(A720,LongLat!$A$2:$H$292,8,TRUE)","v":38.969920000000002},"http://www.trailjournals.com/photos.cfm?id=224238&back=1"]
[975.8,"spring","1850’","VA","Warren",{"$f":"VLOOKUP(A721,LongLat!$A$2:$H$292,7,TRUE)","v":-77.997},{"$f":"VLOOKUP(A721,LongLat!$A$2:$H$292,8,TRUE)","v":38.969920000000002}]
[977,"Sky Meadows State Park side trail","1780’","VA","Loudon",{"$f":"VLOOKUP(A722,LongLat!$A$2:$H$292,7,TRUE)","v":-77.997},{"$f":"VLOOKUP(A722,LongLat!$A$2:$H$292,8,TRUE)","v":38.969920000000002},"http://www.dcr.virginia.gov/state_parks/sky.shtml"]
[979.6,"Ashby Gap, US 50","900’","VA","Loudon",{"$f":"VLOOKUP(A723,LongLat!$A$2:$H$292,7,TRUE)","v":-77.944400000000002},{"$f":"VLOOKUP(A723,LongLat!$A$2:$H$292,8,TRUE)","v":39.047820000000002},"http://www.virginiaplaces.org/graphics/route50atparis.jpg"]
[983.2,"Rod Hollow Shelter (pic)","840’","VA","Loudon",{"$f":"VLOOKUP(A724,LongLat!$A$2:$H$292,7,TRUE)","v":-77.944400000000002},{"$f":"VLOOKUP(A724,LongLat!$A$2:$H$292,8,TRUE)","v":39.047820000000002},"http://www.hikingupward.com/OVH/AshbyGap/images/042609/P4260014.jpg"]
[986.9,"VA 605 (Morgans Mill Rd.)","1140’","VA","Loudon",{"$f":"VLOOKUP(A725,LongLat!$A$2:$H$292,7,TRUE)","v":-77.886600000000001},{"$f":"VLOOKUP(A725,LongLat!$A$2:$H$292,8,TRUE)","v":39.09064}]
[988.1,"spring","1150’","VA","Loudon",{"$f":"VLOOKUP(A726,LongLat!$A$2:$H$292,7,TRUE)","v":-77.886600000000001},{"$f":"VLOOKUP(A726,LongLat!$A$2:$H$292,8,TRUE)","v":39.09064}]
[990.1,"Sam Moore Shelter (pic)","990’","VA","Loudon",{"$f":"VLOOKUP(A727,LongLat!$A$2:$H$292,7,TRUE)","v":-77.886600000000001},{"$f":"VLOOKUP(A727,LongLat!$A$2:$H$292,8,TRUE)","v":39.09064},"http://farm3.static.flickr.com/2073/1546572494_7dd92e36b8.jpg?v=0"]
[993.1,"Bears Den Hostel & Rocks","1350’","VA","Loudon",{"$f":"VLOOKUP(A728,LongLat!$A$2:$H$292,7,TRUE)","v":-77.886600000000001},{"$f":"VLOOKUP(A728,LongLat!$A$2:$H$292,8,TRUE)","v":39.09064}]
[993.7,"Snickers Gap, VA 7/679","1000’","VA","Clarke",{"$f":"VLOOKUP(A729,LongLat!$A$2:$H$292,7,TRUE)","v":-77.886600000000001},{"$f":"VLOOKUP(A729,LongLat!$A$2:$H$292,8,TRUE)","v":39.09064}]
[995.9,"spring","1083’","VA","Clarke",{"$f":"VLOOKUP(A730,LongLat!$A$2:$H$292,7,TRUE)","v":-77.886600000000001},{"$f":"VLOOKUP(A730,LongLat!$A$2:$H$292,8,TRUE)","v":39.09064}]
[996.2,"VA-WV State Line","1140’",null,"Jefferson",{"$f":"VLOOKUP(A731,LongLat!$A$2:$H$292,7,TRUE)","v":-77.886600000000001},{"$f":"VLOOKUP(A731,LongLat!$A$2:$H$292,8,TRUE)","v":39.09064},"http://www.flickr.com/photos/marklarson/662246912/in/set-72157600553114109/"]
[996.3,"Crescent Rock","1312’","WV / MD","Jefferson",{"$f":"VLOOKUP(A732,LongLat!$A$2:$H$292,7,TRUE)","v":-77.886600000000001},{"$f":"VLOOKUP(A732,LongLat!$A$2:$H$292,8,TRUE)","v":39.09064},"http://www.flickr.com/photos/flyingturtle/2939542559/"]
[996.9,"Sand Spring","1150’","WV / MD","Jefferson",{"$f":"VLOOKUP(A733,LongLat!$A$2:$H$292,7,TRUE)","v":-77.886600000000001},{"$f":"VLOOKUP(A733,LongLat!$A$2:$H$292,8,TRUE)","v":39.09064}]
[997,"Devils Racecourse","1200’","WV / MD","Jefferson",{"$f":"VLOOKUP(A734,LongLat!$A$2:$H$292,7,TRUE)","v":-77.886600000000001},{"$f":"VLOOKUP(A734,LongLat!$A$2:$H$292,8,TRUE)","v":39.09064},"http://www.panoramio.com/photo/18100414"]
[999.8,"Wilson Gap","1380’","WV / MD","Jefferson",{"$f":"VLOOKUP(A735,LongLat!$A$2:$H$292,7,TRUE)","v":-77.886600000000001},{"$f":"VLOOKUP(A735,LongLat!$A$2:$H$292,8,TRUE)","v":39.09064}]
[1001,"Blackburn Trail Center","1650’","WV / MD","Jefferson",{"$f":"VLOOKUP(A736,LongLat!$A$2:$H$292,7,TRUE)","v":-77.779499999999999},{"$f":"VLOOKUP(A736,LongLat!$A$2:$H$292,8,TRUE)","v":39.227179999999997},"http://www.cs.utk.edu/~dunigan/at/m.php?wpt=DavidLess"]
[1004.2,"David Lesser Memorial Shelter (pic)","1430’","WV / MD","Jefferson",{"$f":"VLOOKUP(A737,LongLat!$A$2:$H$292,7,TRUE)","v":-77.779499999999999},{"$f":"VLOOKUP(A737,LongLat!$A$2:$H$292,8,TRUE)","v":39.227179999999997}]
[1007.2,"Keys Gap, WV 9","935’","WV / MD","Jefferson",{"$f":"VLOOKUP(A738,LongLat!$A$2:$H$292,7,TRUE)","v":-77.779499999999999},{"$f":"VLOOKUP(A738,LongLat!$A$2:$H$292,8,TRUE)","v":39.227179999999997}]
[1011.8,"WV 32 (Chestnut Hill Rd.)","820’","WV / MD","Jefferson",{"$f":"VLOOKUP(A739,LongLat!$A$2:$H$292,7,TRUE)","v":-77.779499999999999},{"$f":"VLOOKUP(A739,LongLat!$A$2:$H$292,8,TRUE)","v":39.227179999999997}]
[1012.5,"US 340, Shenandoah River Bridge","312’","WV / MD","Jefferson",{"$f":"VLOOKUP(A740,LongLat!$A$2:$H$292,7,TRUE)","v":-77.779499999999999},{"$f":"VLOOKUP(A740,LongLat!$A$2:$H$292,8,TRUE)","v":39.227179999999997}]
[1012.8,"ATC Headquarters side trail","394’","WV / MD","Jefferson",{"$f":"VLOOKUP(A741,LongLat!$A$2:$H$292,7,TRUE)","v":-77.779499999999999},{"$f":"VLOOKUP(A741,LongLat!$A$2:$H$292,8,TRUE)","v":39.227179999999997},"http://www.flickr.com/photos/throwingbull/3759511197/"]
[1013.4,"Harpers Ferry","315’","WV / MD","Jefferson",{"$f":"VLOOKUP(A742,LongLat!$A$2:$H$292,7,TRUE)","v":-77.779499999999999},{"$f":"VLOOKUP(A742,LongLat!$A$2:$H$292,8,TRUE)","v":39.227179999999997},"http://www.nps.gov/hafe/index.htm"]
[1013.5,"Potomac River, WV-MD State Line","263’","WV / MD","Washington",{"$f":"VLOOKUP(A743,LongLat!$A$2:$H$292,7,TRUE)","v":-77.779499999999999},{"$f":"VLOOKUP(A743,LongLat!$A$2:$H$292,8,TRUE)","v":39.227179999999997},"http://www.summitpost.org/image/47932/152472/panorama-of-harpers-ferry.html"]
[1013.7,"C&O Canal Towpath west jct.","290’","WV / MD","Washington",{"$f":"VLOOKUP(A744,LongLat!$A$2:$H$292,7,TRUE)","v":-77.779499999999999},{"$f":"VLOOKUP(A744,LongLat!$A$2:$H$292,8,TRUE)","v":39.227179999999997},"http://canal.mcmullans.org/"]
[1014.8,"Sandy Hook Bridge, US 340","290’","WV / MD","Washington",{"$f":"VLOOKUP(A745,LongLat!$A$2:$H$292,7,TRUE)","v":-77.779499999999999},{"$f":"VLOOKUP(A745,LongLat!$A$2:$H$292,8,TRUE)","v":39.227179999999997}]
[1016.3,"C&O Canal Towpath east jct.","290’","WV / MD","Washington",{"$f":"VLOOKUP(A746,LongLat!$A$2:$H$292,7,TRUE)","v":-77.664299999999997},{"$f":"VLOOKUP(A746,LongLat!$A$2:$H$292,8,TRUE)","v":39.356450000000002}]
[1016.4,"Keep Tryst Rd.","320’","WV / MD","Washington",{"$f":"VLOOKUP(A747,LongLat!$A$2:$H$292,7,TRUE)","v":-77.664299999999997},{"$f":"VLOOKUP(A747,LongLat!$A$2:$H$292,8,TRUE)","v":39.356450000000002}]
[1016.6,"US 340 Underpass","400’","WV / MD","Washington",{"$f":"VLOOKUP(A748,LongLat!$A$2:$H$292,7,TRUE)","v":-77.664299999999997},{"$f":"VLOOKUP(A748,LongLat!$A$2:$H$292,8,TRUE)","v":39.356450000000002}]
[1016.8,"Weverton Rd.","420’","WV / MD","Washington",{"$f":"VLOOKUP(A749,LongLat!$A$2:$H$292,7,TRUE)","v":-77.664299999999997},{"$f":"VLOOKUP(A749,LongLat!$A$2:$H$292,8,TRUE)","v":39.356450000000002}]
[1017.7,"Weverton Cliffs Trail","780’","WV / MD","Washington",{"$f":"VLOOKUP(A750,LongLat!$A$2:$H$292,7,TRUE)","v":-77.664299999999997},{"$f":"VLOOKUP(A750,LongLat!$A$2:$H$292,8,TRUE)","v":39.356450000000002},"http://www.panoramio.com/photo/4767987"]
[1019.8,"Ed Garvey Shelter (pic)","1100’","WV / MD","Washington",{"$f":"VLOOKUP(A751,LongLat!$A$2:$H$292,7,TRUE)","v":-77.664299999999997},{"$f":"VLOOKUP(A751,LongLat!$A$2:$H$292,8,TRUE)","v":39.356450000000002}]
[1021.8,"Brownsville Gap","1140’","WV / MD","Washington",{"$f":"VLOOKUP(A752,LongLat!$A$2:$H$292,7,TRUE)","v":-77.637600000000006},{"$f":"VLOOKUP(A752,LongLat!$A$2:$H$292,8,TRUE)","v":39.412529999999997}]
[1023.5,"Gathland State Park","950’","WV / MD","Washington",{"$f":"VLOOKUP(A753,LongLat!$A$2:$H$292,7,TRUE)","v":-77.637600000000006},{"$f":"VLOOKUP(A753,LongLat!$A$2:$H$292,8,TRUE)","v":39.412529999999997}]
[1023.9,"Crampton Gap Shelter (pic)","1000’","WV / MD","Washington",{"$f":"VLOOKUP(A754,LongLat!$A$2:$H$292,7,TRUE)","v":-77.637600000000006},{"$f":"VLOOKUP(A754,LongLat!$A$2:$H$292,8,TRUE)","v":39.412529999999997},"http://www.summitpost.org/view_object.php?object_id=396049&context_id=383841"]
[1026.5,"Bear Spring Cabin side trail","1480’","WV / MD","Washington",{"$f":"VLOOKUP(A755,LongLat!$A$2:$H$292,7,TRUE)","v":-77.631399999999999},{"$f":"VLOOKUP(A755,LongLat!$A$2:$H$292,8,TRUE)","v":39.460810000000002}]
[1027.0999999999999,"White Rocks Cliff","1500’","WV / MD","Washington",{"$f":"VLOOKUP(A756,LongLat!$A$2:$H$292,7,TRUE)","v":-77.631399999999999},{"$f":"VLOOKUP(A756,LongLat!$A$2:$H$292,8,TRUE)","v":39.460810000000002}]
[1027.3,"Lamb’s Knoll","1600’","WV / MD","Washington",{"$f":"VLOOKUP(A757,LongLat!$A$2:$H$292,7,TRUE)","v":-77.631399999999999},{"$f":"VLOOKUP(A757,LongLat!$A$2:$H$292,8,TRUE)","v":39.460810000000002},"http://www.summitpost.org/mountain/rock/419427/lambs-knoll.html"]
[1028.9000000000001,"Rocky Run Shelter (pic)","970’","WV / MD","Washington",{"$f":"VLOOKUP(A758,LongLat!$A$2:$H$292,7,TRUE)","v":-77.631399999999999},{"$f":"VLOOKUP(A758,LongLat!$A$2:$H$292,8,TRUE)","v":39.460810000000002},"http://www.summitpost.org/view_object.php?object_id=396055&context_id=383841"]
[1029.9000000000001,"Reno Monument Rd.","910’","WV / MD","Washington",{"$f":"VLOOKUP(A759,LongLat!$A$2:$H$292,7,TRUE)","v":-77.631399999999999},{"$f":"VLOOKUP(A759,LongLat!$A$2:$H$292,8,TRUE)","v":39.460810000000002}]
[1030.7,"Dahlgren Backpack Campground","980’","WV / MD","Washington",{"$f":"VLOOKUP(A760,LongLat!$A$2:$H$292,7,TRUE)","v":-77.631399999999999},{"$f":"VLOOKUP(A760,LongLat!$A$2:$H$292,8,TRUE)","v":39.460810000000002},"http://www.flickr.com/photos/revengingangel/3620594992/"]
[1030.9000000000001,"Turners Gap, US Alt. 40","1000’","WV / MD","Washington",{"$f":"VLOOKUP(A761,LongLat!$A$2:$H$292,7,TRUE)","v":-77.631399999999999},{"$f":"VLOOKUP(A761,LongLat!$A$2:$H$292,8,TRUE)","v":39.460810000000002},"http://www.flickr.com/photos/marklarson/662293816/in/set-72157600553114109/"]
[1032.3,"Monument Rd.","1350’","WV / MD","Washington",{"$f":"VLOOKUP(A762,LongLat!$A$2:$H$292,7,TRUE)","v":-77.631399999999999},{"$f":"VLOOKUP(A762,LongLat!$A$2:$H$292,8,TRUE)","v":39.460810000000002}]
[1032.5,"Washington Monument Rd.","1400’","WV / MD","Washington",{"$f":"VLOOKUP(A763,LongLat!$A$2:$H$292,7,TRUE)","v":-77.602400000000003},{"$f":"VLOOKUP(A763,LongLat!$A$2:$H$292,8,TRUE)","v":39.542499999999997}]
[1032.9000000000001,"Washington Monument","1550’","WV / MD","Washington",{"$f":"VLOOKUP(A764,LongLat!$A$2:$H$292,7,TRUE)","v":-77.602400000000003},{"$f":"VLOOKUP(A764,LongLat!$A$2:$H$292,8,TRUE)","v":39.542499999999997},"http://www.summitpost.org/mountain/rock/352045/monument-knob.html"]
[1035,"Boonsboro Mt. Rd.","1300’","WV / MD","Washington",{"$f":"VLOOKUP(A765,LongLat!$A$2:$H$292,7,TRUE)","v":-77.602400000000003},{"$f":"VLOOKUP(A765,LongLat!$A$2:$H$292,8,TRUE)","v":39.542499999999997}]
[1035.3,"Bartman Hill Trail to Greenbrier SP","n/a","WV / MD","Washington",{"$f":"VLOOKUP(A766,LongLat!$A$2:$H$292,7,TRUE)","v":-77.602400000000003},{"$f":"VLOOKUP(A766,LongLat!$A$2:$H$292,8,TRUE)","v":39.542499999999997}]
[1035.8,"I-70 Footbridge","1200’","WV / MD","Washington",{"$f":"VLOOKUP(A767,LongLat!$A$2:$H$292,7,TRUE)","v":-77.602400000000003},{"$f":"VLOOKUP(A767,LongLat!$A$2:$H$292,8,TRUE)","v":39.542499999999997}]
[1036.4000000000001,"Pine Knob Shelter (pic)","1360’","WV / MD","Washington",{"$f":"VLOOKUP(A768,LongLat!$A$2:$H$292,7,TRUE)","v":-77.602400000000003},{"$f":"VLOOKUP(A768,LongLat!$A$2:$H$292,8,TRUE)","v":39.542499999999997},"http://www.summitpost.org/view_object.php?object_id=307513&context_id=383841"]
[1038,"Annapolis Rocks side trail","1820’","WV / MD","Washington",{"$f":"VLOOKUP(A769,LongLat!$A$2:$H$292,7,TRUE)","v":-77.602400000000003},{"$f":"VLOOKUP(A769,LongLat!$A$2:$H$292,8,TRUE)","v":39.542499999999997},"http://www.summitpost.org/mountain/rock/307793/annapolis-rocks.html"]
[1039,"Black Rocks","1800’","WV / MD","Washington",{"$f":"VLOOKUP(A770,LongLat!$A$2:$H$292,7,TRUE)","v":-77.602400000000003},{"$f":"VLOOKUP(A770,LongLat!$A$2:$H$292,8,TRUE)","v":39.542499999999997},"http://www.summitpost.org/mountain/rock/307504/black-rocks.html"]
[1039.5999999999999,"Pogo Memorial Campsite","1500’","WV / MD","Washington",{"$f":"VLOOKUP(A771,LongLat!$A$2:$H$292,7,TRUE)","v":-77.602400000000003},{"$f":"VLOOKUP(A771,LongLat!$A$2:$H$292,8,TRUE)","v":39.542499999999997}]
[1044.4000000000001,"MD 17 (Wolfsville Rd.)","1400’","WV / MD","Washington",{"$f":"VLOOKUP(A772,LongLat!$A$2:$H$292,7,TRUE)","v":-77.557599999999994},{"$f":"VLOOKUP(A772,LongLat!$A$2:$H$292,8,TRUE)","v":39.627740000000003}]
[1044.5999999999999,"Ensign Cowall Shelter (pic)","1430’","WV / MD","Washington",{"$f":"VLOOKUP(A773,LongLat!$A$2:$H$292,7,TRUE)","v":-77.557599999999994},{"$f":"VLOOKUP(A773,LongLat!$A$2:$H$292,8,TRUE)","v":39.627740000000003},"http://www.summitpost.org/view_object.php?object_id=383853&context_id=383841"]
[1045.9000000000001,"MD 77 (Foxville Rd.)","1450’","WV / MD","Washington",{"$f":"VLOOKUP(A774,LongLat!$A$2:$H$292,7,TRUE)","v":-77.524600000000007},{"$f":"VLOOKUP(A774,LongLat!$A$2:$H$292,8,TRUE)","v":39.672029999999999}]
[1047.7,"Warner Gap Rd.","1150’","WV / MD","Washington",{"$f":"VLOOKUP(A775,LongLat!$A$2:$H$292,7,TRUE)","v":-77.524600000000007},{"$f":"VLOOKUP(A775,LongLat!$A$2:$H$292,8,TRUE)","v":39.672029999999999}]
[1048.5,"MD 491, Raven Rock Hollow","1190’","WV / MD","Washington",{"$f":"VLOOKUP(A776,LongLat!$A$2:$H$292,7,TRUE)","v":-77.524600000000007},{"$f":"VLOOKUP(A776,LongLat!$A$2:$H$292,8,TRUE)","v":39.672029999999999}]
[1049.5,"Raven Rock","1300’","WV / MD","Washington",{"$f":"VLOOKUP(A777,LongLat!$A$2:$H$292,7,TRUE)","v":-77.524600000000007},{"$f":"VLOOKUP(A777,LongLat!$A$2:$H$292,8,TRUE)","v":39.672029999999999},"http://www.summitpost.org/mountain/rock/307692/raven-rock.html"]
[1051.3,"High Rock side trail","1950’","WV / MD","Washington",{"$f":"VLOOKUP(A778,LongLat!$A$2:$H$292,7,TRUE)","v":-77.524600000000007},{"$f":"VLOOKUP(A778,LongLat!$A$2:$H$292,8,TRUE)","v":39.672029999999999},"http://www.summitpost.org/mountain/rock/307669/high-rock.html"]
[1054.2,"Pen Mar County Park","1330’","WV / MD","Washington",{"$f":"VLOOKUP(A779,LongLat!$A$2:$H$292,7,TRUE)","v":-77.524600000000007},{"$f":"VLOOKUP(A779,LongLat!$A$2:$H$292,8,TRUE)","v":39.672029999999999}]
[1054.4000000000001,"Mason-Dixon Line (MD-PA State Line)","1250’",null,null,{"$f":"VLOOKUP(A780,LongLat!$A$2:$H$292,7,TRUE)","v":-77.524600000000007},{"$f":"VLOOKUP(A780,LongLat!$A$2:$H$292,8,TRUE)","v":39.672029999999999}]
[1054.4000000000001,"Pen Mar Rd.","1250’","PA","Pen Mar",{"$f":"VLOOKUP(A781,LongLat!$A$2:$H$292,7,TRUE)","v":-77.524600000000007},{"$f":"VLOOKUP(A781,LongLat!$A$2:$H$292,8,TRUE)","v":39.672029999999999}]
[1055.5,"Buena Vista Rd.","1290’","PA","Pen Mar",{"$f":"VLOOKUP(A782,LongLat!$A$2:$H$292,7,TRUE)","v":-77.485200000000006},{"$f":"VLOOKUP(A782,LongLat!$A$2:$H$292,8,TRUE)","v":39.766190000000002}]
[1056.7,"Old PA 16","1350’","PA","Pen Mar",{"$f":"VLOOKUP(A783,LongLat!$A$2:$H$292,7,TRUE)","v":-77.485200000000006},{"$f":"VLOOKUP(A783,LongLat!$A$2:$H$292,8,TRUE)","v":39.766190000000002}]
[1057,"PA 16","1200’","PA","Pen Mar",{"$f":"VLOOKUP(A784,LongLat!$A$2:$H$292,7,TRUE)","v":-77.485200000000006},{"$f":"VLOOKUP(A784,LongLat!$A$2:$H$292,8,TRUE)","v":39.766190000000002}]
[1057.2,"Mackie Run","1250’","PA","Franklin",{"$f":"VLOOKUP(A785,LongLat!$A$2:$H$292,7,TRUE)","v":-77.485200000000006},{"$f":"VLOOKUP(A785,LongLat!$A$2:$H$292,8,TRUE)","v":39.766190000000002}]
[1057.8,"Bailey Spring","1300’","PA","Franklin",{"$f":"VLOOKUP(A786,LongLat!$A$2:$H$292,7,TRUE)","v":-77.483000000000004},{"$f":"VLOOKUP(A786,LongLat!$A$2:$H$292,8,TRUE)","v":39.793810000000001}]
[1059.0999999999999,"Deer Lick Shelters (pic)","1420’","PA","Franklin",{"$f":"VLOOKUP(A787,LongLat!$A$2:$H$292,7,TRUE)","v":-77.478300000000004},{"$f":"VLOOKUP(A787,LongLat!$A$2:$H$292,8,TRUE)","v":39.805}]
[1061.5,"Old Forge Park, Antietam Shelter (pic)","890’","PA","Franklin",{"$f":"VLOOKUP(A788,LongLat!$A$2:$H$292,7,TRUE)","v":-77.478300000000004},{"$f":"VLOOKUP(A788,LongLat!$A$2:$H$292,8,TRUE)","v":39.805},"http://www.panoramio.com/photo/20664744"]
[1061.9000000000001,"Rattlesnake Run Rd.","900’","PA","Franklin",{"$f":"VLOOKUP(A789,LongLat!$A$2:$H$292,7,TRUE)","v":-77.478300000000004},{"$f":"VLOOKUP(A789,LongLat!$A$2:$H$292,8,TRUE)","v":39.805}]
[1062.5,"Old Forge Rd.","1000’","PA","Franklin",{"$f":"VLOOKUP(A790,LongLat!$A$2:$H$292,7,TRUE)","v":-77.478300000000004},{"$f":"VLOOKUP(A790,LongLat!$A$2:$H$292,8,TRUE)","v":39.805}]
[1062.7,"Tumbling Run Shelters (pic)","1120’","PA","Franklin",{"$f":"VLOOKUP(A791,LongLat!$A$2:$H$292,7,TRUE)","v":-77.478300000000004},{"$f":"VLOOKUP(A791,LongLat!$A$2:$H$292,8,TRUE)","v":39.805},"http://commons.wikimedia.org/wiki/File:Tumbling_Run_Shelters.jpg"]
[1064,"Chimney Rocks","1900’","PA","Franklin",{"$f":"VLOOKUP(A792,LongLat!$A$2:$H$292,7,TRUE)","v":-77.478300000000004},{"$f":"VLOOKUP(A792,LongLat!$A$2:$H$292,8,TRUE)","v":39.805},"http://www.flickr.com/photos/jblough/2495148857/"]
[1067.3,"Swamp Rd.","1560’","PA","Franklin",{"$f":"VLOOKUP(A793,LongLat!$A$2:$H$292,7,TRUE)","v":-77.500900000000001},{"$f":"VLOOKUP(A793,LongLat!$A$2:$H$292,8,TRUE)","v":39.868560000000002}]
[1067.5999999999999,"PA 233, South Mt, PA","1600’","PA","Franklin",{"$f":"VLOOKUP(A794,LongLat!$A$2:$H$292,7,TRUE)","v":-77.500900000000001},{"$f":"VLOOKUP(A794,LongLat!$A$2:$H$292,8,TRUE)","v":39.868560000000002}]
[1069.3,"Rocky Mt. Shelters (pic)","1520’","PA","Franklin",{"$f":"VLOOKUP(A795,LongLat!$A$2:$H$292,7,TRUE)","v":-77.500900000000001},{"$f":"VLOOKUP(A795,LongLat!$A$2:$H$292,8,TRUE)","v":39.868560000000002},"http://gallery.backcountry.net/albums/papabear_2003_HF_Duncannon/acp.sized.jpg"]
[1072.3,"Caledonia State Park","960’","PA","Franklin",{"$f":"VLOOKUP(A796,LongLat!$A$2:$H$292,7,TRUE)","v":-77.486699999999999},{"$f":"VLOOKUP(A796,LongLat!$A$2:$H$292,8,TRUE)","v":39.931959999999997}]
[1074.2,"Quarry Gap Rd.","1250’","PA","Franklin",{"$f":"VLOOKUP(A797,LongLat!$A$2:$H$292,7,TRUE)","v":-77.486699999999999},{"$f":"VLOOKUP(A797,LongLat!$A$2:$H$292,8,TRUE)","v":39.931959999999997}]
[1074.9000000000001,"Quarry Gap Shelters (pic)","1455’","PA","Franklin",{"$f":"VLOOKUP(A798,LongLat!$A$2:$H$292,7,TRUE)","v":-77.486699999999999},{"$f":"VLOOKUP(A798,LongLat!$A$2:$H$292,8,TRUE)","v":39.931959999999997},"http://www.swarpa.net/~danforth/photos/mar03/quarrygapshelters.jpg"]
[1076.4000000000001,"Sandy Sod Jct.","1980’","PA","Franklin",{"$f":"VLOOKUP(A799,LongLat!$A$2:$H$292,7,TRUE)","v":-77.486699999999999},{"$f":"VLOOKUP(A799,LongLat!$A$2:$H$292,8,TRUE)","v":39.931959999999997}]
[1079,"Middle Ridge Rd.","2050’","PA","Franklin",{"$f":"VLOOKUP(A800,LongLat!$A$2:$H$292,7,TRUE)","v":-77.420699999999997},{"$f":"VLOOKUP(A800,LongLat!$A$2:$H$292,8,TRUE)","v":39.984589999999997}]
[1079.5,"Ridge/Means Hollow Rd.","1800’","PA","Franklin",{"$f":"VLOOKUP(A801,LongLat!$A$2:$H$292,7,TRUE)","v":-77.420699999999997},{"$f":"VLOOKUP(A801,LongLat!$A$2:$H$292,8,TRUE)","v":39.984589999999997}]
[1079.9000000000001,"Milesburn Rd.","1600’","PA","Franklin",{"$f":"VLOOKUP(A802,LongLat!$A$2:$H$292,7,TRUE)","v":-77.420699999999997},{"$f":"VLOOKUP(A802,LongLat!$A$2:$H$292,8,TRUE)","v":39.984589999999997}]
[1082.3,"Birch Run Shelter (pic)","1795’","PA","Franklin",{"$f":"VLOOKUP(A803,LongLat!$A$2:$H$292,7,TRUE)","v":-77.420699999999997},{"$f":"VLOOKUP(A803,LongLat!$A$2:$H$292,8,TRUE)","v":39.984589999999997},"http://commons.wikimedia.org/wiki/File:Birch_Run_Shelter.jpg"]
[1083.5999999999999,"Big Flat Fire Tower","2040’","PA","Franklin",{"$f":"VLOOKUP(A804,LongLat!$A$2:$H$292,7,TRUE)","v":-77.420699999999997},{"$f":"VLOOKUP(A804,LongLat!$A$2:$H$292,8,TRUE)","v":39.984589999999997}]
[1085.5,"Michener Cabin","1850’","PA","Cumberland",{"$f":"VLOOKUP(A805,LongLat!$A$2:$H$292,7,TRUE)","v":-77.357299999999995},{"$f":"VLOOKUP(A805,LongLat!$A$2:$H$292,8,TRUE)","v":40.034289999999999},"http://www.flickr.com/photos/23668125@N08/3321209866"]
[1087.4000000000001,"Woodrow Rd.","1850’","PA","Cumberland",{"$f":"VLOOKUP(A806,LongLat!$A$2:$H$292,7,TRUE)","v":-77.357299999999995},{"$f":"VLOOKUP(A806,LongLat!$A$2:$H$292,8,TRUE)","v":40.034289999999999}]
[1088.5,"Toms Run Shelters (pic)","1300’","PA","Cumberland",{"$f":"VLOOKUP(A807,LongLat!$A$2:$H$292,7,TRUE)","v":-77.357299999999995},{"$f":"VLOOKUP(A807,LongLat!$A$2:$H$292,8,TRUE)","v":40.034289999999999},"http://commons.wikimedia.org/wiki/File:Tom%27s_Run_Shelters.jpg"]
[1091.9000000000001,"PA 233","900’","PA","Cumberland",{"$f":"VLOOKUP(A808,LongLat!$A$2:$H$292,7,TRUE)","v":-77.357299999999995},{"$f":"VLOOKUP(A808,LongLat!$A$2:$H$292,8,TRUE)","v":40.034289999999999}]
[1092.2,"Pine Grove Furnace State Park","850’","PA","Cumberland",{"$f":"VLOOKUP(A809,LongLat!$A$2:$H$292,7,TRUE)","v":-77.357299999999995},{"$f":"VLOOKUP(A809,LongLat!$A$2:$H$292,8,TRUE)","v":40.034289999999999}]
[1093.2,"Midpoint Marker","1000’","PA","Cumberland",{"$f":"VLOOKUP(A810,LongLat!$A$2:$H$292,7,TRUE)","v":-77.357299999999995},{"$f":"VLOOKUP(A810,LongLat!$A$2:$H$292,8,TRUE)","v":40.034289999999999},"http://www.summitpost.org/image/81572/172561/at-midpoint-sign-at-pole-steeple.html"]
[1094.7,"Pole Steeple side trail","1300’","PA","Cumberland",{"$f":"VLOOKUP(A811,LongLat!$A$2:$H$292,7,TRUE)","v":-77.357299999999995},{"$f":"VLOOKUP(A811,LongLat!$A$2:$H$292,8,TRUE)","v":40.034289999999999},"http://www.summitpost.org/mountain/rock/153439/pole-steeple.html"]
[1098.2,"Mt. Creek Campground side trail","1050’","PA","Cumberland",{"$f":"VLOOKUP(A812,LongLat!$A$2:$H$292,7,TRUE)","v":-77.206400000000002},{"$f":"VLOOKUP(A812,LongLat!$A$2:$H$292,8,TRUE)","v":40.06297}]
[1099.4000000000001,"James Fry (Tagg Run) Shelter","805’","PA","Cumberland",{"$f":"VLOOKUP(A813,LongLat!$A$2:$H$292,7,TRUE)","v":-77.206400000000002},{"$f":"VLOOKUP(A813,LongLat!$A$2:$H$292,8,TRUE)","v":40.06297},"http://www.cs.utk.edu/~dunigan/at/m.php?wpt=JamesFry"]
[1099.9000000000001,"Pine Grove Rd.","750’","PA","Cumberland",{"$f":"VLOOKUP(A814,LongLat!$A$2:$H$292,7,TRUE)","v":-77.206400000000002},{"$f":"VLOOKUP(A814,LongLat!$A$2:$H$292,8,TRUE)","v":40.06297}]
[1100.8,"PA 34 (Hunters Run Rd.)","670’","PA","Cumberland",{"$f":"VLOOKUP(A815,LongLat!$A$2:$H$292,7,TRUE)","v":-77.206400000000002},{"$f":"VLOOKUP(A815,LongLat!$A$2:$H$292,8,TRUE)","v":40.06297}]
[1102.8,"PA 94","880’","PA","Cumberland",{"$f":"VLOOKUP(A816,LongLat!$A$2:$H$292,7,TRUE)","v":-77.206400000000002},{"$f":"VLOOKUP(A816,LongLat!$A$2:$H$292,8,TRUE)","v":40.06297}]
[1105.5999999999999,"Whiskey Spring","830’","PA","Cumberland",{"$f":"VLOOKUP(A817,LongLat!$A$2:$H$292,7,TRUE)","v":-77.104299999999995},{"$f":"VLOOKUP(A817,LongLat!$A$2:$H$292,8,TRUE)","v":40.111919999999998}]
[1107.7,"Alec Kennedy Shelter (pic)","850’","PA","Cumberland",{"$f":"VLOOKUP(A818,LongLat!$A$2:$H$292,7,TRUE)","v":-77.104299999999995},{"$f":"VLOOKUP(A818,LongLat!$A$2:$H$292,8,TRUE)","v":40.111919999999998},"http://commons.wikimedia.org/wiki/File:Alec_Kennedy_Shelter.jpg"]
[1108.5999999999999,"Cedar Point Knob","1060’","PA","Cumberland",{"$f":"VLOOKUP(A819,LongLat!$A$2:$H$292,7,TRUE)","v":-77.104299999999995},{"$f":"VLOOKUP(A819,LongLat!$A$2:$H$292,8,TRUE)","v":40.111919999999998}]
[1111.3,"Yellow Breeches Creek","500’","PA","Cumberland",{"$f":"VLOOKUP(A820,LongLat!$A$2:$H$292,7,TRUE)","v":-77.104299999999995},{"$f":"VLOOKUP(A820,LongLat!$A$2:$H$292,8,TRUE)","v":40.111919999999998}]
[1111.5999999999999,"ATC Mid-Atlantic Office, PA 174","500’","PA","Cumberland",{"$f":"VLOOKUP(A821,LongLat!$A$2:$H$292,7,TRUE)","v":-77.104299999999995},{"$f":"VLOOKUP(A821,LongLat!$A$2:$H$292,8,TRUE)","v":40.111919999999998}]
[1113.5999999999999,"PA 74","580’","PA","Cumberland",{"$f":"VLOOKUP(A822,LongLat!$A$2:$H$292,7,TRUE)","v":-77.104299999999995},{"$f":"VLOOKUP(A822,LongLat!$A$2:$H$292,8,TRUE)","v":40.111919999999998}]
[1115.7,"PA 641 (Trindle Rd.)","540’","PA","Cumberland",{"$f":"VLOOKUP(A823,LongLat!$A$2:$H$292,7,TRUE)","v":-77.104299999999995},{"$f":"VLOOKUP(A823,LongLat!$A$2:$H$292,8,TRUE)","v":40.111919999999998}]
[1118.4000000000001,"Pennsylvania Turnpike","495’","PA","Perry",{"$f":"VLOOKUP(A824,LongLat!$A$2:$H$292,7,TRUE)","v":-77.104299999999995},{"$f":"VLOOKUP(A824,LongLat!$A$2:$H$292,8,TRUE)","v":40.111919999999998},"http://www.flickr.com/photos/bltadventure/3083433704/"]
[1119.5999999999999,"US 11 Footbridge","490’","PA","Perry",{"$f":"VLOOKUP(A825,LongLat!$A$2:$H$292,7,TRUE)","v":-77.104299999999995},{"$f":"VLOOKUP(A825,LongLat!$A$2:$H$292,8,TRUE)","v":40.111919999999998}]
[1120.5,"I-81 Overpass","485’","PA","Perry",{"$f":"VLOOKUP(A826,LongLat!$A$2:$H$292,7,TRUE)","v":-77.104299999999995},{"$f":"VLOOKUP(A826,LongLat!$A$2:$H$292,8,TRUE)","v":40.111919999999998}]
[1121.9000000000001,"ATC Scott Farm Trail Work Center","480’","PA","Perry",{"$f":"VLOOKUP(A827,LongLat!$A$2:$H$292,7,TRUE)","v":-77.087400000000002},{"$f":"VLOOKUP(A827,LongLat!$A$2:$H$292,8,TRUE)","v":40.30198}]
[1123.9000000000001,"PA 944","480’","PA","Perry",{"$f":"VLOOKUP(A828,LongLat!$A$2:$H$292,7,TRUE)","v":-77.087400000000002},{"$f":"VLOOKUP(A828,LongLat!$A$2:$H$292,8,TRUE)","v":40.30198}]
[1124.9000000000001,"spring","650’","PA","Perry",{"$f":"VLOOKUP(A829,LongLat!$A$2:$H$292,7,TRUE)","v":-77.087400000000002},{"$f":"VLOOKUP(A829,LongLat!$A$2:$H$292,8,TRUE)","v":40.30198}]
[1125.8,"Tuscarora/Darlington Trails","1390’","PA","Perry",{"$f":"VLOOKUP(A830,LongLat!$A$2:$H$292,7,TRUE)","v":-77.087400000000002},{"$f":"VLOOKUP(A830,LongLat!$A$2:$H$292,8,TRUE)","v":40.30198}]
[1125.9000000000001,"Darlington Shelter (pic)","1170’","PA","Perry",{"$f":"VLOOKUP(A831,LongLat!$A$2:$H$292,7,TRUE)","v":-77.087400000000002},{"$f":"VLOOKUP(A831,LongLat!$A$2:$H$292,8,TRUE)","v":40.30198},"http://farm1.static.flickr.com/26/61014660_ac16ecd5bd.jpg"]
[1128.2,"PA 850","650’","PA","Perry",{"$f":"VLOOKUP(A832,LongLat!$A$2:$H$292,7,TRUE)","v":-77.087400000000002},{"$f":"VLOOKUP(A832,LongLat!$A$2:$H$292,8,TRUE)","v":40.30198}]
[1133.2,"Thelma Marks Shelter (pic)","1120’","PA","Perry",{"$f":"VLOOKUP(A833,LongLat!$A$2:$H$292,7,TRUE)","v":-77.067800000000005},{"$f":"VLOOKUP(A833,LongLat!$A$2:$H$292,8,TRUE)","v":40.363460000000003},"http://www.flickr.com/photos/64348775@N00/37789233"]
[1135.0999999999999,"Hawk Rock","1140’","PA","Perry",{"$f":"VLOOKUP(A834,LongLat!$A$2:$H$292,7,TRUE)","v":-77.067800000000005},{"$f":"VLOOKUP(A834,LongLat!$A$2:$H$292,8,TRUE)","v":40.363460000000003},"http://www.summitpost.org/mountain/rock/153417/cove-mountain-hawk-rocks.html"]
[1136.8,"US 11/15, PA 274","385’","PA","Schuykill",{"$f":"VLOOKUP(A835,LongLat!$A$2:$H$292,7,TRUE)","v":-77.067800000000005},{"$f":"VLOOKUP(A835,LongLat!$A$2:$H$292,8,TRUE)","v":40.363460000000003}]
[1137.3,"Duncannon, PA","385’","PA","Schuykill",{"$f":"VLOOKUP(A836,LongLat!$A$2:$H$292,7,TRUE)","v":-77.067800000000005},{"$f":"VLOOKUP(A836,LongLat!$A$2:$H$292,8,TRUE)","v":40.363460000000003}]
[1138.3,"PA 849, Juniata River","380’","PA","Schuykill",{"$f":"VLOOKUP(A837,LongLat!$A$2:$H$292,7,TRUE)","v":-76.994},{"$f":"VLOOKUP(A837,LongLat!$A$2:$H$292,8,TRUE)","v":40.392220000000002}]
[1138.5,"Susquehanna River","380’","PA","Schuykill",{"$f":"VLOOKUP(A838,LongLat!$A$2:$H$292,7,TRUE)","v":-76.994},{"$f":"VLOOKUP(A838,LongLat!$A$2:$H$292,8,TRUE)","v":40.392220000000002},"http://www.summitpost.org/image/87376/153417/sunrise-over-the-susquehanna.html"]
[1139.0999999999999,"US 22/322","400’","PA","Schuykill",{"$f":"VLOOKUP(A839,LongLat!$A$2:$H$292,7,TRUE)","v":-76.994},{"$f":"VLOOKUP(A839,LongLat!$A$2:$H$292,8,TRUE)","v":40.392220000000002}]
[1141.8,"Clarks Ferry Shelter (pic)","1180’","PA","Schuykill",{"$f":"VLOOKUP(A840,LongLat!$A$2:$H$292,7,TRUE)","v":-76.994},{"$f":"VLOOKUP(A840,LongLat!$A$2:$H$292,8,TRUE)","v":40.392220000000002},"http://www.summitpost.org/view_object.php?object_id=37144&context_id=383841"]
[1145.7,"PA 225 Footbridge","1250’","PA","Schuykill",{"$f":"VLOOKUP(A841,LongLat!$A$2:$H$292,7,TRUE)","v":-76.8797},{"$f":"VLOOKUP(A841,LongLat!$A$2:$H$292,8,TRUE)","v":40.425789999999999}]
[1147.7,"Table Rock View","1200’","PA","Schuykill",{"$f":"VLOOKUP(A842,LongLat!$A$2:$H$292,7,TRUE)","v":-76.8797},{"$f":"VLOOKUP(A842,LongLat!$A$2:$H$292,8,TRUE)","v":40.425789999999999},"http://www.summitpost.org/mountain/rock/153642/table-rock.html"]
[1148.5999999999999,"Peters Mt. Shelter (pic)","970’","PA","Schuykill",{"$f":"VLOOKUP(A843,LongLat!$A$2:$H$292,7,TRUE)","v":-76.8797},{"$f":"VLOOKUP(A843,LongLat!$A$2:$H$292,8,TRUE)","v":40.425789999999999},"http://www.summitpost.org/view_object.php?object_id=37146&context_id=383841"]
[1151.2,"Kinter View","1320’","PA","Schuykill",{"$f":"VLOOKUP(A844,LongLat!$A$2:$H$292,7,TRUE)","v":-76.8797},{"$f":"VLOOKUP(A844,LongLat!$A$2:$H$292,8,TRUE)","v":40.425789999999999}]
[1154.7,"spring","700’","PA","Schuykill",{"$f":"VLOOKUP(A845,LongLat!$A$2:$H$292,7,TRUE)","v":-76.8797},{"$f":"VLOOKUP(A845,LongLat!$A$2:$H$292,8,TRUE)","v":40.425789999999999}]
[1155.0999999999999,"PA 325, Clark’s Valley","550’","PA","Schuykill",{"$f":"VLOOKUP(A846,LongLat!$A$2:$H$292,7,TRUE)","v":-76.8797},{"$f":"VLOOKUP(A846,LongLat!$A$2:$H$292,8,TRUE)","v":40.425789999999999}]
[1158.0999999999999,"Stony Mt.","1650’","PA","Schuykill",{"$f":"VLOOKUP(A847,LongLat!$A$2:$H$292,7,TRUE)","v":-76.8797},{"$f":"VLOOKUP(A847,LongLat!$A$2:$H$292,8,TRUE)","v":40.425789999999999},"http://www.summitpost.org/mountain/rock/155295/stony-mountain.html"]
[1161.5,"Yellow Springs Village Site","1450’","PA","Lebanon",{"$f":"VLOOKUP(A848,LongLat!$A$2:$H$292,7,TRUE)","v":-76.8797},{"$f":"VLOOKUP(A848,LongLat!$A$2:$H$292,8,TRUE)","v":40.425789999999999}]
[1163.8,"Cold Spring Trail","1400’","PA","Lebanon",{"$f":"VLOOKUP(A849,LongLat!$A$2:$H$292,7,TRUE)","v":-76.600499999999997},{"$f":"VLOOKUP(A849,LongLat!$A$2:$H$292,8,TRUE)","v":40.498530000000002}]
[1166.0999999999999,"Raush Gap Shelter (pic)","970’","PA","Lebanon",{"$f":"VLOOKUP(A850,LongLat!$A$2:$H$292,7,TRUE)","v":-76.600499999999997},{"$f":"VLOOKUP(A850,LongLat!$A$2:$H$292,8,TRUE)","v":40.498530000000002}]
[1170.7,"PA 443","550’","PA","Lebanon",{"$f":"VLOOKUP(A851,LongLat!$A$2:$H$292,7,TRUE)","v":-76.600499999999997},{"$f":"VLOOKUP(A851,LongLat!$A$2:$H$292,8,TRUE)","v":40.498530000000002}]
[1172.0999999999999,"Swatara Gap, PA 72","480’","PA","Lebanon",{"$f":"VLOOKUP(A852,LongLat!$A$2:$H$292,7,TRUE)","v":-76.600499999999997},{"$f":"VLOOKUP(A852,LongLat!$A$2:$H$292,8,TRUE)","v":40.498530000000002}]
[1172.5,"I-81 Underpass","450’","PA","Lebanon",{"$f":"VLOOKUP(A853,LongLat!$A$2:$H$292,7,TRUE)","v":-76.600499999999997},{"$f":"VLOOKUP(A853,LongLat!$A$2:$H$292,8,TRUE)","v":40.498530000000002}]
[1179.4000000000001,"William Penn Shelter (pic)","1300’","PA","Lebanon",{"$f":"VLOOKUP(A854,LongLat!$A$2:$H$292,7,TRUE)","v":-76.414400000000001},{"$f":"VLOOKUP(A854,LongLat!$A$2:$H$292,8,TRUE)","v":40.495600000000003}]
[1181.5999999999999,"PA 645","1250’","PA","Lebanon",{"$f":"VLOOKUP(A855,LongLat!$A$2:$H$292,7,TRUE)","v":-76.346900000000005},{"$f":"VLOOKUP(A855,LongLat!$A$2:$H$292,8,TRUE)","v":40.512509999999999}]
[1183.5,"501 Shelter (pic)","1460’","PA","Lebanon",{"$f":"VLOOKUP(A856,LongLat!$A$2:$H$292,7,TRUE)","v":-76.346900000000005},{"$f":"VLOOKUP(A856,LongLat!$A$2:$H$292,8,TRUE)","v":40.512509999999999}]
[1184,"Pilger Ruh Spring Trail","1450’","PA","Lebanon",{"$f":"VLOOKUP(A857,LongLat!$A$2:$H$292,7,TRUE)","v":-76.346900000000005},{"$f":"VLOOKUP(A857,LongLat!$A$2:$H$292,8,TRUE)","v":40.512509999999999}]
[1186.5999999999999,"Round Head, Shower Steps","1500’","PA","Carbon",{"$f":"VLOOKUP(A858,LongLat!$A$2:$H$292,7,TRUE)","v":-76.346900000000005},{"$f":"VLOOKUP(A858,LongLat!$A$2:$H$292,8,TRUE)","v":40.512509999999999},"http://www.panoramio.com/photo/2237461"]
[1189.0999999999999,"Hertlein Campsite","1200’","PA","Carbon",{"$f":"VLOOKUP(A859,LongLat!$A$2:$H$292,7,TRUE)","v":-76.346900000000005},{"$f":"VLOOKUP(A859,LongLat!$A$2:$H$292,8,TRUE)","v":40.512509999999999}]
[1189.2,"Shuberts Gap","1200’","PA","Carbon",{"$f":"VLOOKUP(A860,LongLat!$A$2:$H$292,7,TRUE)","v":-76.346900000000005},{"$f":"VLOOKUP(A860,LongLat!$A$2:$H$292,8,TRUE)","v":40.512509999999999}]
[1192.5,"Ft. Dietrich Snyder Marker","1440’","PA","Carbon",{"$f":"VLOOKUP(A861,LongLat!$A$2:$H$292,7,TRUE)","v":-76.346900000000005},{"$f":"VLOOKUP(A861,LongLat!$A$2:$H$292,8,TRUE)","v":40.512509999999999},"http://www.panoramio.com/photo/21790570"]
[1192.8,"PA 183, Rentschler Marker","1450’","PA","Carbon",{"$f":"VLOOKUP(A862,LongLat!$A$2:$H$292,7,TRUE)","v":-76.346900000000005},{"$f":"VLOOKUP(A862,LongLat!$A$2:$H$292,8,TRUE)","v":40.512509999999999}]
[1194.0999999999999,"Black Swatara Spring","1510’","PA","Berks",{"$f":"VLOOKUP(A863,LongLat!$A$2:$H$292,7,TRUE)","v":-76.346900000000005},{"$f":"VLOOKUP(A863,LongLat!$A$2:$H$292,8,TRUE)","v":40.512509999999999}]
[1197.9000000000001,"Sand Spring Trail","1510’","PA","Berks",{"$f":"VLOOKUP(A864,LongLat!$A$2:$H$292,7,TRUE)","v":-76.152699999999996},{"$f":"VLOOKUP(A864,LongLat!$A$2:$H$292,8,TRUE)","v":40.549289999999999}]
[1198.5999999999999,"Eagle’s Nest Shelter (pic)","1510’","PA","Berks",{"$f":"VLOOKUP(A865,LongLat!$A$2:$H$292,7,TRUE)","v":-76.152699999999996},{"$f":"VLOOKUP(A865,LongLat!$A$2:$H$292,8,TRUE)","v":40.549289999999999}]
[1200.5,"Shartlesville Cross-Mt. Rd.","1450’","PA","Berks",{"$f":"VLOOKUP(A866,LongLat!$A$2:$H$292,7,TRUE)","v":-76.152699999999996},{"$f":"VLOOKUP(A866,LongLat!$A$2:$H$292,8,TRUE)","v":40.549289999999999}]
[1203.2,"Phillip’s Canyon Spring","1500’","PA","Berks",{"$f":"VLOOKUP(A867,LongLat!$A$2:$H$292,7,TRUE)","v":-76.152699999999996},{"$f":"VLOOKUP(A867,LongLat!$A$2:$H$292,8,TRUE)","v":40.549289999999999}]
[1207.2,"Port Clinton","400’","PA","Schuykill",{"$f":"VLOOKUP(A868,LongLat!$A$2:$H$292,7,TRUE)","v":-76.152699999999996},{"$f":"VLOOKUP(A868,LongLat!$A$2:$H$292,8,TRUE)","v":40.549289999999999}]
[1207.9000000000001,"PA 61, Hamburg","490’","PA","Schuykill",{"$f":"VLOOKUP(A869,LongLat!$A$2:$H$292,7,TRUE)","v":-76.152699999999996},{"$f":"VLOOKUP(A869,LongLat!$A$2:$H$292,8,TRUE)","v":40.549289999999999}]
[1210.5,"Pocahontas Spring","1200’","PA","Schuykill",{"$f":"VLOOKUP(A870,LongLat!$A$2:$H$292,7,TRUE)","v":-75.942300000000003},{"$f":"VLOOKUP(A870,LongLat!$A$2:$H$292,8,TRUE)","v":40.590290000000003}]
[1213.0999999999999,"Windsor Furnace","900’","PA","Berks",{"$f":"VLOOKUP(A871,LongLat!$A$2:$H$292,7,TRUE)","v":-75.942300000000003},{"$f":"VLOOKUP(A871,LongLat!$A$2:$H$292,8,TRUE)","v":40.590290000000003}]
[1213.3,"Windsor Furnace Shelter (pic)","880’","PA","Berks",{"$f":"VLOOKUP(A872,LongLat!$A$2:$H$292,7,TRUE)","v":-75.942300000000003},{"$f":"VLOOKUP(A872,LongLat!$A$2:$H$292,8,TRUE)","v":40.590290000000003}]
[1214.9000000000001,"Pulpit Rock","1582’","PA","Berks",{"$f":"VLOOKUP(A873,LongLat!$A$2:$H$292,7,TRUE)","v":-75.942300000000003},{"$f":"VLOOKUP(A873,LongLat!$A$2:$H$292,8,TRUE)","v":40.590290000000003},"http://www.summitpost.org/image/138203/167732/the-lehigh-valley-from-atop.html"]
[1216.7,"Blue Rocks Campground side trail","1150’","PA","Berks",{"$f":"VLOOKUP(A874,LongLat!$A$2:$H$292,7,TRUE)","v":-75.942300000000003},{"$f":"VLOOKUP(A874,LongLat!$A$2:$H$292,8,TRUE)","v":40.590290000000003},"http://www.bluerockscampground.com/"]
[1217.0999999999999,"The Pinnacle","1615’","PA","Berks",{"$f":"VLOOKUP(A875,LongLat!$A$2:$H$292,7,TRUE)","v":-75.942300000000003},{"$f":"VLOOKUP(A875,LongLat!$A$2:$H$292,8,TRUE)","v":40.590290000000003},"http://www.summitpost.org/mountain/rock/152545/the-pinnacle.html"]
[1222.4000000000001,"Eckville Shelter (pic)","535’","PA","Berks",{"$f":"VLOOKUP(A876,LongLat!$A$2:$H$292,7,TRUE)","v":-75.958799999999997},{"$f":"VLOOKUP(A876,LongLat!$A$2:$H$292,8,TRUE)","v":40.632840000000002}]
[1228.5,"Tri-County Corner","1560’","PA","Lehigh",{"$f":"VLOOKUP(A877,LongLat!$A$2:$H$292,7,TRUE)","v":-75.874399999999994},{"$f":"VLOOKUP(A877,LongLat!$A$2:$H$292,8,TRUE)","v":40.683059999999998}]
[1229.8,"Allentown Hiking Club Shelter","1350’","PA","Lehigh",{"$f":"VLOOKUP(A878,LongLat!$A$2:$H$292,7,TRUE)","v":-75.874399999999994},{"$f":"VLOOKUP(A878,LongLat!$A$2:$H$292,8,TRUE)","v":40.683059999999998},"http://www.cs.utk.edu/~dunigan/at/m.php?wpt=Allentown"]
[1231.7,"Ft. Franklin Rd.","1350’","PA","Lehigh",{"$f":"VLOOKUP(A879,LongLat!$A$2:$H$292,7,TRUE)","v":-75.874399999999994},{"$f":"VLOOKUP(A879,LongLat!$A$2:$H$292,8,TRUE)","v":40.683059999999998}]
[1233.9000000000001,"Blue Mt. Summit","1360’","PA","Lehigh",{"$f":"VLOOKUP(A880,LongLat!$A$2:$H$292,7,TRUE)","v":-75.874399999999994},{"$f":"VLOOKUP(A880,LongLat!$A$2:$H$292,8,TRUE)","v":40.683059999999998}]
[1235.7,"New Tripoli Campsite","1400’","PA","Lehigh",{"$f":"VLOOKUP(A881,LongLat!$A$2:$H$292,7,TRUE)","v":-75.874399999999994},{"$f":"VLOOKUP(A881,LongLat!$A$2:$H$292,8,TRUE)","v":40.683059999999998}]
[1236.7,"The Cliffs, Knife Edge","1525’","PA","Lehigh",{"$f":"VLOOKUP(A882,LongLat!$A$2:$H$292,7,TRUE)","v":-75.727400000000003},{"$f":"VLOOKUP(A882,LongLat!$A$2:$H$292,8,TRUE)","v":40.75412}]
[1237.4000000000001,"Bear Rocks","1604’","PA","Lehigh",{"$f":"VLOOKUP(A883,LongLat!$A$2:$H$292,7,TRUE)","v":-75.727400000000003},{"$f":"VLOOKUP(A883,LongLat!$A$2:$H$292,8,TRUE)","v":40.75412}]
[1238.8,"Bake Oven Knob Rd.","1450’","PA","Lehigh",{"$f":"VLOOKUP(A884,LongLat!$A$2:$H$292,7,TRUE)","v":-75.727400000000003},{"$f":"VLOOKUP(A884,LongLat!$A$2:$H$292,8,TRUE)","v":40.75412}]
[1239.2,"Bake Oven Knob","1585’","PA","Lehigh",{"$f":"VLOOKUP(A885,LongLat!$A$2:$H$292,7,TRUE)","v":-75.727400000000003},{"$f":"VLOOKUP(A885,LongLat!$A$2:$H$292,8,TRUE)","v":40.75412},"http://www.summitpost.org/mountain/rock/605144/bake-oven-knob.html"]
[1239.8,"Bake Oven Knob Shelter (pic)","1380’","PA","Lehigh",{"$f":"VLOOKUP(A886,LongLat!$A$2:$H$292,7,TRUE)","v":-75.727400000000003},{"$f":"VLOOKUP(A886,LongLat!$A$2:$H$292,8,TRUE)","v":40.75412}]
[1242.2,"Lehigh Furnace Gap, PA 873","1320’","PA","Lehigh",{"$f":"VLOOKUP(A887,LongLat!$A$2:$H$292,7,TRUE)","v":-75.727400000000003},{"$f":"VLOOKUP(A887,LongLat!$A$2:$H$292,8,TRUE)","v":40.75412},"http://www.flickr.com/photos/barrywen2004/624838131/"]
[1246.5999999999999,"George W. Outerbridge Shelter (pic)","1000’","PA","Lehigh",{"$f":"VLOOKUP(A888,LongLat!$A$2:$H$292,7,TRUE)","v":-75.618300000000005},{"$f":"VLOOKUP(A888,LongLat!$A$2:$H$292,8,TRUE)","v":40.782490000000003},"http://farm4.static.flickr.com/3058/3064664782_4c203eb124.jpg?v=1227842242"]
[1247.2,"Lehigh Gap, PA 873, Slatington","380’","PA","Lehigh",{"$f":"VLOOKUP(A889,LongLat!$A$2:$H$292,7,TRUE)","v":-75.618300000000005},{"$f":"VLOOKUP(A889,LongLat!$A$2:$H$292,8,TRUE)","v":40.782490000000003}]
[1247.3,"Lehigh River Bridge, PA 873","380’","PA","Lehigh",{"$f":"VLOOKUP(A890,LongLat!$A$2:$H$292,7,TRUE)","v":-75.618300000000005},{"$f":"VLOOKUP(A890,LongLat!$A$2:$H$292,8,TRUE)","v":40.782490000000003}]
[1247.5,"PA 145, Walnutport","380’","PA","Lehigh",{"$f":"VLOOKUP(A891,LongLat!$A$2:$H$292,7,TRUE)","v":-75.618300000000005},{"$f":"VLOOKUP(A891,LongLat!$A$2:$H$292,8,TRUE)","v":40.782490000000003}]
[1252.5999999999999,"Little Gap, Danielsville","1100’","PA","Berks",{"$f":"VLOOKUP(A892,LongLat!$A$2:$H$292,7,TRUE)","v":-75.618300000000005},{"$f":"VLOOKUP(A892,LongLat!$A$2:$H$292,8,TRUE)","v":40.782490000000003}]
[1257.4000000000001,"Delps Trail","1580’","PA","Berks",{"$f":"VLOOKUP(A893,LongLat!$A$2:$H$292,7,TRUE)","v":-75.618300000000005},{"$f":"VLOOKUP(A893,LongLat!$A$2:$H$292,8,TRUE)","v":40.782490000000003}]
[1259.2,"Stempa Spring","1510’","PA","Berks",{"$f":"VLOOKUP(A894,LongLat!$A$2:$H$292,7,TRUE)","v":-75.618300000000005},{"$f":"VLOOKUP(A894,LongLat!$A$2:$H$292,8,TRUE)","v":40.782490000000003}]
[1259.9000000000001,"Smith Gap Rd.","1540’","PA","Berks",{"$f":"VLOOKUP(A895,LongLat!$A$2:$H$292,7,TRUE)","v":-75.359800000000007},{"$f":"VLOOKUP(A895,LongLat!$A$2:$H$292,8,TRUE)","v":40.839350000000003}]
[1263.4000000000001,"Leroy A. Smith Shelter (pic)","1410’","PA","Monroe",{"$f":"VLOOKUP(A896,LongLat!$A$2:$H$292,7,TRUE)","v":-75.359800000000007},{"$f":"VLOOKUP(A896,LongLat!$A$2:$H$292,8,TRUE)","v":40.839350000000003}]
[1267,"Hahns Lookout","1450’","PA","Monroe",{"$f":"VLOOKUP(A897,LongLat!$A$2:$H$292,7,TRUE)","v":-75.359800000000007},{"$f":"VLOOKUP(A897,LongLat!$A$2:$H$292,8,TRUE)","v":40.839350000000003},"http://media.photobucket.com/image/Hahns Lookout/sneezehorse/hike211 4-2-6/007.jpg"]
[1268,"Wind Gap, PA 33","980’","PA","Monroe",{"$f":"VLOOKUP(A898,LongLat!$A$2:$H$292,7,TRUE)","v":-75.359800000000007},{"$f":"VLOOKUP(A898,LongLat!$A$2:$H$292,8,TRUE)","v":40.839350000000003}]
[1275,"Wolf Rocks","1550’","PA","Monroe",{"$f":"VLOOKUP(A899,LongLat!$A$2:$H$292,7,TRUE)","v":-75.186899999999994},{"$f":"VLOOKUP(A899,LongLat!$A$2:$H$292,8,TRUE)","v":40.936700000000002},"http://www.summitpost.org/mountain/rock/241413/wolf-rocks.html"]
[1276.5999999999999,"Fox Gap, PA 191","1400’","PA","Monroe",{"$f":"VLOOKUP(A900,LongLat!$A$2:$H$292,7,TRUE)","v":-75.186899999999994},{"$f":"VLOOKUP(A900,LongLat!$A$2:$H$292,8,TRUE)","v":40.936700000000002}]
[1277.2,"Kirkridge Shelter (pic)","1480’","PA","Monroe",{"$f":"VLOOKUP(A901,LongLat!$A$2:$H$292,7,TRUE)","v":-75.186899999999994},{"$f":"VLOOKUP(A901,LongLat!$A$2:$H$292,8,TRUE)","v":40.936700000000002},"http://www.summitpost.org/view_object.php?object_id=186597&context_id=383841"]
[1279.0999999999999,"Totts Gap","1300’","PA","Monroe",{"$f":"VLOOKUP(A902,LongLat!$A$2:$H$292,7,TRUE)","v":-75.186899999999994},{"$f":"VLOOKUP(A902,LongLat!$A$2:$H$292,8,TRUE)","v":40.936700000000002},"http://www.flickr.com/photos/nicholas_t/251877841/"]
[1281.0999999999999,"Mt. Minsi","1461’","PA","Monroe",{"$f":"VLOOKUP(A903,LongLat!$A$2:$H$292,7,TRUE)","v":-75.186899999999994},{"$f":"VLOOKUP(A903,LongLat!$A$2:$H$292,8,TRUE)","v":40.936700000000002},"http://www.summitpost.org/mountain/rock/152932/delaware-water-gap-mt-minsi.html"]
[1282.0999999999999,"Lookout Rock","800’","PA","Monroe",{"$f":"VLOOKUP(A904,LongLat!$A$2:$H$292,7,TRUE)","v":-75.186899999999994},{"$f":"VLOOKUP(A904,LongLat!$A$2:$H$292,8,TRUE)","v":40.936700000000002},"http://www.panoramio.com/photo/864475"]
[1282.9000000000001,"Council Rock","600’","PA","Monroe",{"$f":"VLOOKUP(A905,LongLat!$A$2:$H$292,7,TRUE)","v":-75.186899999999994},{"$f":"VLOOKUP(A905,LongLat!$A$2:$H$292,8,TRUE)","v":40.936700000000002},"http://purebound.com/AT/pennsylvania/billy_at_council_rock.jpg"]
[1283.5999999999999,"PA 611, Delaware Water Gap","400’","PA","Monroe",{"$f":"VLOOKUP(A906,LongLat!$A$2:$H$292,7,TRUE)","v":-75.186899999999994},{"$f":"VLOOKUP(A906,LongLat!$A$2:$H$292,8,TRUE)","v":40.936700000000002}]
[1283.8,"Delaware River, PA-NJ State Line","350’",null,null,{"$f":"VLOOKUP(A907,LongLat!$A$2:$H$292,7,TRUE)","v":-75.186899999999994},{"$f":"VLOOKUP(A907,LongLat!$A$2:$H$292,8,TRUE)","v":40.936700000000002},"http://purebound.com/AT/new_jersey_new_york/interstate_80_bridge.jpg"]
[1284.7,"Delaware Water Gap NRA Visitors Center","350’","NJ","Sussex",{"$f":"VLOOKUP(A908,LongLat!$A$2:$H$292,7,TRUE)","v":-75.186899999999994},{"$f":"VLOOKUP(A908,LongLat!$A$2:$H$292,8,TRUE)","v":40.936700000000002},"http://www.nps.gov/DEWA/index.htm"]
[1286.7,"Holly Springs Trail","950’","NJ","Sussex",{"$f":"VLOOKUP(A909,LongLat!$A$2:$H$292,7,TRUE)","v":-75.186899999999994},{"$f":"VLOOKUP(A909,LongLat!$A$2:$H$292,8,TRUE)","v":40.936700000000002}]
[1288.3,"backpacker campsite","1300’","NJ","Sussex",{"$f":"VLOOKUP(A910,LongLat!$A$2:$H$292,7,TRUE)","v":-75.186899999999994},{"$f":"VLOOKUP(A910,LongLat!$A$2:$H$292,8,TRUE)","v":40.936700000000002}]
[1289.5999999999999,"Sunfish Pond","1382’","NJ","Sussex",{"$f":"VLOOKUP(A911,LongLat!$A$2:$H$292,7,TRUE)","v":-75.186899999999994},{"$f":"VLOOKUP(A911,LongLat!$A$2:$H$292,8,TRUE)","v":40.936700000000002},"http://en.wikipedia.org/wiki/File:SunfishPond.jpg"]
[1289.7,"spring","1400’","NJ","Sussex",{"$f":"VLOOKUP(A912,LongLat!$A$2:$H$292,7,TRUE)","v":-75.186899999999994},{"$f":"VLOOKUP(A912,LongLat!$A$2:$H$292,8,TRUE)","v":40.936700000000002}]
[1291.4000000000001,"Herbert Hillar Plaque","1400’","NJ","Sussex",{"$f":"VLOOKUP(A913,LongLat!$A$2:$H$292,7,TRUE)","v":-75.186899999999994},{"$f":"VLOOKUP(A913,LongLat!$A$2:$H$292,8,TRUE)","v":40.936700000000002}]
[1294,"Mohican Outdoor Center","1150’","NJ","Sussex",{"$f":"VLOOKUP(A914,LongLat!$A$2:$H$292,7,TRUE)","v":-75.186899999999994},{"$f":"VLOOKUP(A914,LongLat!$A$2:$H$292,8,TRUE)","v":40.936700000000002},"http://www.outdoors.org/lodging/lodges/mohican/index.cfm"]
[1296.4000000000001,"Catfish Fire Tower","1565’","NJ","Sussex",{"$f":"VLOOKUP(A915,LongLat!$A$2:$H$292,7,TRUE)","v":-75.186899999999994},{"$f":"VLOOKUP(A915,LongLat!$A$2:$H$292,8,TRUE)","v":40.936700000000002},"http://www.summitpost.org/mountain/rock/153558/catfish-ledges.html"]
[1297,"Rattlesnake Spring","1260’","NJ","Sussex",{"$f":"VLOOKUP(A916,LongLat!$A$2:$H$292,7,TRUE)","v":-75.186899999999994},{"$f":"VLOOKUP(A916,LongLat!$A$2:$H$292,8,TRUE)","v":40.936700000000002}]
[1297.4000000000001,"CR 602","1350’","NJ","Sussex",{"$f":"VLOOKUP(A917,LongLat!$A$2:$H$292,7,TRUE)","v":-75.186899999999994},{"$f":"VLOOKUP(A917,LongLat!$A$2:$H$292,8,TRUE)","v":40.936700000000002}]
[1301.3,"Blue Mt. Lakes Rd.","1350’","NJ","Sussex",{"$f":"VLOOKUP(A918,LongLat!$A$2:$H$292,7,TRUE)","v":-75.186899999999994},{"$f":"VLOOKUP(A918,LongLat!$A$2:$H$292,8,TRUE)","v":40.936700000000002}]
[1303.3,"Crater Lake","1360’","NJ","Sussex",{"$f":"VLOOKUP(A919,LongLat!$A$2:$H$292,7,TRUE)","v":-75.186899999999994},{"$f":"VLOOKUP(A919,LongLat!$A$2:$H$292,8,TRUE)","v":40.936700000000002},"http://www.panoramio.com/photo/13628857"]
[1306.0999999999999,"Rattlesnake Mt.","1492’","NJ","Sussex",{"$f":"VLOOKUP(A920,LongLat!$A$2:$H$292,7,TRUE)","v":-74.838200000000001},{"$f":"VLOOKUP(A920,LongLat!$A$2:$H$292,8,TRUE)","v":41.153199999999998},"http://www.summitpost.org/mountain/rock/153582/blue-bird-and-rattlesnake-mountains.html"]
[1308.3,"Brink Rd. Shelter (pic)","1110’","NJ","Sussex",{"$f":"VLOOKUP(A921,LongLat!$A$2:$H$292,7,TRUE)","v":-74.838200000000001},{"$f":"VLOOKUP(A921,LongLat!$A$2:$H$292,8,TRUE)","v":41.153199999999998},"http://www.summitpost.org/view_object.php?object_id=107068&context_id=383841"]
[1311.9,"Culvers Gap, US 206","935’","NJ","Sussex",{"$f":"VLOOKUP(A922,LongLat!$A$2:$H$292,7,TRUE)","v":-74.753100000000003},{"$f":"VLOOKUP(A922,LongLat!$A$2:$H$292,8,TRUE)","v":41.199390000000001}]
[1313.8,"Culver Fire Tower","1550’","NJ","Sussex",{"$f":"VLOOKUP(A923,LongLat!$A$2:$H$292,7,TRUE)","v":-74.753100000000003},{"$f":"VLOOKUP(A923,LongLat!$A$2:$H$292,8,TRUE)","v":41.199390000000001},"http://www.summitpost.org/mountain/rock/155231/culver-ridge-normanook.html"]
[1314.9,"Gren Anderson Shelter (pic)","1320’","NJ","Sussex",{"$f":"VLOOKUP(A924,LongLat!$A$2:$H$292,7,TRUE)","v":-74.753100000000003},{"$f":"VLOOKUP(A924,LongLat!$A$2:$H$292,8,TRUE)","v":41.199390000000001},"http://www.summitpost.org/view_object.php?object_id=144035&context_id=383841"]
[1317.3,"Sunrise Mt.","1653’","NJ","Sussex",{"$f":"VLOOKUP(A925,LongLat!$A$2:$H$292,7,TRUE)","v":-74.686800000000005},{"$f":"VLOOKUP(A925,LongLat!$A$2:$H$292,8,TRUE)","v":41.252119999999998},"http://www.summitpost.org/mountain/rock/154250/sunrise-mountain-nj.html"]
[1320.7,"Mashipacong Shelter (pic)","1425’","NJ","Sussex",{"$f":"VLOOKUP(A926,LongLat!$A$2:$H$292,7,TRUE)","v":-74.6785},{"$f":"VLOOKUP(A926,LongLat!$A$2:$H$292,8,TRUE)","v":41.277470000000001}]
[1323.6,"Rutherford Shelter (pic)","1345’","NJ","Sussex",{"$f":"VLOOKUP(A927,LongLat!$A$2:$H$292,7,TRUE)","v":-74.6785},{"$f":"VLOOKUP(A927,LongLat!$A$2:$H$292,8,TRUE)","v":41.277470000000001},"http://www.panoramio.com/photo/20737446"]
[1326.2,"High Point State Park, NJ 23","1500’","NJ","Sussex",{"$f":"VLOOKUP(A928,LongLat!$A$2:$H$292,7,TRUE)","v":-74.643799999999999},{"$f":"VLOOKUP(A928,LongLat!$A$2:$H$292,8,TRUE)","v":41.327750000000002},"http://www.summitpost.org/mountain/rock/152438/high-point-new-jersey.html"]
[1327.9,"High Point Shelter (pic)","1280’","NJ","Sussex",{"$f":"VLOOKUP(A929,LongLat!$A$2:$H$292,7,TRUE)","v":-74.643799999999999},{"$f":"VLOOKUP(A929,LongLat!$A$2:$H$292,8,TRUE)","v":41.327750000000002}]
[1329.2,"CR 519","1100’","NJ","Sussex",{"$f":"VLOOKUP(A930,LongLat!$A$2:$H$292,7,TRUE)","v":-74.643799999999999},{"$f":"VLOOKUP(A930,LongLat!$A$2:$H$292,8,TRUE)","v":41.327750000000002}]
[1331.8,"Gemmer Rd.","740’","NJ","Sussex",{"$f":"VLOOKUP(A931,LongLat!$A$2:$H$292,7,TRUE)","v":-74.643799999999999},{"$f":"VLOOKUP(A931,LongLat!$A$2:$H$292,8,TRUE)","v":41.327750000000002}]
[1332.8,"Goodrich Rd.","610’","NJ","Sussex",{"$f":"VLOOKUP(A932,LongLat!$A$2:$H$292,7,TRUE)","v":-74.643799999999999},{"$f":"VLOOKUP(A932,LongLat!$A$2:$H$292,8,TRUE)","v":41.327750000000002}]
[1333.2,"Jim Murray property side trail","660’","NJ","Sussex",{"$f":"VLOOKUP(A933,LongLat!$A$2:$H$292,7,TRUE)","v":-74.643799999999999},{"$f":"VLOOKUP(A933,LongLat!$A$2:$H$292,8,TRUE)","v":41.327750000000002}]
[1333.3,"Goldsmith Rd.","600’","NJ","Sussex",{"$f":"VLOOKUP(A934,LongLat!$A$2:$H$292,7,TRUE)","v":-74.643799999999999},{"$f":"VLOOKUP(A934,LongLat!$A$2:$H$292,8,TRUE)","v":41.327750000000002}]
[1334.1,"Unionville Rd.","610’","NJ","Sussex",{"$f":"VLOOKUP(A935,LongLat!$A$2:$H$292,7,TRUE)","v":-74.643799999999999},{"$f":"VLOOKUP(A935,LongLat!$A$2:$H$292,8,TRUE)","v":41.327750000000002}]
[1335,"Lott Rd, Unionville","590’","NJ","Sussex",{"$f":"VLOOKUP(A936,LongLat!$A$2:$H$292,7,TRUE)","v":-74.643799999999999},{"$f":"VLOOKUP(A936,LongLat!$A$2:$H$292,8,TRUE)","v":41.327750000000002}]
[1336,"NJ 284","420’","NJ","Sussex",{"$f":"VLOOKUP(A937,LongLat!$A$2:$H$292,7,TRUE)","v":-74.643799999999999},{"$f":"VLOOKUP(A937,LongLat!$A$2:$H$292,8,TRUE)","v":41.327750000000002}]
[1336.5,"Oil City Rd.","400’","NJ","Sussex",{"$f":"VLOOKUP(A938,LongLat!$A$2:$H$292,7,TRUE)","v":-74.516300000000001},{"$f":"VLOOKUP(A938,LongLat!$A$2:$H$292,8,TRUE)","v":41.27167}]
[1337.5,"Wallkill River NWR","410’","NJ","Sussex",{"$f":"VLOOKUP(A939,LongLat!$A$2:$H$292,7,TRUE)","v":-74.516300000000001},{"$f":"VLOOKUP(A939,LongLat!$A$2:$H$292,8,TRUE)","v":41.27167}]
[1339.8,"Lake Wallkill Rd.","440’","NJ","Sussex",{"$f":"VLOOKUP(A940,LongLat!$A$2:$H$292,7,TRUE)","v":-74.516300000000001},{"$f":"VLOOKUP(A940,LongLat!$A$2:$H$292,8,TRUE)","v":41.27167}]
[1340.3,"Pochuck Mt. Shelter (pic)","840’","NJ","Sussex",{"$f":"VLOOKUP(A941,LongLat!$A$2:$H$292,7,TRUE)","v":-74.516300000000001},{"$f":"VLOOKUP(A941,LongLat!$A$2:$H$292,8,TRUE)","v":41.27167},"http://www.danbalogh.com/photos/pochuckmt/pochuckmt-34.JPG"]
[1341.8,"Pochuck Mt.","985’","NJ","Sussex",{"$f":"VLOOKUP(A942,LongLat!$A$2:$H$292,7,TRUE)","v":-74.516300000000001},{"$f":"VLOOKUP(A942,LongLat!$A$2:$H$292,8,TRUE)","v":41.27167},"http://www.summitpost.org/mountain/rock/154281/pochuck-mountain.html"]
[1343,"CR 565","720’","NJ","Sussex",{"$f":"VLOOKUP(A943,LongLat!$A$2:$H$292,7,TRUE)","v":-74.516300000000001},{"$f":"VLOOKUP(A943,LongLat!$A$2:$H$292,8,TRUE)","v":41.27167}]
[1344.5,"CR 517, Glenwood","440’","NJ","Sussex",{"$f":"VLOOKUP(A944,LongLat!$A$2:$H$292,7,TRUE)","v":-74.516300000000001},{"$f":"VLOOKUP(A944,LongLat!$A$2:$H$292,8,TRUE)","v":41.27167}]
[1345.2,"Pochuck Creek Footbridge","410’","NJ","Sussex",{"$f":"VLOOKUP(A945,LongLat!$A$2:$H$292,7,TRUE)","v":-74.516300000000001},{"$f":"VLOOKUP(A945,LongLat!$A$2:$H$292,8,TRUE)","v":41.27167},"http://www.bridgemeister.com/imgpom/ponjpochuck2.jpg"]
[1345.9,"Canal Rd.","410’","NJ","Sussex",{"$f":"VLOOKUP(A946,LongLat!$A$2:$H$292,7,TRUE)","v":-74.516300000000001},{"$f":"VLOOKUP(A946,LongLat!$A$2:$H$292,8,TRUE)","v":41.27167}]
[1346.8,"NJ 94, Vernon","450’","NJ","Sussex",{"$f":"VLOOKUP(A947,LongLat!$A$2:$H$292,7,TRUE)","v":-74.516300000000001},{"$f":"VLOOKUP(A947,LongLat!$A$2:$H$292,8,TRUE)","v":41.27167}]
[1348.2,"Wawayanda Mt.","1340’","NJ","Sussex",{"$f":"VLOOKUP(A948,LongLat!$A$2:$H$292,7,TRUE)","v":-74.398499999999999},{"$f":"VLOOKUP(A948,LongLat!$A$2:$H$292,8,TRUE)","v":41.202190000000002},"http://www.summitpost.org/mountain/rock/153948/wawayanda-mountain.html"]
[1349.9,"Barrett Rd.","1140’","NJ","Sussex",{"$f":"VLOOKUP(A949,LongLat!$A$2:$H$292,7,TRUE)","v":-74.398499999999999},{"$f":"VLOOKUP(A949,LongLat!$A$2:$H$292,8,TRUE)","v":41.202190000000002}]
[1351,"Iron Mt. Rd. Bridge","1060’","NJ","Sussex",{"$f":"VLOOKUP(A950,LongLat!$A$2:$H$292,7,TRUE)","v":-74.398499999999999},{"$f":"VLOOKUP(A950,LongLat!$A$2:$H$292,8,TRUE)","v":41.202190000000002}]
[1351.7,"Wawayanda Rd.","1150’","NJ","Sussex",{"$f":"VLOOKUP(A951,LongLat!$A$2:$H$292,7,TRUE)","v":-74.398499999999999},{"$f":"VLOOKUP(A951,LongLat!$A$2:$H$292,8,TRUE)","v":41.202190000000002}]
[1351.9,"Wawayanda Shelter (pic)","1200’","NJ","Sussex",{"$f":"VLOOKUP(A952,LongLat!$A$2:$H$292,7,TRUE)","v":-74.398499999999999},{"$f":"VLOOKUP(A952,LongLat!$A$2:$H$292,8,TRUE)","v":41.202190000000002}]
[1352.3,"Warwick Turnpike","1140’","NJ","Sussex",{"$f":"VLOOKUP(A953,LongLat!$A$2:$H$292,7,TRUE)","v":-74.398499999999999},{"$f":"VLOOKUP(A953,LongLat!$A$2:$H$292,8,TRUE)","v":41.202190000000002}]
[1353.7,"Long House (Brady Rd.)","1080’","NJ","Sussex",{"$f":"VLOOKUP(A954,LongLat!$A$2:$H$292,7,TRUE)","v":-74.398499999999999},{"$f":"VLOOKUP(A954,LongLat!$A$2:$H$292,8,TRUE)","v":41.202190000000002}]
[1354.8,"Long House Creek","1085’","NJ","Sussex",{"$f":"VLOOKUP(A955,LongLat!$A$2:$H$292,7,TRUE)","v":-74.398499999999999},{"$f":"VLOOKUP(A955,LongLat!$A$2:$H$292,8,TRUE)","v":41.202190000000002},"http://www.panoramio.com/photo/4540597"]
[1355.9,"State Line Trail, NJ-NY State Line","1385’",null,null,{"$f":"VLOOKUP(A956,LongLat!$A$2:$H$292,7,TRUE)","v":-74.398499999999999},{"$f":"VLOOKUP(A956,LongLat!$A$2:$H$292,8,TRUE)","v":41.202190000000002}]
[1356.4,"Prospect Rock","1433’","NY","Dutchess",{"$f":"VLOOKUP(A957,LongLat!$A$2:$H$292,7,TRUE)","v":-74.398499999999999},{"$f":"VLOOKUP(A957,LongLat!$A$2:$H$292,8,TRUE)","v":41.202190000000002}]
[1359.2,"Village Vista Trail, Greenwood Lake","1180’","NY","Dutchess",{"$f":"VLOOKUP(A958,LongLat!$A$2:$H$292,7,TRUE)","v":-74.398499999999999},{"$f":"VLOOKUP(A958,LongLat!$A$2:$H$292,8,TRUE)","v":41.202190000000002}]
[1361.9,"NY 17A","1180’","NY","Dutchess",{"$f":"VLOOKUP(A959,LongLat!$A$2:$H$292,7,TRUE)","v":-74.268299999999996},{"$f":"VLOOKUP(A959,LongLat!$A$2:$H$292,8,TRUE)","v":41.268349999999998}]
[1363.2,"Eastern Pinnacles","1294’","NY","Dutchess",{"$f":"VLOOKUP(A960,LongLat!$A$2:$H$292,7,TRUE)","v":-74.268299999999996},{"$f":"VLOOKUP(A960,LongLat!$A$2:$H$292,8,TRUE)","v":41.268349999999998}]
[1363.7,"Cat Rocks","1080’","NY","Dutchess",{"$f":"VLOOKUP(A961,LongLat!$A$2:$H$292,7,TRUE)","v":-74.268299999999996},{"$f":"VLOOKUP(A961,LongLat!$A$2:$H$292,8,TRUE)","v":41.268349999999998}]
[1364,"Wildcat Shelter (pic)","1180’","NY","Dutchess",{"$f":"VLOOKUP(A962,LongLat!$A$2:$H$292,7,TRUE)","v":-74.268299999999996},{"$f":"VLOOKUP(A962,LongLat!$A$2:$H$292,8,TRUE)","v":41.268349999999998}]
[1365.5,"Lakes Rd.","680’","NY","Dutchess",{"$f":"VLOOKUP(A963,LongLat!$A$2:$H$292,7,TRUE)","v":-74.268299999999996},{"$f":"VLOOKUP(A963,LongLat!$A$2:$H$292,8,TRUE)","v":41.268349999999998}]
[1365.8,"Fitzgerald Falls","800’","NY","Orange",{"$f":"VLOOKUP(A964,LongLat!$A$2:$H$292,7,TRUE)","v":-74.268299999999996},{"$f":"VLOOKUP(A964,LongLat!$A$2:$H$292,8,TRUE)","v":41.268349999999998}]
[1367.8,"Mombasha High Pt.","1280’","NY","Orange",{"$f":"VLOOKUP(A965,LongLat!$A$2:$H$292,7,TRUE)","v":-74.268299999999996},{"$f":"VLOOKUP(A965,LongLat!$A$2:$H$292,8,TRUE)","v":41.268349999999998},"http://media.photobucket.com/image/Mombasha/sneezehorse5/hike 425 7-5-9/035.jpg"]
[1369,"West Mombasha Rd.","980’","NY","Orange",{"$f":"VLOOKUP(A966,LongLat!$A$2:$H$292,7,TRUE)","v":-74.268299999999996},{"$f":"VLOOKUP(A966,LongLat!$A$2:$H$292,8,TRUE)","v":41.268349999999998}]
[1369.9,"Buchanan Mt.","1142’","NY","Orange",{"$f":"VLOOKUP(A967,LongLat!$A$2:$H$292,7,TRUE)","v":-74.268299999999996},{"$f":"VLOOKUP(A967,LongLat!$A$2:$H$292,8,TRUE)","v":41.268349999999998}]
[1370.7,"East Mombasha Rd.","840’","NY","Orange",{"$f":"VLOOKUP(A968,LongLat!$A$2:$H$292,7,TRUE)","v":-74.268299999999996},{"$f":"VLOOKUP(A968,LongLat!$A$2:$H$292,8,TRUE)","v":41.268349999999998}]
[1371.4,"Little Dam Lake","720’","NY","Orange",{"$f":"VLOOKUP(A969,LongLat!$A$2:$H$292,7,TRUE)","v":-74.268299999999996},{"$f":"VLOOKUP(A969,LongLat!$A$2:$H$292,8,TRUE)","v":41.268349999999998},"http://media.photobucket.com/image/Little Dam Lake NY/sneezehorse5/hike 425 7-5-9/031.jpg"]
[1372.1,"Orange Turnpike","780’","NY","Orange",{"$f":"VLOOKUP(A970,LongLat!$A$2:$H$292,7,TRUE)","v":-74.268299999999996},{"$f":"VLOOKUP(A970,LongLat!$A$2:$H$292,8,TRUE)","v":41.268349999999998}]
[1372.8,"Arden Mt, Agony Grind","1180’","NY","Orange",{"$f":"VLOOKUP(A971,LongLat!$A$2:$H$292,7,TRUE)","v":-74.268299999999996},{"$f":"VLOOKUP(A971,LongLat!$A$2:$H$292,8,TRUE)","v":41.268349999999998},"http://www.panoramio.com/photo/10466116"]
[1373.9,"NY 17","550’","NY","Orange",{"$f":"VLOOKUP(A972,LongLat!$A$2:$H$292,7,TRUE)","v":-74.268299999999996},{"$f":"VLOOKUP(A972,LongLat!$A$2:$H$292,8,TRUE)","v":41.268349999999998}]
[1374.1,"I-87","560’","NY","Orange",{"$f":"VLOOKUP(A973,LongLat!$A$2:$H$292,7,TRUE)","v":-74.268299999999996},{"$f":"VLOOKUP(A973,LongLat!$A$2:$H$292,8,TRUE)","v":41.268349999999998}]
[1374.3,"Arden Valley Rd.","680’","NY","Orange",{"$f":"VLOOKUP(A974,LongLat!$A$2:$H$292,7,TRUE)","v":-74.268299999999996},{"$f":"VLOOKUP(A974,LongLat!$A$2:$H$292,8,TRUE)","v":41.268349999999998}]
[1375.6,"Island Pond Outlet","1350’","NY","Orange",{"$f":"VLOOKUP(A975,LongLat!$A$2:$H$292,7,TRUE)","v":-74.104399999999998},{"$f":"VLOOKUP(A975,LongLat!$A$2:$H$292,8,TRUE)","v":41.263280000000002},"http://s574.photobucket.com/albums/ss189/sneezehorse5/hike 425 7-5-9/?action=view&current=020.jpg"]
[1376.2,"Lemon Squeezer","1150’","NY","Orange",{"$f":"VLOOKUP(A976,LongLat!$A$2:$H$292,7,TRUE)","v":-74.104399999999998},{"$f":"VLOOKUP(A976,LongLat!$A$2:$H$292,8,TRUE)","v":41.263280000000002}]
[1376.9,"Long Path Jct.","1160’","NY","Orange",{"$f":"VLOOKUP(A977,LongLat!$A$2:$H$292,7,TRUE)","v":-74.104399999999998},{"$f":"VLOOKUP(A977,LongLat!$A$2:$H$292,8,TRUE)","v":41.263280000000002}]
[1377.3,"Surebridge Mt.","1200’","NY","Orange",{"$f":"VLOOKUP(A978,LongLat!$A$2:$H$292,7,TRUE)","v":-74.104399999999998},{"$f":"VLOOKUP(A978,LongLat!$A$2:$H$292,8,TRUE)","v":41.263280000000002}]
[1378.3,"Fingerboard Shelter (pic)","1300’","NY","Orange",{"$f":"VLOOKUP(A979,LongLat!$A$2:$H$292,7,TRUE)","v":-74.104399999999998},{"$f":"VLOOKUP(A979,LongLat!$A$2:$H$292,8,TRUE)","v":41.263280000000002},"http://www.panoramio.com/photo/21167916"]
[1379.4,"Arden Valley Rd.","1196’","NY","Orange",{"$f":"VLOOKUP(A980,LongLat!$A$2:$H$292,7,TRUE)","v":-74.104399999999998},{"$f":"VLOOKUP(A980,LongLat!$A$2:$H$292,8,TRUE)","v":41.263280000000002}]
[1381.6,"Seven Lakes Dr.","850’","NY","Orange",{"$f":"VLOOKUP(A981,LongLat!$A$2:$H$292,7,TRUE)","v":-74.059899999999999},{"$f":"VLOOKUP(A981,LongLat!$A$2:$H$292,8,TRUE)","v":41.279699999999998}]
[1382.4,"Goshen Mt.","1180’","NY","Orange",{"$f":"VLOOKUP(A982,LongLat!$A$2:$H$292,7,TRUE)","v":-74.059899999999999},{"$f":"VLOOKUP(A982,LongLat!$A$2:$H$292,8,TRUE)","v":41.279699999999998}]
[1383.6,"William Brien Memorial Shelter (pic)","1070’","NY","Orange",{"$f":"VLOOKUP(A983,LongLat!$A$2:$H$292,7,TRUE)","v":-74.011099999999999},{"$f":"VLOOKUP(A983,LongLat!$A$2:$H$292,8,TRUE)","v":41.284100000000002},"http://farm4.static.flickr.com/3557/3504151151_61c122731b.jpg?v=0"]
[1385,"Black Mt.","1160’","NY","Rockland",{"$f":"VLOOKUP(A984,LongLat!$A$2:$H$292,7,TRUE)","v":-74.011099999999999},{"$f":"VLOOKUP(A984,LongLat!$A$2:$H$292,8,TRUE)","v":41.284100000000002}]
[1385.7,"Palisades Interstate Pkwy.","680’","NY","Rockland",{"$f":"VLOOKUP(A985,LongLat!$A$2:$H$292,7,TRUE)","v":-74.011099999999999},{"$f":"VLOOKUP(A985,LongLat!$A$2:$H$292,8,TRUE)","v":41.284100000000002},"http://en.wikipedia.org/wiki/Palisades_Interstate_Parkway"]
[1385.9,"Beechy Bottom Brook","660’","NY","Rockland",{"$f":"VLOOKUP(A986,LongLat!$A$2:$H$292,7,TRUE)","v":-74.011099999999999},{"$f":"VLOOKUP(A986,LongLat!$A$2:$H$292,8,TRUE)","v":41.284100000000002}]
[1386.7,"West Mt. Shelter (pic)","1240’","NY","Rockland",{"$f":"VLOOKUP(A987,LongLat!$A$2:$H$292,7,TRUE)","v":-74.011099999999999},{"$f":"VLOOKUP(A987,LongLat!$A$2:$H$292,8,TRUE)","v":41.284100000000002}]
[1388.3,"Seven Lakes Dr.","610’","NY","Rockland",{"$f":"VLOOKUP(A988,LongLat!$A$2:$H$292,7,TRUE)","v":-74.011099999999999},{"$f":"VLOOKUP(A988,LongLat!$A$2:$H$292,8,TRUE)","v":41.284100000000002}]
[1389.9,"Bear Mt.","1305’","NY","Rockland",{"$f":"VLOOKUP(A989,LongLat!$A$2:$H$292,7,TRUE)","v":-74.011099999999999},{"$f":"VLOOKUP(A989,LongLat!$A$2:$H$292,8,TRUE)","v":41.284100000000002},"http://www.summitpost.org/mountain/rock/150858/bear-mountain.html"]
[1391.7,"Bear Mountain, NY","220’","NY","Rockland",{"$f":"VLOOKUP(A990,LongLat!$A$2:$H$292,7,TRUE)","v":-74.011099999999999},{"$f":"VLOOKUP(A990,LongLat!$A$2:$H$292,8,TRUE)","v":41.284100000000002}]
[1392.4,"Bear Mt. Museum/Zoo","124’","NY","Rockland",{"$f":"VLOOKUP(A991,LongLat!$A$2:$H$292,7,TRUE)","v":-74.011099999999999},{"$f":"VLOOKUP(A991,LongLat!$A$2:$H$292,8,TRUE)","v":41.284100000000002}]
[1392.5,"Bear Mt. Bridge","200’","NY","Rockland",{"$f":"VLOOKUP(A992,LongLat!$A$2:$H$292,7,TRUE)","v":-74.011099999999999},{"$f":"VLOOKUP(A992,LongLat!$A$2:$H$292,8,TRUE)","v":41.284100000000002}]
[1393.2,"NY 9D","230’","NY","Rockland",{"$f":"VLOOKUP(A993,LongLat!$A$2:$H$292,7,TRUE)","v":-74.011099999999999},{"$f":"VLOOKUP(A993,LongLat!$A$2:$H$292,8,TRUE)","v":41.284100000000002}]
[1393.7,"Camp Smith Trail to Anthony’s Nose","700’","NY","Rockland",{"$f":"VLOOKUP(A994,LongLat!$A$2:$H$292,7,TRUE)","v":-74.011099999999999},{"$f":"VLOOKUP(A994,LongLat!$A$2:$H$292,8,TRUE)","v":41.284100000000002}]
[1394.7,"Hemlock Springs Campsite","550’","NY","Rockland",{"$f":"VLOOKUP(A995,LongLat!$A$2:$H$292,7,TRUE)","v":-74.011099999999999},{"$f":"VLOOKUP(A995,LongLat!$A$2:$H$292,8,TRUE)","v":41.284100000000002}]
[1394.9,"South Mt. Pass, Manitou Rd.","460’","NY","Rockland",{"$f":"VLOOKUP(A996,LongLat!$A$2:$H$292,7,TRUE)","v":-74.011099999999999},{"$f":"VLOOKUP(A996,LongLat!$A$2:$H$292,8,TRUE)","v":41.284100000000002}]
[1398.3,"US 9, Peekskill","400’","NY","Ulster",{"$f":"VLOOKUP(A997,LongLat!$A$2:$H$292,7,TRUE)","v":-74.011099999999999},{"$f":"VLOOKUP(A997,LongLat!$A$2:$H$292,8,TRUE)","v":41.284100000000002}]
[1398.9,"Graymoor Spiritual Life Center","550’","NY","Ulster",{"$f":"VLOOKUP(A998,LongLat!$A$2:$H$292,7,TRUE)","v":-74.011099999999999},{"$f":"VLOOKUP(A998,LongLat!$A$2:$H$292,8,TRUE)","v":41.284100000000002},"http://www.graymoorcenter.org/"]
[1400.2,"Denning Hill","900’","NY","Ulster",{"$f":"VLOOKUP(A999,LongLat!$A$2:$H$292,7,TRUE)","v":-74.011099999999999},{"$f":"VLOOKUP(A999,LongLat!$A$2:$H$292,8,TRUE)","v":41.284100000000002},"http://mylifelist.files.wordpress.com/2008/05/dsc00139-1.jpg"]
[1401.6,"Old Albany Post Rd.","607’","NY","Ulster",{"$f":"VLOOKUP(A1000,LongLat!$A$2:$H$292,7,TRUE)","v":-74.011099999999999},{"$f":"VLOOKUP(A1000,LongLat!$A$2:$H$292,8,TRUE)","v":41.284100000000002}]
[1403.3,"Canopus Hill Rd.","420’","NY","Ulster",{"$f":"VLOOKUP(A1001,LongLat!$A$2:$H$292,7,TRUE)","v":-74.011099999999999},{"$f":"VLOOKUP(A1001,LongLat!$A$2:$H$292,8,TRUE)","v":41.284100000000002}]
[1404.3,"South Highland Rd.","570’","NY","Ulster",{"$f":"VLOOKUP(A1002,LongLat!$A$2:$H$292,7,TRUE)","v":-74.011099999999999},{"$f":"VLOOKUP(A1002,LongLat!$A$2:$H$292,8,TRUE)","v":41.284100000000002}]
[1407,"Dennytown Rd.","860’","NY","Ulster",{"$f":"VLOOKUP(A1003,LongLat!$A$2:$H$292,7,TRUE)","v":-74.011099999999999},{"$f":"VLOOKUP(A1003,LongLat!$A$2:$H$292,8,TRUE)","v":41.284100000000002}]
[1408.6,"Sunk Mine Rd.","800’","NY","Ulster",{"$f":"VLOOKUP(A1004,LongLat!$A$2:$H$292,7,TRUE)","v":-74.011099999999999},{"$f":"VLOOKUP(A1004,LongLat!$A$2:$H$292,8,TRUE)","v":41.284100000000002}]
[1410.7,"Clarence Fahnestock State Park","920’","NY","Putnam",{"$f":"VLOOKUP(A1005,LongLat!$A$2:$H$292,7,TRUE)","v":-74.011099999999999},{"$f":"VLOOKUP(A1005,LongLat!$A$2:$H$292,8,TRUE)","v":41.284100000000002},"http://nysparks.state.ny.us/parks/133/details.aspx"]
[1414.9,"Shenandoah Mt.","1282’","NY","Putnam",{"$f":"VLOOKUP(A1006,LongLat!$A$2:$H$292,7,TRUE)","v":-73.792900000000003},{"$f":"VLOOKUP(A1006,LongLat!$A$2:$H$292,8,TRUE)","v":41.514380000000003}]
[1415.3,"Long Hill Rd.","1100’","NY","Putnam",{"$f":"VLOOKUP(A1007,LongLat!$A$2:$H$292,7,TRUE)","v":-73.792900000000003},{"$f":"VLOOKUP(A1007,LongLat!$A$2:$H$292,8,TRUE)","v":41.514380000000003}]
[1416.4,"Shenandoah Tenting Area","900’","NY","Putnam",{"$f":"VLOOKUP(A1008,LongLat!$A$2:$H$292,7,TRUE)","v":-73.792900000000003},{"$f":"VLOOKUP(A1008,LongLat!$A$2:$H$292,8,TRUE)","v":41.514380000000003},"http://walkingnorth.files.wordpress.com/2008/07/img_2276.jpg"]
[1417.7,"RPH Shelter (pic) ","360’","NY","Putnam",{"$f":"VLOOKUP(A1009,LongLat!$A$2:$H$292,7,TRUE)","v":-73.792900000000003},{"$f":"VLOOKUP(A1009,LongLat!$A$2:$H$292,8,TRUE)","v":41.514380000000003},"http://farm4.static.flickr.com/3377/3536963689_6415ba19be.jpg"]
[1418,"Taconic State Parkway","650’","NY","Putnam",{"$f":"VLOOKUP(A1010,LongLat!$A$2:$H$292,7,TRUE)","v":-73.792900000000003},{"$f":"VLOOKUP(A1010,LongLat!$A$2:$H$292,8,TRUE)","v":41.514380000000003},"http://www.nycroads.com/roads/taconic/"]
[1421.2,"Hosner Mt. Rd.","500’","NY","Putnam",{"$f":"VLOOKUP(A1011,LongLat!$A$2:$H$292,7,TRUE)","v":-73.792900000000003},{"$f":"VLOOKUP(A1011,LongLat!$A$2:$H$292,8,TRUE)","v":41.514380000000003}]
[1422.8,"NY 52, Stormville","800’","NY","Putnam",{"$f":"VLOOKUP(A1012,LongLat!$A$2:$H$292,7,TRUE)","v":-73.692099999999996},{"$f":"VLOOKUP(A1012,LongLat!$A$2:$H$292,8,TRUE)","v":41.564549999999997}]
[1424.2,"I-84 Overpass","950’","NY","Putnam",{"$f":"VLOOKUP(A1013,LongLat!$A$2:$H$292,7,TRUE)","v":-73.692099999999996},{"$f":"VLOOKUP(A1013,LongLat!$A$2:$H$292,8,TRUE)","v":41.564549999999997}]
[1426.6,"Mt. Egbert","1329’","NY","Dutchess",{"$f":"VLOOKUP(A1014,LongLat!$A$2:$H$292,7,TRUE)","v":-73.692099999999996},{"$f":"VLOOKUP(A1014,LongLat!$A$2:$H$292,8,TRUE)","v":41.564549999999997},"http://www.summitpost.org/mountain/rock/316540/mt-egbert.html"]
[1426.7,"Morgan Stewart Shelter (pic)","1285’","NY","Dutchess",{"$f":"VLOOKUP(A1015,LongLat!$A$2:$H$292,7,TRUE)","v":-73.692099999999996},{"$f":"VLOOKUP(A1015,LongLat!$A$2:$H$292,8,TRUE)","v":41.564549999999997},"http://www.summitpost.org/view_object.php?object_id=383869&context_id=383841"]
[1427.8,"Depot Hill Rd.","1230’","NY","Dutchess",{"$f":"VLOOKUP(A1016,LongLat!$A$2:$H$292,7,TRUE)","v":-73.692099999999996},{"$f":"VLOOKUP(A1016,LongLat!$A$2:$H$292,8,TRUE)","v":41.564549999999997}]
[1429.7,"Old Route 55","750’","NY","Dutchess",{"$f":"VLOOKUP(A1017,LongLat!$A$2:$H$292,7,TRUE)","v":-73.692099999999996},{"$f":"VLOOKUP(A1017,LongLat!$A$2:$H$292,8,TRUE)","v":41.564549999999997}]
[1430,"NY 55, Poughquag","720’","NY","Dutchess",{"$f":"VLOOKUP(A1018,LongLat!$A$2:$H$292,7,TRUE)","v":-73.692099999999996},{"$f":"VLOOKUP(A1018,LongLat!$A$2:$H$292,8,TRUE)","v":41.564549999999997}]
[1431.2,"Nuclear Lake","750’","NY","Dutchess",{"$f":"VLOOKUP(A1019,LongLat!$A$2:$H$292,7,TRUE)","v":-73.619299999999996},{"$f":"VLOOKUP(A1019,LongLat!$A$2:$H$292,8,TRUE)","v":41.60427},"http://whereswalden.com/wp-content/uploads/2009/05/0161.jpg"]
[1434,"West Mt.","1200’","NY","Dutchess",{"$f":"VLOOKUP(A1020,LongLat!$A$2:$H$292,7,TRUE)","v":-73.619299999999996},{"$f":"VLOOKUP(A1020,LongLat!$A$2:$H$292,8,TRUE)","v":41.60427},"http://harrimanhikers.org/west-mountain-harriman-state-park-ny/"]
[1434.5,"Telephone Pioneers Shelter (pic)","910’","NY","Dutchess",{"$f":"VLOOKUP(A1021,LongLat!$A$2:$H$292,7,TRUE)","v":-73.619299999999996},{"$f":"VLOOKUP(A1021,LongLat!$A$2:$H$292,8,TRUE)","v":41.60427},"http://farm3.static.flickr.com/2594/4011337646_a0cb29dc22.jpg"]
[1435.2,"CR 20, Dover Oak","650’","NY","Dutchess",{"$f":"VLOOKUP(A1022,LongLat!$A$2:$H$292,7,TRUE)","v":-73.619299999999996},{"$f":"VLOOKUP(A1022,LongLat!$A$2:$H$292,8,TRUE)","v":41.60427},"http://whereswalden.com/wp-content/uploads/2009/05/0157.jpg"]
[1437.6,"Appalachian Trail Railroad Station","480’","NY","Dutchess",{"$f":"VLOOKUP(A1023,LongLat!$A$2:$H$292,7,TRUE)","v":-73.619299999999996},{"$f":"VLOOKUP(A1023,LongLat!$A$2:$H$292,8,TRUE)","v":41.60427},"http://en.wikipedia.org/wiki/Appalachian_Trail_(Metro-North_station)"]
[1437.8,"Hurds Corner Rd.","480’","NY","Dutchess",{"$f":"VLOOKUP(A1024,LongLat!$A$2:$H$292,7,TRUE)","v":-73.619299999999996},{"$f":"VLOOKUP(A1024,LongLat!$A$2:$H$292,8,TRUE)","v":41.60427}]
[1442.8,"Leather Hill Rd.","750’","NY","Dutchess",{"$f":"VLOOKUP(A1025,LongLat!$A$2:$H$292,7,TRUE)","v":-73.532700000000006},{"$f":"VLOOKUP(A1025,LongLat!$A$2:$H$292,8,TRUE)","v":41.637749999999997}]
[1443.2,"Wiley Shelter (pic)","740’","NY","Dutchess",{"$f":"VLOOKUP(A1026,LongLat!$A$2:$H$292,7,TRUE)","v":-73.532700000000006},{"$f":"VLOOKUP(A1026,LongLat!$A$2:$H$292,8,TRUE)","v":41.637749999999997},"http://mylifelist.files.wordpress.com/2008/05/dsc00105-1.jpg"]
[1443.4,"Duell Hollow Rd.","620’","NY","Dutchess",{"$f":"VLOOKUP(A1027,LongLat!$A$2:$H$292,7,TRUE)","v":-73.509900000000002},{"$f":"VLOOKUP(A1027,LongLat!$A$2:$H$292,8,TRUE)","v":41.66507}]
[1444.4,"Hoyt Rd., NY-CT State Line","400’",null,null,{"$f":"VLOOKUP(A1028,LongLat!$A$2:$H$292,7,TRUE)","v":-73.509900000000002},{"$f":"VLOOKUP(A1028,LongLat!$A$2:$H$292,8,TRUE)","v":41.66507}]
[1445,"CT 55","580’","CT","Fairfield",{"$f":"VLOOKUP(A1029,LongLat!$A$2:$H$292,7,TRUE)","v":-73.509900000000002},{"$f":"VLOOKUP(A1029,LongLat!$A$2:$H$292,8,TRUE)","v":41.66507}]
[1446.2,"Ten Mile Hill","1000’","CT","Fairfield",{"$f":"VLOOKUP(A1030,LongLat!$A$2:$H$292,7,TRUE)","v":-73.509900000000002},{"$f":"VLOOKUP(A1030,LongLat!$A$2:$H$292,8,TRUE)","v":41.66507}]
[1447.2,"Ten Mile River Lean-to (pic)","290’","CT","Fairfield",{"$f":"VLOOKUP(A1031,LongLat!$A$2:$H$292,7,TRUE)","v":-73.509900000000002},{"$f":"VLOOKUP(A1031,LongLat!$A$2:$H$292,8,TRUE)","v":41.66507},"http://uwf.edu/rconstand/Other%20Items/CT2%20-%20Checking%20in%20to%20Ten%20Mile%20River%20-%20a%20typical%20CT%20lean-to%20-%202008.jpg"]
[1447.4,"Ten Mile River","280’","CT","Fairfield",{"$f":"VLOOKUP(A1032,LongLat!$A$2:$H$292,7,TRUE)","v":-73.509900000000002},{"$f":"VLOOKUP(A1032,LongLat!$A$2:$H$292,8,TRUE)","v":41.66507}]
[1448.1,"Bulls Bridge Parking side trail","450’","CT","Litchfield",{"$f":"VLOOKUP(A1033,LongLat!$A$2:$H$292,7,TRUE)","v":-73.509900000000002},{"$f":"VLOOKUP(A1033,LongLat!$A$2:$H$292,8,TRUE)","v":41.66507}]
[1448.8,"Schaghticoke Rd.","320’","CT","Litchfield",{"$f":"VLOOKUP(A1034,LongLat!$A$2:$H$292,7,TRUE)","v":-73.509900000000002},{"$f":"VLOOKUP(A1034,LongLat!$A$2:$H$292,8,TRUE)","v":41.66507}]
[1450.5,"Schaghticoke Mt.","1331’","CT","Litchfield",{"$f":"VLOOKUP(A1035,LongLat!$A$2:$H$292,7,TRUE)","v":-73.509900000000002},{"$f":"VLOOKUP(A1035,LongLat!$A$2:$H$292,8,TRUE)","v":41.66507}]
[1451.7,"CT-NY State Line","1250’","CT","Litchfield",{"$f":"VLOOKUP(A1036,LongLat!$A$2:$H$292,7,TRUE)","v":-73.509900000000002},{"$f":"VLOOKUP(A1036,LongLat!$A$2:$H$292,8,TRUE)","v":41.66507}]
[1452.1,"Indian Rocks","1290’","CT","Litchfield",{"$f":"VLOOKUP(A1037,LongLat!$A$2:$H$292,7,TRUE)","v":-73.496700000000004},{"$f":"VLOOKUP(A1037,LongLat!$A$2:$H$292,8,TRUE)","v":41.731650000000002}]
[1452.7,"Schaghticoke Mt. Campsite","950’","CT","Litchfield",{"$f":"VLOOKUP(A1038,LongLat!$A$2:$H$292,7,TRUE)","v":-73.496700000000004},{"$f":"VLOOKUP(A1038,LongLat!$A$2:$H$292,8,TRUE)","v":41.731650000000002}]
[1454.6,"Thayer Brook","900’","CT","Litchfield",{"$f":"VLOOKUP(A1039,LongLat!$A$2:$H$292,7,TRUE)","v":-73.496700000000004},{"$f":"VLOOKUP(A1039,LongLat!$A$2:$H$292,8,TRUE)","v":41.731650000000002}]
[1455.6,"Mt. Algo Lean-to (pic)","655’","CT","Litchfield",{"$f":"VLOOKUP(A1040,LongLat!$A$2:$H$292,7,TRUE)","v":-73.496700000000004},{"$f":"VLOOKUP(A1040,LongLat!$A$2:$H$292,8,TRUE)","v":41.731650000000002}]
[1455.9,"CT 341, Kent","350’","CT","Litchfield",{"$f":"VLOOKUP(A1041,LongLat!$A$2:$H$292,7,TRUE)","v":-73.496700000000004},{"$f":"VLOOKUP(A1041,LongLat!$A$2:$H$292,8,TRUE)","v":41.731650000000002}]
[1458.7,"Skiff Mt. Rd.","850’","CT","Litchfield",{"$f":"VLOOKUP(A1042,LongLat!$A$2:$H$292,7,TRUE)","v":-73.496700000000004},{"$f":"VLOOKUP(A1042,LongLat!$A$2:$H$292,8,TRUE)","v":41.731650000000002}]
[1460.1,"St. Johns Ledges","900’","CT","Litchfield",{"$f":"VLOOKUP(A1043,LongLat!$A$2:$H$292,7,TRUE)","v":-73.419799999999995},{"$f":"VLOOKUP(A1043,LongLat!$A$2:$H$292,8,TRUE)","v":41.778599999999997},"http://www.summitpost.org/mountain/rock/245850/saint-john-s-ledges-5-2-5-10.html"]
[1460.6,"River Rd.","480’","CT","Litchfield",{"$f":"VLOOKUP(A1044,LongLat!$A$2:$H$292,7,TRUE)","v":-73.419799999999995},{"$f":"VLOOKUP(A1044,LongLat!$A$2:$H$292,8,TRUE)","v":41.778599999999997}]
[1462.9,"Stewart Hollow Brook Lean-to (pic)","425’","CT","Litchfield",{"$f":"VLOOKUP(A1045,LongLat!$A$2:$H$292,7,TRUE)","v":-73.419799999999995},{"$f":"VLOOKUP(A1045,LongLat!$A$2:$H$292,8,TRUE)","v":41.778599999999997}]
[1463.3,"Stony Brook Campsite","440’","CT","Litchfield",{"$f":"VLOOKUP(A1046,LongLat!$A$2:$H$292,7,TRUE)","v":-73.419799999999995},{"$f":"VLOOKUP(A1046,LongLat!$A$2:$H$292,8,TRUE)","v":41.778599999999997}]
[1465.3,"River Rd.","460’","CT","Litchfield",{"$f":"VLOOKUP(A1047,LongLat!$A$2:$H$292,7,TRUE)","v":-73.419799999999995},{"$f":"VLOOKUP(A1047,LongLat!$A$2:$H$292,8,TRUE)","v":41.778599999999997}]
[1466.1,"Silver Hill Campsite","1000’","CT","Litchfield",{"$f":"VLOOKUP(A1048,LongLat!$A$2:$H$292,7,TRUE)","v":-73.419799999999995},{"$f":"VLOOKUP(A1048,LongLat!$A$2:$H$292,8,TRUE)","v":41.778599999999997}]
[1467,"CT 4, Cornwall Bridge","700’","CT","Litchfield",{"$f":"VLOOKUP(A1049,LongLat!$A$2:$H$292,7,TRUE)","v":-73.419799999999995},{"$f":"VLOOKUP(A1049,LongLat!$A$2:$H$292,8,TRUE)","v":41.778599999999997}]
[1467.1,"Guinea Brook","650’","CT","Litchfield",{"$f":"VLOOKUP(A1050,LongLat!$A$2:$H$292,7,TRUE)","v":-73.419799999999995},{"$f":"VLOOKUP(A1050,LongLat!$A$2:$H$292,8,TRUE)","v":41.778599999999997}]
[1467.2,"Old Sharon Rd.","750’","CT","Litchfield",{"$f":"VLOOKUP(A1051,LongLat!$A$2:$H$292,7,TRUE)","v":-73.419799999999995},{"$f":"VLOOKUP(A1051,LongLat!$A$2:$H$292,8,TRUE)","v":41.778599999999997}]
[1468.4,"Hatch Brook","880’","CT","Litchfield",{"$f":"VLOOKUP(A1052,LongLat!$A$2:$H$292,7,TRUE)","v":-73.419799999999995},{"$f":"VLOOKUP(A1052,LongLat!$A$2:$H$292,8,TRUE)","v":41.778599999999997}]
[1469.1,"Pine Knob Loop Trail","1150’","CT","Litchfield",{"$f":"VLOOKUP(A1053,LongLat!$A$2:$H$292,7,TRUE)","v":-73.392099999999999},{"$f":"VLOOKUP(A1053,LongLat!$A$2:$H$292,8,TRUE)","v":41.881630000000001}]
[1469.5,"Caesar Brook Campsite","760’","CT","Litchfield",{"$f":"VLOOKUP(A1054,LongLat!$A$2:$H$292,7,TRUE)","v":-73.392099999999999},{"$f":"VLOOKUP(A1054,LongLat!$A$2:$H$292,8,TRUE)","v":41.881630000000001},"http://gallery.backcountry.net/albums/papabear_section_2/aao.sized.jpg"]
[1471.7,"Carse Brook","810’","CT","Litchfield",{"$f":"VLOOKUP(A1055,LongLat!$A$2:$H$292,7,TRUE)","v":-73.392099999999999},{"$f":"VLOOKUP(A1055,LongLat!$A$2:$H$292,8,TRUE)","v":41.881630000000001}]
[1471.8,"West Cornwall Rd.","800’","CT","Litchfield",{"$f":"VLOOKUP(A1056,LongLat!$A$2:$H$292,7,TRUE)","v":-73.392099999999999},{"$f":"VLOOKUP(A1056,LongLat!$A$2:$H$292,8,TRUE)","v":41.881630000000001}]
[1472.9,"Pine Swamp Brook Lean-to (pic)","1075’","CT","Litchfield",{"$f":"VLOOKUP(A1057,LongLat!$A$2:$H$292,7,TRUE)","v":-73.392099999999999},{"$f":"VLOOKUP(A1057,LongLat!$A$2:$H$292,8,TRUE)","v":41.881630000000001}]
[1473.8,"Sharon Mt. Rd.","1150’","CT","Litchfield",{"$f":"VLOOKUP(A1058,LongLat!$A$2:$H$292,7,TRUE)","v":-73.392099999999999},{"$f":"VLOOKUP(A1058,LongLat!$A$2:$H$292,8,TRUE)","v":41.881630000000001}]
[1474.1,"Mt. Easter","1350’","CT","Litchfield",{"$f":"VLOOKUP(A1059,LongLat!$A$2:$H$292,7,TRUE)","v":-73.392099999999999},{"$f":"VLOOKUP(A1059,LongLat!$A$2:$H$292,8,TRUE)","v":41.881630000000001},"http://purebound.com/AT/connecticut_massachusetts/mt_easter_vista_2.jpg"]
[1475.3,"Sharon Mt. Campsite","1200’","CT","Litchfield",{"$f":"VLOOKUP(A1060,LongLat!$A$2:$H$292,7,TRUE)","v":-73.392099999999999},{"$f":"VLOOKUP(A1060,LongLat!$A$2:$H$292,8,TRUE)","v":41.881630000000001}]
[1478.1,"Belter’s Campsite","770’","CT","Litchfield",{"$f":"VLOOKUP(A1061,LongLat!$A$2:$H$292,7,TRUE)","v":-73.392099999999999},{"$f":"VLOOKUP(A1061,LongLat!$A$2:$H$292,8,TRUE)","v":41.881630000000001}]
[1478.5,"US 7/CT 112","520’","CT","Litchfield",{"$f":"VLOOKUP(A1062,LongLat!$A$2:$H$292,7,TRUE)","v":-73.392099999999999},{"$f":"VLOOKUP(A1062,LongLat!$A$2:$H$292,8,TRUE)","v":41.881630000000001}]
[1479.1,"Housatonic River Bridge","500’","CT","Litchfield",{"$f":"VLOOKUP(A1063,LongLat!$A$2:$H$292,7,TRUE)","v":-73.392099999999999},{"$f":"VLOOKUP(A1063,LongLat!$A$2:$H$292,8,TRUE)","v":41.881630000000001}]
[1479.2,"Mohawk Trail","500’","CT","Litchfield",{"$f":"VLOOKUP(A1064,LongLat!$A$2:$H$292,7,TRUE)","v":-73.392099999999999},{"$f":"VLOOKUP(A1064,LongLat!$A$2:$H$292,8,TRUE)","v":41.881630000000001}]
[1481,"Water Street, Falls Village","530’","CT","Litchfield",{"$f":"VLOOKUP(A1065,LongLat!$A$2:$H$292,7,TRUE)","v":-73.392099999999999},{"$f":"VLOOKUP(A1065,LongLat!$A$2:$H$292,8,TRUE)","v":41.881630000000001}]
[1481.1,"Iron Bridge, Housatonic River","510’","CT","Litchfield",{"$f":"VLOOKUP(A1066,LongLat!$A$2:$H$292,7,TRUE)","v":-73.392099999999999},{"$f":"VLOOKUP(A1066,LongLat!$A$2:$H$292,8,TRUE)","v":41.881630000000001}]
[1481.7,"Great Falls, Housatonic River","650’","CT","Litchfield",{"$f":"VLOOKUP(A1067,LongLat!$A$2:$H$292,7,TRUE)","v":-73.392300000000006},{"$f":"VLOOKUP(A1067,LongLat!$A$2:$H$292,8,TRUE)","v":41.97513},"http://www.panoramio.com/photo/10841294"]
[1482.2,"spring","750’","CT","Litchfield",{"$f":"VLOOKUP(A1068,LongLat!$A$2:$H$292,7,TRUE)","v":-73.392300000000006},{"$f":"VLOOKUP(A1068,LongLat!$A$2:$H$292,8,TRUE)","v":41.97513}]
[1484.5,"Prospect Mt.","1475’","CT","Litchfield",{"$f":"VLOOKUP(A1069,LongLat!$A$2:$H$292,7,TRUE)","v":-73.392300000000006},{"$f":"VLOOKUP(A1069,LongLat!$A$2:$H$292,8,TRUE)","v":41.97513},"http://www.summitpost.org/image/227097/221915/taconic-plateau.html"]
[1485.2,"Limestone Spring Lean-to (pic)","980’","CT","Litchfield",{"$f":"VLOOKUP(A1070,LongLat!$A$2:$H$292,7,TRUE)","v":-73.392300000000006},{"$f":"VLOOKUP(A1070,LongLat!$A$2:$H$292,8,TRUE)","v":41.97513},"http://gallery.backcountry.net/albums/papabear_section_2/abi.sized.jpg"]
[1486.3,"Rand’s View","1250’","CT","Litchfield",{"$f":"VLOOKUP(A1071,LongLat!$A$2:$H$292,7,TRUE)","v":-73.392300000000006},{"$f":"VLOOKUP(A1071,LongLat!$A$2:$H$292,8,TRUE)","v":41.97513},"http://www.panoramio.com/photo/22856425"]
[1486.1,"Billy’s View","1150’","CT","Litchfield",{"$f":"VLOOKUP(A1072,LongLat!$A$2:$H$292,7,TRUE)","v":-73.392300000000006},{"$f":"VLOOKUP(A1072,LongLat!$A$2:$H$292,8,TRUE)","v":41.97513}]
[1488.6,"US 44, Salisbury","700’","CT","Litchfield",{"$f":"VLOOKUP(A1073,LongLat!$A$2:$H$292,7,TRUE)","v":-73.392300000000006},{"$f":"VLOOKUP(A1073,LongLat!$A$2:$H$292,8,TRUE)","v":41.97513}]
[1489.3,"CT 41, Salisbury","720’","CT","Litchfield",{"$f":"VLOOKUP(A1074,LongLat!$A$2:$H$292,7,TRUE)","v":-73.447699999999998},{"$f":"VLOOKUP(A1074,LongLat!$A$2:$H$292,8,TRUE)","v":42.014580000000002}]
[1489.5,"Plateau Campsite","800’","CT","Litchfield",{"$f":"VLOOKUP(A1075,LongLat!$A$2:$H$292,7,TRUE)","v":-73.447699999999998},{"$f":"VLOOKUP(A1075,LongLat!$A$2:$H$292,8,TRUE)","v":42.014580000000002}]
[1492,"Lions Head","1738’","CT","Litchfield",{"$f":"VLOOKUP(A1076,LongLat!$A$2:$H$292,7,TRUE)","v":-73.453599999999994},{"$f":"VLOOKUP(A1076,LongLat!$A$2:$H$292,8,TRUE)","v":42.028329999999997}]
[1492.7,"Riga Lean-to (pic)","1610’","CT","Litchfield",{"$f":"VLOOKUP(A1077,LongLat!$A$2:$H$292,7,TRUE)","v":-73.453599999999994},{"$f":"VLOOKUP(A1077,LongLat!$A$2:$H$292,8,TRUE)","v":42.028329999999997},"http://www.summitpost.org/user-profile-image/204394/c-221915"]
[1493.3,"Ball Brook Campsite","1650’","CT","Litchfield",{"$f":"VLOOKUP(A1078,LongLat!$A$2:$H$292,7,TRUE)","v":-73.453599999999994},{"$f":"VLOOKUP(A1078,LongLat!$A$2:$H$292,8,TRUE)","v":42.028329999999997}]
[1493.9,"Brassie Brook Lean-to (pic)","1705’","CT","Litchfield",{"$f":"VLOOKUP(A1079,LongLat!$A$2:$H$292,7,TRUE)","v":-73.453599999999994},{"$f":"VLOOKUP(A1079,LongLat!$A$2:$H$292,8,TRUE)","v":42.028329999999997}]
[1494.4,"Undermountain Trail, Riga Jct.","1820’","CT","Litchfield",{"$f":"VLOOKUP(A1080,LongLat!$A$2:$H$292,7,TRUE)","v":-73.453599999999994},{"$f":"VLOOKUP(A1080,LongLat!$A$2:$H$292,8,TRUE)","v":42.028329999999997}]
[1494.6,"Bear Mt. Rd.","1920’","CT","Litchfield",{"$f":"VLOOKUP(A1081,LongLat!$A$2:$H$292,7,TRUE)","v":-73.453599999999994},{"$f":"VLOOKUP(A1081,LongLat!$A$2:$H$292,8,TRUE)","v":42.028329999999997}]
[1495.3,"Bear Mt.","2316’","CT","Litchfield",{"$f":"VLOOKUP(A1082,LongLat!$A$2:$H$292,7,TRUE)","v":-73.453599999999994},{"$f":"VLOOKUP(A1082,LongLat!$A$2:$H$292,8,TRUE)","v":42.028329999999997},"http://www.summitpost.org/mountain/rock/150900/bear-mountain.html"]
[1496,"CT-MA State Line","1800’",null,null,{"$f":"VLOOKUP(A1083,LongLat!$A$2:$H$292,7,TRUE)","v":-73.453599999999994},{"$f":"VLOOKUP(A1083,LongLat!$A$2:$H$292,8,TRUE)","v":42.028329999999997}]
[1496.1,"Sages Ravine Brook Campsite","1360’","MA","Berkshire",{"$f":"VLOOKUP(A1084,LongLat!$A$2:$H$292,7,TRUE)","v":-73.453599999999994},{"$f":"VLOOKUP(A1084,LongLat!$A$2:$H$292,8,TRUE)","v":42.028329999999997}]
[1496.7,"Sages Ravine","1340’","MA","Berkshire",{"$f":"VLOOKUP(A1085,LongLat!$A$2:$H$292,7,TRUE)","v":-73.453599999999994},{"$f":"VLOOKUP(A1085,LongLat!$A$2:$H$292,8,TRUE)","v":42.028329999999997},"http://www.panoramio.com/photo/6947706"]
[1498,"Laurel Ridge Campsite","1750’","MA","Berkshire",{"$f":"VLOOKUP(A1086,LongLat!$A$2:$H$292,7,TRUE)","v":-73.453599999999994},{"$f":"VLOOKUP(A1086,LongLat!$A$2:$H$292,8,TRUE)","v":42.028329999999997}]
[1499.8,"Race Mt.","2365’","MA","Berkshire",{"$f":"VLOOKUP(A1087,LongLat!$A$2:$H$292,7,TRUE)","v":-73.428299999999993},{"$f":"VLOOKUP(A1087,LongLat!$A$2:$H$292,8,TRUE)","v":42.111139999999999}]
[1500.9,"Race Brook Falls Trail","1950’","MA","Berkshire",{"$f":"VLOOKUP(A1088,LongLat!$A$2:$H$292,7,TRUE)","v":-73.428299999999993},{"$f":"VLOOKUP(A1088,LongLat!$A$2:$H$292,8,TRUE)","v":42.111139999999999}]
[1501.6,"Mt. Everett","2602’","MA","Berkshire",{"$f":"VLOOKUP(A1089,LongLat!$A$2:$H$292,7,TRUE)","v":-73.428299999999993},{"$f":"VLOOKUP(A1089,LongLat!$A$2:$H$292,8,TRUE)","v":42.111139999999999},"http://www.summitpost.org/mountain/rock/182412/mount-everett.html"]
[1502.3,"Guilder Pond Picnic Area","2050’","MA","Berkshire",{"$f":"VLOOKUP(A1090,LongLat!$A$2:$H$292,7,TRUE)","v":-73.428299999999993},{"$f":"VLOOKUP(A1090,LongLat!$A$2:$H$292,8,TRUE)","v":42.111139999999999},"http://www.summitpost.org/image/303922/182412/guilder-pond-on-mt-everett.html"]
[1502.7,"The Hemlocks Lean-to (pic)","1880’","MA","Berkshire",{"$f":"VLOOKUP(A1091,LongLat!$A$2:$H$292,7,TRUE)","v":-73.428299999999993},{"$f":"VLOOKUP(A1091,LongLat!$A$2:$H$292,8,TRUE)","v":42.111139999999999}]
[1502.8,"Glen Brook Lean-to (pic)","1885’","MA","Berkshire",{"$f":"VLOOKUP(A1092,LongLat!$A$2:$H$292,7,TRUE)","v":-73.428299999999993},{"$f":"VLOOKUP(A1092,LongLat!$A$2:$H$292,8,TRUE)","v":42.111139999999999}]
[1503.4,"Elbow Trail","1750’","MA","Hampden",{"$f":"VLOOKUP(A1093,LongLat!$A$2:$H$292,7,TRUE)","v":-73.428299999999993},{"$f":"VLOOKUP(A1093,LongLat!$A$2:$H$292,8,TRUE)","v":42.111139999999999}]
[1505.1,"Jug End","1750’","MA","Hampden",{"$f":"VLOOKUP(A1094,LongLat!$A$2:$H$292,7,TRUE)","v":-73.428299999999993},{"$f":"VLOOKUP(A1094,LongLat!$A$2:$H$292,8,TRUE)","v":42.111139999999999}]
[1506.2,"Jug End Rd.","890’","MA","Hampden",{"$f":"VLOOKUP(A1095,LongLat!$A$2:$H$292,7,TRUE)","v":-73.428299999999993},{"$f":"VLOOKUP(A1095,LongLat!$A$2:$H$292,8,TRUE)","v":42.111139999999999}]
[1507.1,"ATC Kellogg Center/NE Office","810’","MA","Hampden",{"$f":"VLOOKUP(A1096,LongLat!$A$2:$H$292,7,TRUE)","v":-73.428299999999993},{"$f":"VLOOKUP(A1096,LongLat!$A$2:$H$292,8,TRUE)","v":42.111139999999999}]
[1508.9,"Shays Rebellion Monument","700’","MA","Hampden",{"$f":"VLOOKUP(A1097,LongLat!$A$2:$H$292,7,TRUE)","v":-73.428299999999993},{"$f":"VLOOKUP(A1097,LongLat!$A$2:$H$292,8,TRUE)","v":42.111139999999999},"http://walkingnorth.files.wordpress.com/2008/08/img_2346-medium.jpg"]
[1510.7,"US 7, Great Barrington","700’","MA","Hampden",{"$f":"VLOOKUP(A1098,LongLat!$A$2:$H$292,7,TRUE)","v":-73.428299999999993},{"$f":"VLOOKUP(A1098,LongLat!$A$2:$H$292,8,TRUE)","v":42.111139999999999}]
[1511.6,"Housatonic River","720’","MA","Berkshire",{"$f":"VLOOKUP(A1099,LongLat!$A$2:$H$292,7,TRUE)","v":-73.428299999999993},{"$f":"VLOOKUP(A1099,LongLat!$A$2:$H$292,8,TRUE)","v":42.111139999999999}]
[1513.6,"Homes Rd.","1150’","MA","Berkshire",{"$f":"VLOOKUP(A1100,LongLat!$A$2:$H$292,7,TRUE)","v":-73.306200000000004},{"$f":"VLOOKUP(A1100,LongLat!$A$2:$H$292,8,TRUE)","v":42.164830000000002}]
[1515,"East Mt.","1800’","MA","Berkshire",{"$f":"VLOOKUP(A1101,LongLat!$A$2:$H$292,7,TRUE)","v":-73.306200000000004},{"$f":"VLOOKUP(A1101,LongLat!$A$2:$H$292,8,TRUE)","v":42.164830000000002}]
[1517.1,"Tom Leonard Lean-to (pic)","1540’","MA","Berkshire",{"$f":"VLOOKUP(A1102,LongLat!$A$2:$H$292,7,TRUE)","v":-73.306200000000004},{"$f":"VLOOKUP(A1102,LongLat!$A$2:$H$292,8,TRUE)","v":42.164830000000002}]
[1518.2,"Lake Buel Rd.","1150’","MA","Berkshire",{"$f":"VLOOKUP(A1103,LongLat!$A$2:$H$292,7,TRUE)","v":-73.306200000000004},{"$f":"VLOOKUP(A1103,LongLat!$A$2:$H$292,8,TRUE)","v":42.164830000000002}]
[1519.1,"MA 23","1050’","MA","Berkshire",{"$f":"VLOOKUP(A1104,LongLat!$A$2:$H$292,7,TRUE)","v":-73.268500000000003},{"$f":"VLOOKUP(A1104,LongLat!$A$2:$H$292,8,TRUE)","v":42.207810000000002}]
[1520.3,"Blue Hill Rd.","1550’","MA","Berkshire",{"$f":"VLOOKUP(A1105,LongLat!$A$2:$H$292,7,TRUE)","v":-73.268500000000003},{"$f":"VLOOKUP(A1105,LongLat!$A$2:$H$292,8,TRUE)","v":42.207810000000002}]
[1521.1,"Benedict Pond","1620’","MA","Berkshire",{"$f":"VLOOKUP(A1106,LongLat!$A$2:$H$292,7,TRUE)","v":-73.250600000000006},{"$f":"VLOOKUP(A1106,LongLat!$A$2:$H$292,8,TRUE)","v":42.221020000000003},"http://www.flickr.com/photos/barbara_olson/1358673512/"]
[1521.7,"The Ledges","1820’","MA","Berkshire",{"$f":"VLOOKUP(A1107,LongLat!$A$2:$H$292,7,TRUE)","v":-73.250600000000006},{"$f":"VLOOKUP(A1107,LongLat!$A$2:$H$292,8,TRUE)","v":42.221020000000003}]
[1522.4,"Mt. Wilcox South Lean-to (pic)","1720’","MA","Berkshire",{"$f":"VLOOKUP(A1108,LongLat!$A$2:$H$292,7,TRUE)","v":-73.250600000000006},{"$f":"VLOOKUP(A1108,LongLat!$A$2:$H$292,8,TRUE)","v":42.221020000000003}]
[1524.2,"Mt. Wilcox North Lean-to (pic)","1950’","MA","Berkshire",{"$f":"VLOOKUP(A1109,LongLat!$A$2:$H$292,7,TRUE)","v":-73.250600000000006},{"$f":"VLOOKUP(A1109,LongLat!$A$2:$H$292,8,TRUE)","v":42.221020000000003}]
[1524.8,"Beartown Mt. Rd.","1800’","MA","Berkshire",{"$f":"VLOOKUP(A1110,LongLat!$A$2:$H$292,7,TRUE)","v":-73.250600000000006},{"$f":"VLOOKUP(A1110,LongLat!$A$2:$H$292,8,TRUE)","v":42.221020000000003}]
[1528,"Fernside Rd.","1200’","MA","Berkshire",{"$f":"VLOOKUP(A1111,LongLat!$A$2:$H$292,7,TRUE)","v":-73.250600000000006},{"$f":"VLOOKUP(A1111,LongLat!$A$2:$H$292,8,TRUE)","v":42.221020000000003}]
[1528.3,"Shaker Campsite","1000’","MA","Berkshire",{"$f":"VLOOKUP(A1112,LongLat!$A$2:$H$292,7,TRUE)","v":-73.250600000000006},{"$f":"VLOOKUP(A1112,LongLat!$A$2:$H$292,8,TRUE)","v":42.221020000000003}]
[1530.1,"Tyringham, MA","930’","MA","Berkshire",{"$f":"VLOOKUP(A1113,LongLat!$A$2:$H$292,7,TRUE)","v":-73.250600000000006},{"$f":"VLOOKUP(A1113,LongLat!$A$2:$H$292,8,TRUE)","v":42.221020000000003}]
[1533.1,"Webster Rd.","1800’","MA","Berkshire",{"$f":"VLOOKUP(A1114,LongLat!$A$2:$H$292,7,TRUE)","v":-73.250600000000006},{"$f":"VLOOKUP(A1114,LongLat!$A$2:$H$292,8,TRUE)","v":42.221020000000003}]
[1535.5,"Goose Pond Rd.","1650’","MA","Berkshire",{"$f":"VLOOKUP(A1115,LongLat!$A$2:$H$292,7,TRUE)","v":-73.181299999999993},{"$f":"VLOOKUP(A1115,LongLat!$A$2:$H$292,8,TRUE)","v":42.288649999999997}]
[1537.4,"Upper Goose Pond","1500’","MA","Berkshire",{"$f":"VLOOKUP(A1116,LongLat!$A$2:$H$292,7,TRUE)","v":-73.181299999999993},{"$f":"VLOOKUP(A1116,LongLat!$A$2:$H$292,8,TRUE)","v":42.288649999999997},"http://walkingnorth.files.wordpress.com/2008/08/img_2369.jpg"]
[1538.2,"Upper Goose Pond Cabin (pic)","1483’","MA","Berkshire",{"$f":"VLOOKUP(A1117,LongLat!$A$2:$H$292,7,TRUE)","v":-73.181299999999993},{"$f":"VLOOKUP(A1117,LongLat!$A$2:$H$292,8,TRUE)","v":42.288649999999997},"http://hikers99.homestead.com/files/0801upperg.jpg"]
[1539.4,"Mass. Turnpike (I-90)","1400’","MA","Berkshire",{"$f":"VLOOKUP(A1118,LongLat!$A$2:$H$292,7,TRUE)","v":-73.181299999999993},{"$f":"VLOOKUP(A1118,LongLat!$A$2:$H$292,8,TRUE)","v":42.288649999999997}]
[1539.5,"Greenwater Brook","1400’","MA","Berkshire",{"$f":"VLOOKUP(A1119,LongLat!$A$2:$H$292,7,TRUE)","v":-73.181299999999993},{"$f":"VLOOKUP(A1119,LongLat!$A$2:$H$292,8,TRUE)","v":42.288649999999997}]
[1539.8,"US 20","1400’","MA","Berkshire",{"$f":"VLOOKUP(A1120,LongLat!$A$2:$H$292,7,TRUE)","v":-73.181299999999993},{"$f":"VLOOKUP(A1120,LongLat!$A$2:$H$292,8,TRUE)","v":42.288649999999997}]
[1540.6,"Tyne Rd.","1750’","MA","Berkshire",{"$f":"VLOOKUP(A1121,LongLat!$A$2:$H$292,7,TRUE)","v":-73.181299999999993},{"$f":"VLOOKUP(A1121,LongLat!$A$2:$H$292,8,TRUE)","v":42.288649999999997}]
[1541.1,"Beckett Mt.","2180’","MA","Berkshire",{"$f":"VLOOKUP(A1122,LongLat!$A$2:$H$292,7,TRUE)","v":-73.181299999999993},{"$f":"VLOOKUP(A1122,LongLat!$A$2:$H$292,8,TRUE)","v":42.288649999999997}]
[1542.9,"Finerty Pond","1900’","MA","Berkshire",{"$f":"VLOOKUP(A1123,LongLat!$A$2:$H$292,7,TRUE)","v":-73.181299999999993},{"$f":"VLOOKUP(A1123,LongLat!$A$2:$H$292,8,TRUE)","v":42.288649999999997},"http://gallery.backcountry.net/albums/papabear_section_2/ack.sized.jpg"]
[1545.2,"County Rd.","1850’","MA","Berkshire",{"$f":"VLOOKUP(A1124,LongLat!$A$2:$H$292,7,TRUE)","v":-73.154499999999999},{"$f":"VLOOKUP(A1124,LongLat!$A$2:$H$292,8,TRUE)","v":42.354869999999998}]
[1545.4,"Bald Top","2040’","MA","Berkshire",{"$f":"VLOOKUP(A1125,LongLat!$A$2:$H$292,7,TRUE)","v":-73.154499999999999},{"$f":"VLOOKUP(A1125,LongLat!$A$2:$H$292,8,TRUE)","v":42.354869999999998}]
[1547,"October Mt. Lean-to (pic)","1930’","MA","Berkshire",{"$f":"VLOOKUP(A1126,LongLat!$A$2:$H$292,7,TRUE)","v":-73.154499999999999},{"$f":"VLOOKUP(A1126,LongLat!$A$2:$H$292,8,TRUE)","v":42.354869999999998},"http://www.jmclum.com/fall2000/092900b.jpg"]
[1547.7,"West Branch Rd.","1960’","MA","Berkshire",{"$f":"VLOOKUP(A1127,LongLat!$A$2:$H$292,7,TRUE)","v":-73.154499999999999},{"$f":"VLOOKUP(A1127,LongLat!$A$2:$H$292,8,TRUE)","v":42.354869999999998}]
[1549.2,"Washington Mt/Pittsfield Rd.","2000’","MA","Berkshire",{"$f":"VLOOKUP(A1128,LongLat!$A$2:$H$292,7,TRUE)","v":-73.154499999999999},{"$f":"VLOOKUP(A1128,LongLat!$A$2:$H$292,8,TRUE)","v":42.354869999999998}]
[1551.2,"stream","1950’","MA","Berkshire",{"$f":"VLOOKUP(A1129,LongLat!$A$2:$H$292,7,TRUE)","v":-73.154499999999999},{"$f":"VLOOKUP(A1129,LongLat!$A$2:$H$292,8,TRUE)","v":42.354869999999998}]
[1552.4,"Blotz Rd.","1850’","MA","Berkshire",{"$f":"VLOOKUP(A1130,LongLat!$A$2:$H$292,7,TRUE)","v":-73.161900000000003},{"$f":"VLOOKUP(A1130,LongLat!$A$2:$H$292,8,TRUE)","v":42.452500000000001}]
[1553.1,"Warner Mt.","2050’","MA","Berkshire",{"$f":"VLOOKUP(A1131,LongLat!$A$2:$H$292,7,TRUE)","v":-73.161900000000003},{"$f":"VLOOKUP(A1131,LongLat!$A$2:$H$292,8,TRUE)","v":42.452500000000001}]
[1555.8,"Kay Wood Lean-to (pic)","1860’","MA","Berkshire",{"$f":"VLOOKUP(A1132,LongLat!$A$2:$H$292,7,TRUE)","v":-73.161900000000003},{"$f":"VLOOKUP(A1132,LongLat!$A$2:$H$292,8,TRUE)","v":42.452500000000001},"http://gallery.backcountry.net/albums/papabear_section_2/acr.sized.jpg"]
[1556.1,"Grange Hall Rd.","1650’","MA","Berkshire",{"$f":"VLOOKUP(A1133,LongLat!$A$2:$H$292,7,TRUE)","v":-73.161900000000003},{"$f":"VLOOKUP(A1133,LongLat!$A$2:$H$292,8,TRUE)","v":42.452500000000001}]
[1558.2,"CSX Railroad","1199’","MA","Berkshire",{"$f":"VLOOKUP(A1134,LongLat!$A$2:$H$292,7,TRUE)","v":-73.161900000000003},{"$f":"VLOOKUP(A1134,LongLat!$A$2:$H$292,8,TRUE)","v":42.452500000000001}]
[1558.8,"Dalton, MA","1200’","MA","Berkshire",{"$f":"VLOOKUP(A1135,LongLat!$A$2:$H$292,7,TRUE)","v":-73.161900000000003},{"$f":"VLOOKUP(A1135,LongLat!$A$2:$H$292,8,TRUE)","v":42.452500000000001}]
[1559.8,"Gulf Rd.","1180’","MA","Berkshire",{"$f":"VLOOKUP(A1136,LongLat!$A$2:$H$292,7,TRUE)","v":-73.161900000000003},{"$f":"VLOOKUP(A1136,LongLat!$A$2:$H$292,8,TRUE)","v":42.452500000000001}]
[1563.5,"Crystal Mt. Campsite","2100’","MA","Berkshire",{"$f":"VLOOKUP(A1137,LongLat!$A$2:$H$292,7,TRUE)","v":-73.161900000000003},{"$f":"VLOOKUP(A1137,LongLat!$A$2:$H$292,8,TRUE)","v":42.452500000000001},"http://gallery.backcountry.net/albums/papabear_section_2/acu.sized.jpg"]
[1563.9,"Gore Pond","2050’","MA","Berkshire",{"$f":"VLOOKUP(A1138,LongLat!$A$2:$H$292,7,TRUE)","v":-73.161900000000003},{"$f":"VLOOKUP(A1138,LongLat!$A$2:$H$292,8,TRUE)","v":42.452500000000001}]
[1566.4,"The Cobbles","1850’","MA","Berkshire",{"$f":"VLOOKUP(A1139,LongLat!$A$2:$H$292,7,TRUE)","v":-73.161900000000003},{"$f":"VLOOKUP(A1139,LongLat!$A$2:$H$292,8,TRUE)","v":42.452500000000001},"http://www.summitpost.org/image/32439/150465/contemplating-mt-greylock.html"]
[1567.5,"Hoosic River, Cheshire","950’","MA","Berkshire",{"$f":"VLOOKUP(A1140,LongLat!$A$2:$H$292,7,TRUE)","v":-73.161900000000003},{"$f":"VLOOKUP(A1140,LongLat!$A$2:$H$292,8,TRUE)","v":42.452500000000001}]
[1567.6,"Hiker Kiosk","970’","MA","Berkshire",{"$f":"VLOOKUP(A1141,LongLat!$A$2:$H$292,7,TRUE)","v":-73.161900000000003},{"$f":"VLOOKUP(A1141,LongLat!$A$2:$H$292,8,TRUE)","v":42.452500000000001}]
[1568.1,"MA 8, Adams","990’","MA","Berkshire",{"$f":"VLOOKUP(A1142,LongLat!$A$2:$H$292,7,TRUE)","v":-73.161900000000003},{"$f":"VLOOKUP(A1142,LongLat!$A$2:$H$292,8,TRUE)","v":42.452500000000001}]
[1568.9,"Outlook Ave.","1350’","MA","Berkshire",{"$f":"VLOOKUP(A1143,LongLat!$A$2:$H$292,7,TRUE)","v":-73.1845},{"$f":"VLOOKUP(A1143,LongLat!$A$2:$H$292,8,TRUE)","v":42.608550000000001}]
[1571.6,"Old Adams Rd.","2350’","MA","Berkshire",{"$f":"VLOOKUP(A1144,LongLat!$A$2:$H$292,7,TRUE)","v":-73.194000000000003},{"$f":"VLOOKUP(A1144,LongLat!$A$2:$H$292,8,TRUE)","v":42.629350000000002}]
[1572.5,"Mark Noepel Lean-to (pic)","2750’","MA","Berkshire",{"$f":"VLOOKUP(A1145,LongLat!$A$2:$H$292,7,TRUE)","v":-73.1678},{"$f":"VLOOKUP(A1145,LongLat!$A$2:$H$292,8,TRUE)","v":42.636890000000001}]
[1573.1,"Saddle Ball Mt.","3150’","MA","Berkshire",{"$f":"VLOOKUP(A1146,LongLat!$A$2:$H$292,7,TRUE)","v":-73.154700000000005},{"$f":"VLOOKUP(A1146,LongLat!$A$2:$H$292,8,TRUE)","v":42.644100000000002},"http://www.franklinsites.com/hikephotos/Massachusetts/saddleballmtn.php"]
[1575.3,"Notch/Rockwell Rd.","3290’","MA","Berkshire",{"$f":"VLOOKUP(A1147,LongLat!$A$2:$H$292,7,TRUE)","v":-73.169799999999995},{"$f":"VLOOKUP(A1147,LongLat!$A$2:$H$292,8,TRUE)","v":42.668480000000002}]
[1575.8,"Mt. Greylock","3491’","MA","Berkshire",{"$f":"VLOOKUP(A1148,LongLat!$A$2:$H$292,7,TRUE)","v":-73.169799999999995},{"$f":"VLOOKUP(A1148,LongLat!$A$2:$H$292,8,TRUE)","v":42.668480000000002},"http://www.summitpost.org/mountain/rock/150465/mount-greylock.html"]
[1579,"Notch Rd.","3400’","MA","Berkshire",{"$f":"VLOOKUP(A1149,LongLat!$A$2:$H$292,7,TRUE)","v":-73.169799999999995},{"$f":"VLOOKUP(A1149,LongLat!$A$2:$H$292,8,TRUE)","v":42.668480000000002}]
[1579.1,"Wilbur Clearing Lean-to (pic)","2325’","MA","Berkshire",{"$f":"VLOOKUP(A1150,LongLat!$A$2:$H$292,7,TRUE)","v":-73.169799999999995},{"$f":"VLOOKUP(A1150,LongLat!$A$2:$H$292,8,TRUE)","v":42.668480000000002},"http://gallery.backcountry.net/albums/papabear_section_2/ade.sized.jpg"]
[1581.2,"Pattison Rd.","900’","MA","Berkshire",{"$f":"VLOOKUP(A1151,LongLat!$A$2:$H$292,7,TRUE)","v":-73.169799999999995},{"$f":"VLOOKUP(A1151,LongLat!$A$2:$H$292,8,TRUE)","v":42.668480000000002}]
[1582.1,"MA 2, North Adams","660’","MA","Berkshire",{"$f":"VLOOKUP(A1152,LongLat!$A$2:$H$292,7,TRUE)","v":-73.169799999999995},{"$f":"VLOOKUP(A1152,LongLat!$A$2:$H$292,8,TRUE)","v":42.668480000000002}]
[1583.9,"Sherman Brook Primitive Campsite","1300’","MA","Berkshire",{"$f":"VLOOKUP(A1153,LongLat!$A$2:$H$292,7,TRUE)","v":-73.169799999999995},{"$f":"VLOOKUP(A1153,LongLat!$A$2:$H$292,8,TRUE)","v":42.668480000000002}]
[1584.9,"Pine Cobble Trail","2010’","MA","Berkshire",{"$f":"VLOOKUP(A1154,LongLat!$A$2:$H$292,7,TRUE)","v":-73.169799999999995},{"$f":"VLOOKUP(A1154,LongLat!$A$2:$H$292,8,TRUE)","v":42.668480000000002},"http://www.summitpost.org/mountain/rock/152864/pine-cobble.html"]
[1585.6,"Eph’s Lookout","2254’","MA","Berkshire",{"$f":"VLOOKUP(A1155,LongLat!$A$2:$H$292,7,TRUE)","v":-73.137600000000006},{"$f":"VLOOKUP(A1155,LongLat!$A$2:$H$292,8,TRUE)","v":42.771839999999997}]
[1586.2,"MA-VT State Line","2330’",null,null,{"$f":"VLOOKUP(A1156,LongLat!$A$2:$H$292,7,TRUE)","v":-73.137600000000006},{"$f":"VLOOKUP(A1156,LongLat!$A$2:$H$292,8,TRUE)","v":42.771839999999997},"http://gallery.backcountry.net/albums/papabear_section_2/adh.sized.jpg"]
[1586.6,"brook","2300’","VT","Bennington",{"$f":"VLOOKUP(A1157,LongLat!$A$2:$H$292,7,TRUE)","v":-73.137600000000006},{"$f":"VLOOKUP(A1157,LongLat!$A$2:$H$292,8,TRUE)","v":42.771839999999997}]
[1589,"Seth Warner Shelter (pic)","2180’","VT","Bennington",{"$f":"VLOOKUP(A1158,LongLat!$A$2:$H$292,7,TRUE)","v":-73.137600000000006},{"$f":"VLOOKUP(A1158,LongLat!$A$2:$H$292,8,TRUE)","v":42.771839999999997}]
[1589.3,"County Road","2290’","VT","Bennington",{"$f":"VLOOKUP(A1159,LongLat!$A$2:$H$292,7,TRUE)","v":-73.137600000000006},{"$f":"VLOOKUP(A1159,LongLat!$A$2:$H$292,8,TRUE)","v":42.771839999999997}]
[1590.4,"Ed’s Spring","2890’","VT","Bennington",{"$f":"VLOOKUP(A1160,LongLat!$A$2:$H$292,7,TRUE)","v":-73.137600000000006},{"$f":"VLOOKUP(A1160,LongLat!$A$2:$H$292,8,TRUE)","v":42.771839999999997}]
[1592,"Roaring Branch","2470’","VT","Bennington",{"$f":"VLOOKUP(A1161,LongLat!$A$2:$H$292,7,TRUE)","v":-73.137600000000006},{"$f":"VLOOKUP(A1161,LongLat!$A$2:$H$292,8,TRUE)","v":42.771839999999997}]
[1596.2,"Congdon Shelter (pic)","2060’","VT","Bennington",{"$f":"VLOOKUP(A1162,LongLat!$A$2:$H$292,7,TRUE)","v":-73.110399999999998},{"$f":"VLOOKUP(A1162,LongLat!$A$2:$H$292,8,TRUE)","v":42.848050000000001}]
[1598.7,"Harmon Hill","2325’","VT","Bennington",{"$f":"VLOOKUP(A1163,LongLat!$A$2:$H$292,7,TRUE)","v":-73.096199999999996},{"$f":"VLOOKUP(A1163,LongLat!$A$2:$H$292,8,TRUE)","v":42.887779999999999},"http://www.panoramio.com/photo/23613904"]
[1600.5,"VT 9","1360’","VT","Bennington",{"$f":"VLOOKUP(A1164,LongLat!$A$2:$H$292,7,TRUE)","v":-73.096199999999996},{"$f":"VLOOKUP(A1164,LongLat!$A$2:$H$292,8,TRUE)","v":42.887779999999999}]
[1602.1,"Melville Nauheim Shelter (pic)","2330’","VT","Bennington",{"$f":"VLOOKUP(A1165,LongLat!$A$2:$H$292,7,TRUE)","v":-73.096199999999996},{"$f":"VLOOKUP(A1165,LongLat!$A$2:$H$292,8,TRUE)","v":42.887779999999999}]
[1603.7,"Hell Hollow Brook","2350’","VT","Bennington",{"$f":"VLOOKUP(A1166,LongLat!$A$2:$H$292,7,TRUE)","v":-73.096199999999996},{"$f":"VLOOKUP(A1166,LongLat!$A$2:$H$292,8,TRUE)","v":42.887779999999999}]
[1606.3,"Little Pond Lookout","3060’","VT","Bennington",{"$f":"VLOOKUP(A1167,LongLat!$A$2:$H$292,7,TRUE)","v":-73.096199999999996},{"$f":"VLOOKUP(A1167,LongLat!$A$2:$H$292,8,TRUE)","v":42.887779999999999}]
[1608.1,"Glastenbury Lookout","2920’","VT","Bennington",{"$f":"VLOOKUP(A1168,LongLat!$A$2:$H$292,7,TRUE)","v":-73.072599999999994},{"$f":"VLOOKUP(A1168,LongLat!$A$2:$H$292,8,TRUE)","v":42.974130000000002},"http://www.summitpost.org/image/228232/221010/glastenbury-mountain-firetower.html"]
[1610.6,"Goddard Shelter (pic)","3540’","VT","Bennington",{"$f":"VLOOKUP(A1169,LongLat!$A$2:$H$292,7,TRUE)","v":-73.072599999999994},{"$f":"VLOOKUP(A1169,LongLat!$A$2:$H$292,8,TRUE)","v":42.974130000000002}]
[1610.9,"Glastenbury Mt.","3748’","VT","Bennington",{"$f":"VLOOKUP(A1170,LongLat!$A$2:$H$292,7,TRUE)","v":-73.072599999999994},{"$f":"VLOOKUP(A1170,LongLat!$A$2:$H$292,8,TRUE)","v":42.974130000000002},"http://www.summitpost.org/mountain/rock/151289/glastenbury-mt.html"]
[1614.9,"Kid Gore Shelter (pic)","2795’","VT","Windham",{"$f":"VLOOKUP(A1171,LongLat!$A$2:$H$292,7,TRUE)","v":-73.0441},{"$f":"VLOOKUP(A1171,LongLat!$A$2:$H$292,8,TRUE)","v":43.015000000000001}]
[1616.2,"Lydia’s Rest","3300’","VT","Windham",{"$f":"VLOOKUP(A1172,LongLat!$A$2:$H$292,7,TRUE)","v":-73.013000000000005},{"$f":"VLOOKUP(A1172,LongLat!$A$2:$H$292,8,TRUE)","v":43.050539999999998}]
[1618.6,"South Alder Brook","2600’","VT","Windham",{"$f":"VLOOKUP(A1173,LongLat!$A$2:$H$292,7,TRUE)","v":-73.013000000000005},{"$f":"VLOOKUP(A1173,LongLat!$A$2:$H$292,8,TRUE)","v":43.050539999999998}]
[1619.5,"Story Spring Shelter (pic)","2810’","VT","Windham",{"$f":"VLOOKUP(A1174,LongLat!$A$2:$H$292,7,TRUE)","v":-73.013000000000005},{"$f":"VLOOKUP(A1174,LongLat!$A$2:$H$292,8,TRUE)","v":43.050539999999998}]
[1623.1,"Stratton-Arlington Rd.","2230’","VT","Windham",{"$f":"VLOOKUP(A1175,LongLat!$A$2:$H$292,7,TRUE)","v":-73.005600000000001},{"$f":"VLOOKUP(A1175,LongLat!$A$2:$H$292,8,TRUE)","v":43.10342}]
[1626.9,"Stratton Mt.","3936’","VT","Windham",{"$f":"VLOOKUP(A1176,LongLat!$A$2:$H$292,7,TRUE)","v":-72.968800000000002},{"$f":"VLOOKUP(A1176,LongLat!$A$2:$H$292,8,TRUE)","v":43.101410000000001},"http://www.summitpost.org/mountain/rock/151903/stratton-mountain.html"]
[1629.9,"Stratton Pond Shelter (pic)","2565’","VT","Windham",{"$f":"VLOOKUP(A1177,LongLat!$A$2:$H$292,7,TRUE)","v":-72.968800000000002},{"$f":"VLOOKUP(A1177,LongLat!$A$2:$H$292,8,TRUE)","v":43.101410000000001}]
[1630.1,"Stratton Pond","2555’","VT","Windham",{"$f":"VLOOKUP(A1178,LongLat!$A$2:$H$292,7,TRUE)","v":-72.968800000000002},{"$f":"VLOOKUP(A1178,LongLat!$A$2:$H$292,8,TRUE)","v":43.101410000000001},"http://www.summitpost.org/image/340083/151903/stratton-mountain-and-stratton-pond.html"]
[1632,"Winhall River","2175’","VT","Bennington",{"$f":"VLOOKUP(A1179,LongLat!$A$2:$H$292,7,TRUE)","v":-72.991399999999999},{"$f":"VLOOKUP(A1179,LongLat!$A$2:$H$292,8,TRUE)","v":43.144500000000001}]
[1634.8,"William B. Douglas Shelter (pic)","2210’","VT","Bennington",{"$f":"VLOOKUP(A1180,LongLat!$A$2:$H$292,7,TRUE)","v":-72.995699999999999},{"$f":"VLOOKUP(A1180,LongLat!$A$2:$H$292,8,TRUE)","v":43.178600000000003}]
[1635.7,"Old Rootville Rd, Prospect Rock","2150’","VT","Bennington",{"$f":"VLOOKUP(A1181,LongLat!$A$2:$H$292,7,TRUE)","v":-72.995699999999999},{"$f":"VLOOKUP(A1181,LongLat!$A$2:$H$292,8,TRUE)","v":43.178600000000003},"http://www.summitpost.org/image/340865/170967/from-prospect-rock.html"]
[1637.8,"Spruce Peak Shelter (pic)","2180’","VT","Bennington",{"$f":"VLOOKUP(A1182,LongLat!$A$2:$H$292,7,TRUE)","v":-72.995699999999999},{"$f":"VLOOKUP(A1182,LongLat!$A$2:$H$292,8,TRUE)","v":43.178600000000003}]
[1638.2,"Spruce Peak","2040’","VT","Bennington",{"$f":"VLOOKUP(A1183,LongLat!$A$2:$H$292,7,TRUE)","v":-72.995699999999999},{"$f":"VLOOKUP(A1183,LongLat!$A$2:$H$292,8,TRUE)","v":43.178600000000003}]
[1640.6,"VT 11/30","1840’","VT","Bennington",{"$f":"VLOOKUP(A1184,LongLat!$A$2:$H$292,7,TRUE)","v":-72.937200000000004},{"$f":"VLOOKUP(A1184,LongLat!$A$2:$H$292,8,TRUE)","v":43.2395}]
[1642.6,"Bromley Shelter (pic)","2560’","VT","Bennington",{"$f":"VLOOKUP(A1185,LongLat!$A$2:$H$292,7,TRUE)","v":-72.937200000000004},{"$f":"VLOOKUP(A1185,LongLat!$A$2:$H$292,8,TRUE)","v":43.2395}]
[1643.6,"Bromley Mt.","3260’","VT","Bennington",{"$f":"VLOOKUP(A1186,LongLat!$A$2:$H$292,7,TRUE)","v":-72.937200000000004},{"$f":"VLOOKUP(A1186,LongLat!$A$2:$H$292,8,TRUE)","v":43.2395},"http://www.summitpost.org/mountain/rock/572164/bromley-mountain.html"]
[1646.1,"Mad Tom Notch, USFS 21","2446’","VT","Bennington",{"$f":"VLOOKUP(A1187,LongLat!$A$2:$H$292,7,TRUE)","v":-72.937200000000004},{"$f":"VLOOKUP(A1187,LongLat!$A$2:$H$292,8,TRUE)","v":43.2395}]
[1647.7,"Styles Peak","3394’","VT","Bennington",{"$f":"VLOOKUP(A1188,LongLat!$A$2:$H$292,7,TRUE)","v":-72.9529},{"$f":"VLOOKUP(A1188,LongLat!$A$2:$H$292,8,TRUE)","v":43.301319999999997}]
[1649.4,"Peru Peak","3429’","VT","Bennington",{"$f":"VLOOKUP(A1189,LongLat!$A$2:$H$292,7,TRUE)","v":-72.9529},{"$f":"VLOOKUP(A1189,LongLat!$A$2:$H$292,8,TRUE)","v":43.301319999999997},"http://www.summitpost.org/image/173406/174869/peru-peak.html"]
[1650.7,"Peru Peak Shelter (pic)","2605’","VT","Bennington",{"$f":"VLOOKUP(A1190,LongLat!$A$2:$H$292,7,TRUE)","v":-72.9529},{"$f":"VLOOKUP(A1190,LongLat!$A$2:$H$292,8,TRUE)","v":43.301319999999997}]
[1651.2,"Griffith Lake Tenting Area","2600’","VT","Rutland",{"$f":"VLOOKUP(A1191,LongLat!$A$2:$H$292,7,TRUE)","v":-72.9529},{"$f":"VLOOKUP(A1191,LongLat!$A$2:$H$292,8,TRUE)","v":43.301319999999997}]
[1653.4,"Griffith Lake","2600’","VT","Rutland",{"$f":"VLOOKUP(A1192,LongLat!$A$2:$H$292,7,TRUE)","v":-72.946899999999999},{"$f":"VLOOKUP(A1192,LongLat!$A$2:$H$292,8,TRUE)","v":43.364069999999998},"http://www.summitpost.org/image/173405/170967/griffith-lake.html"]
[1655.4,"Baker Peak","2850’","VT","Rutland",{"$f":"VLOOKUP(A1193,LongLat!$A$2:$H$292,7,TRUE)","v":-72.946899999999999},{"$f":"VLOOKUP(A1193,LongLat!$A$2:$H$292,8,TRUE)","v":43.364069999999998},"http://www.summitpost.org/mountain/rock/155238/baker-peak.html"]
[1656.9,"Lost Pond Campsite","2150’","VT","Rutland",{"$f":"VLOOKUP(A1194,LongLat!$A$2:$H$292,7,TRUE)","v":-72.955299999999994},{"$f":"VLOOKUP(A1194,LongLat!$A$2:$H$292,8,TRUE)","v":43.39546},"http://www.cs.utk.edu/~dunigan/at/m.php?wpt=LostPond"]
[1657.1,"Old Job Shelter (pic)","1525’","VT","Rutland",{"$f":"VLOOKUP(A1195,LongLat!$A$2:$H$292,7,TRUE)","v":-72.953599999999994},{"$f":"VLOOKUP(A1195,LongLat!$A$2:$H$292,8,TRUE)","v":43.404220000000002},"http://4.bp.blogspot.com/_4286skaiT0g/SHIroAsrXGI/AAAAAAAAAV0/_fiB_fJgcmc/s1600-h/000_0281.jpg"]
[1658.4,"USFS 10, Black Branch","1500’","VT","Rutland",{"$f":"VLOOKUP(A1196,LongLat!$A$2:$H$292,7,TRUE)","v":-72.953599999999994},{"$f":"VLOOKUP(A1196,LongLat!$A$2:$H$292,8,TRUE)","v":43.404220000000002}]
[1660.1,"Lula Tye Shelter (pic)","1920’","VT","Rutland",{"$f":"VLOOKUP(A1197,LongLat!$A$2:$H$292,7,TRUE)","v":-72.953599999999994},{"$f":"VLOOKUP(A1197,LongLat!$A$2:$H$292,8,TRUE)","v":43.404220000000002}]
[1660.4,"Little Rock Pond Tenting Area","1854’","VT","Rutland",{"$f":"VLOOKUP(A1198,LongLat!$A$2:$H$292,7,TRUE)","v":-72.953599999999994},{"$f":"VLOOKUP(A1198,LongLat!$A$2:$H$292,8,TRUE)","v":43.404220000000002}]
[1660.5,"spring","1854’","VT","Rutland",{"$f":"VLOOKUP(A1199,LongLat!$A$2:$H$292,7,TRUE)","v":-72.953599999999994},{"$f":"VLOOKUP(A1199,LongLat!$A$2:$H$292,8,TRUE)","v":43.404220000000002}]
[1660.8,"Little Rock Pond Shelter (pic)","1885’","VT","Rutland",{"$f":"VLOOKUP(A1200,LongLat!$A$2:$H$292,7,TRUE)","v":-72.953599999999994},{"$f":"VLOOKUP(A1200,LongLat!$A$2:$H$292,8,TRUE)","v":43.404220000000002}]
[1664.7,"White Rocks Cliffs side trail","2400’","VT","Rutland",{"$f":"VLOOKUP(A1201,LongLat!$A$2:$H$292,7,TRUE)","v":-72.929100000000005},{"$f":"VLOOKUP(A1201,LongLat!$A$2:$H$292,8,TRUE)","v":43.440420000000003},"http://www.panoramio.com/photo/14330273"]
[1665.2,"Greenwall Shelter (pic)","2025’","VT","Rutland",{"$f":"VLOOKUP(A1202,LongLat!$A$2:$H$292,7,TRUE)","v":-72.929100000000005},{"$f":"VLOOKUP(A1202,LongLat!$A$2:$H$292,8,TRUE)","v":43.440420000000003}]
[1666.6,"Sugar Hill Rd.","1260’","VT","Rutland",{"$f":"VLOOKUP(A1203,LongLat!$A$2:$H$292,7,TRUE)","v":-72.924999999999997},{"$f":"VLOOKUP(A1203,LongLat!$A$2:$H$292,8,TRUE)","v":43.487789999999997}]
[1666.7,"VT 140","1160’","VT","Rutland",{"$f":"VLOOKUP(A1204,LongLat!$A$2:$H$292,7,TRUE)","v":-72.924999999999997},{"$f":"VLOOKUP(A1204,LongLat!$A$2:$H$292,8,TRUE)","v":43.487789999999997}]
[1668.8,"Bear Mt.","2220’","VT","Rutland",{"$f":"VLOOKUP(A1205,LongLat!$A$2:$H$292,7,TRUE)","v":-72.924999999999997},{"$f":"VLOOKUP(A1205,LongLat!$A$2:$H$292,8,TRUE)","v":43.487789999999997}]
[1670.3,"Minerva Hinchey Shelter (pic)","1605’","VT","Rutland",{"$f":"VLOOKUP(A1206,LongLat!$A$2:$H$292,7,TRUE)","v":-72.9131},{"$f":"VLOOKUP(A1206,LongLat!$A$2:$H$292,8,TRUE)","v":43.523530000000001}]
[1672.9,"Clarendon Gorge","800’","VT","Rutland",{"$f":"VLOOKUP(A1207,LongLat!$A$2:$H$292,7,TRUE)","v":-72.9131},{"$f":"VLOOKUP(A1207,LongLat!$A$2:$H$292,8,TRUE)","v":43.523530000000001},"http://www.panoramio.com/photo/16055050"]
[1673,"VT 103","860’","VT","Rutland",{"$f":"VLOOKUP(A1208,LongLat!$A$2:$H$292,7,TRUE)","v":-72.9131},{"$f":"VLOOKUP(A1208,LongLat!$A$2:$H$292,8,TRUE)","v":43.523530000000001}]
[1674,"Clarendon Shelter (pic)","1190’","VT","Rutland",{"$f":"VLOOKUP(A1209,LongLat!$A$2:$H$292,7,TRUE)","v":-72.9131},{"$f":"VLOOKUP(A1209,LongLat!$A$2:$H$292,8,TRUE)","v":43.523530000000001}]
[1674.5,"Beacon Hill","1740’","VT","Rutland",{"$f":"VLOOKUP(A1210,LongLat!$A$2:$H$292,7,TRUE)","v":-72.9131},{"$f":"VLOOKUP(A1210,LongLat!$A$2:$H$292,8,TRUE)","v":43.523530000000001}]
[1674.9,"Lottery Rd.","1720’","VT","Rutland",{"$f":"VLOOKUP(A1211,LongLat!$A$2:$H$292,7,TRUE)","v":-72.9131},{"$f":"VLOOKUP(A1211,LongLat!$A$2:$H$292,8,TRUE)","v":43.523530000000001}]
[1676.9,"Lower Cold River Rd.","1400’","VT","Rutland",{"$f":"VLOOKUP(A1212,LongLat!$A$2:$H$292,7,TRUE)","v":-72.848799999999997},{"$f":"VLOOKUP(A1212,LongLat!$A$2:$H$292,8,TRUE)","v":43.56456}]
[1677.7,"Gould Brook (ford)","1480’","VT","Rutland",{"$f":"VLOOKUP(A1213,LongLat!$A$2:$H$292,7,TRUE)","v":-72.848799999999997},{"$f":"VLOOKUP(A1213,LongLat!$A$2:$H$292,8,TRUE)","v":43.56456},"http://www.panoramio.com/photo/16055635"]
[1678.4,"Upper Cold River Rd.","1630’","VT","Rutland",{"$f":"VLOOKUP(A1214,LongLat!$A$2:$H$292,7,TRUE)","v":-72.848799999999997},{"$f":"VLOOKUP(A1214,LongLat!$A$2:$H$292,8,TRUE)","v":43.56456}]
[1679.8,"Governor Clement Shelter (pic)","1900’","VT","Rutland",{"$f":"VLOOKUP(A1215,LongLat!$A$2:$H$292,7,TRUE)","v":-72.848799999999997},{"$f":"VLOOKUP(A1215,LongLat!$A$2:$H$292,8,TRUE)","v":43.56456}]
[1684.1,"Killington Peak side trail","3900’","VT","Rutland",{"$f":"VLOOKUP(A1216,LongLat!$A$2:$H$292,7,TRUE)","v":-72.831000000000003},{"$f":"VLOOKUP(A1216,LongLat!$A$2:$H$292,8,TRUE)","v":43.639029999999998},"http://www.summitpost.org/mountain/rock/154527/killington-peak.html"]
[1684.1,"Cooper Lodge (pic)","3900’","VT","Rutland",{"$f":"VLOOKUP(A1217,LongLat!$A$2:$H$292,7,TRUE)","v":-72.831000000000003},{"$f":"VLOOKUP(A1217,LongLat!$A$2:$H$292,8,TRUE)","v":43.639029999999998}]
[1686.6,"Sherburne Trail to Pico Camp (pic)","3480’","VT","Rutland",{"$f":"VLOOKUP(A1218,LongLat!$A$2:$H$292,7,TRUE)","v":0},{"$f":"VLOOKUP(A1218,LongLat!$A$2:$H$292,8,TRUE)","v":0},"http://web.eecs.utk.edu/~dunigan/at/m.php?wpt=PicoCamp"]
[1688.5,"Churchill Scott Shelter (pic)","2560’","VT","Rutland",{"$f":"VLOOKUP(A1219,LongLat!$A$2:$H$292,7,TRUE)","v":-72.843599999999995},{"$f":"VLOOKUP(A1219,LongLat!$A$2:$H$292,8,TRUE)","v":43.679200000000002}]
[1690.4,"US 4, Rutland","1880’","VT","Rutland",{"$f":"VLOOKUP(A1220,LongLat!$A$2:$H$292,7,TRUE)","v":-72.811700000000002},{"$f":"VLOOKUP(A1220,LongLat!$A$2:$H$292,8,TRUE)","v":43.676099999999998}]
[1691.4,"Tucker Johnson Shelter (pic), Willard Gap","2300’","VT","Rutland",{"$f":"VLOOKUP(A1221,LongLat!$A$2:$H$292,7,TRUE)","v":-72.811700000000002},{"$f":"VLOOKUP(A1221,LongLat!$A$2:$H$292,8,TRUE)","v":43.676099999999998},"http://web.eecs.utk.edu/~dunigan/at/m.php?wpt=TuckerJoh"]
[1692.3,"Sherburne Pass Trail","2440’","VT","Rutland",{"$f":"VLOOKUP(A1222,LongLat!$A$2:$H$292,7,TRUE)","v":-72.811700000000002},{"$f":"VLOOKUP(A1222,LongLat!$A$2:$H$292,8,TRUE)","v":43.676099999999998}]
[1693.7,"Gifford Woods State Park","1660’","VT","Rutland",{"$f":"VLOOKUP(A1223,LongLat!$A$2:$H$292,7,TRUE)","v":-72.811700000000002},{"$f":"VLOOKUP(A1223,LongLat!$A$2:$H$292,8,TRUE)","v":43.676099999999998},"http://www.vtstateparks.com/htm/gifford.htm"]
[1694.4,"Kent Pond, Thundering Brook Rd.","1450’","VT","Rutland",{"$f":"VLOOKUP(A1224,LongLat!$A$2:$H$292,7,TRUE)","v":-72.811700000000002},{"$f":"VLOOKUP(A1224,LongLat!$A$2:$H$292,8,TRUE)","v":43.676099999999998},"http://www.panoramio.com/photo/4551626"]
[1695.6,"River Rd.","1214’","VT","Rutland",{"$f":"VLOOKUP(A1225,LongLat!$A$2:$H$292,7,TRUE)","v":-72.811700000000002},{"$f":"VLOOKUP(A1225,LongLat!$A$2:$H$292,8,TRUE)","v":43.676099999999998}]
[1696.1,"Quimby Mt.","2550’","VT","Rutland",{"$f":"VLOOKUP(A1226,LongLat!$A$2:$H$292,7,TRUE)","v":-72.811700000000002},{"$f":"VLOOKUP(A1226,LongLat!$A$2:$H$292,8,TRUE)","v":43.676099999999998}]
[1700.4,"Stony Brook Shelter (pic)","1760’","VT","Windsor",{"$f":"VLOOKUP(A1227,LongLat!$A$2:$H$292,7,TRUE)","v":-72.730599999999995},{"$f":"VLOOKUP(A1227,LongLat!$A$2:$H$292,8,TRUE)","v":43.691789999999997}]
[1705.1,"Chateauguay Rd.","2000’","VT","Windsor",{"$f":"VLOOKUP(A1228,LongLat!$A$2:$H$292,7,TRUE)","v":-72.730599999999995},{"$f":"VLOOKUP(A1228,LongLat!$A$2:$H$292,8,TRUE)","v":43.691789999999997}]
[1705.8,"Lakota Lake Lookout","2640’","VT","Windsor",{"$f":"VLOOKUP(A1229,LongLat!$A$2:$H$292,7,TRUE)","v":-72.730599999999995},{"$f":"VLOOKUP(A1229,LongLat!$A$2:$H$292,8,TRUE)","v":43.691789999999997}]
[1707.9,"trail to lookout","2320’","VT","Windsor",{"$f":"VLOOKUP(A1230,LongLat!$A$2:$H$292,7,TRUE)","v":-72.622600000000006},{"$f":"VLOOKUP(A1230,LongLat!$A$2:$H$292,8,TRUE)","v":43.662179999999999}]
[1710.3,"Wintturi Shelter (pic)","1910’","VT","Windsor",{"$f":"VLOOKUP(A1231,LongLat!$A$2:$H$292,7,TRUE)","v":-72.622600000000006},{"$f":"VLOOKUP(A1231,LongLat!$A$2:$H$292,8,TRUE)","v":43.662179999999999}]
[1714.1,"VT 12, Gulf Stream Bridge","882’","VT","Windsor",{"$f":"VLOOKUP(A1232,LongLat!$A$2:$H$292,7,TRUE)","v":-72.622600000000006},{"$f":"VLOOKUP(A1232,LongLat!$A$2:$H$292,8,TRUE)","v":43.662179999999999}]
[1715.6,"Woodstock Stage Rd.","820’","VT","Windsor",{"$f":"VLOOKUP(A1233,LongLat!$A$2:$H$292,7,TRUE)","v":-72.622600000000006},{"$f":"VLOOKUP(A1233,LongLat!$A$2:$H$292,8,TRUE)","v":43.662179999999999}]
[1717.8,"Pomfret-South Pomfret Rd.","980’","VT","Windsor",{"$f":"VLOOKUP(A1234,LongLat!$A$2:$H$292,7,TRUE)","v":-72.493099999999998},{"$f":"VLOOKUP(A1234,LongLat!$A$2:$H$292,8,TRUE)","v":43.692140000000002}]
[1719.6,"Cloudland Rd.","1370’","VT","Windsor",{"$f":"VLOOKUP(A1235,LongLat!$A$2:$H$292,7,TRUE)","v":-72.475800000000007},{"$f":"VLOOKUP(A1235,LongLat!$A$2:$H$292,8,TRUE)","v":43.695169999999997}]
[1721.6,"Thistle Hill","1800’","VT","Windsor",{"$f":"VLOOKUP(A1236,LongLat!$A$2:$H$292,7,TRUE)","v":-72.475800000000007},{"$f":"VLOOKUP(A1236,LongLat!$A$2:$H$292,8,TRUE)","v":43.695169999999997}]
[1721.9,"Thistle Hill Shelter (pic)","1480’","VT","Windsor",{"$f":"VLOOKUP(A1237,LongLat!$A$2:$H$292,7,TRUE)","v":-72.475800000000007},{"$f":"VLOOKUP(A1237,LongLat!$A$2:$H$292,8,TRUE)","v":43.695169999999997},"http://www.atexperience.com/photos/vermont/large/July%2020%20Privy%20at%20Thistle%20Hill%20Shelter.jpg"]
[1723.4,"Joe Ranger Rd.","1280’","VT","Windsor",{"$f":"VLOOKUP(A1238,LongLat!$A$2:$H$292,7,TRUE)","v":-72.475800000000007},{"$f":"VLOOKUP(A1238,LongLat!$A$2:$H$292,8,TRUE)","v":43.695169999999997}]
[1726.7,"VT 14, White River","390’","VT","Windsor",{"$f":"VLOOKUP(A1239,LongLat!$A$2:$H$292,7,TRUE)","v":-72.475800000000007},{"$f":"VLOOKUP(A1239,LongLat!$A$2:$H$292,8,TRUE)","v":43.695169999999997}]
[1727.3,"Tigertown/Podunk Rd.","540’","VT","Windsor",{"$f":"VLOOKUP(A1240,LongLat!$A$2:$H$292,7,TRUE)","v":-72.365700000000004},{"$f":"VLOOKUP(A1240,LongLat!$A$2:$H$292,8,TRUE)","v":43.723869999999998}]
[1728.1,"Podunk Brook","860’","VT","Windsor",{"$f":"VLOOKUP(A1241,LongLat!$A$2:$H$292,7,TRUE)","v":-72.365700000000004},{"$f":"VLOOKUP(A1241,LongLat!$A$2:$H$292,8,TRUE)","v":43.723869999999998}]
[1730.7,"Happy Hill Shelter (pic)","1460’","VT","Windsor",{"$f":"VLOOKUP(A1242,LongLat!$A$2:$H$292,7,TRUE)","v":-72.365700000000004},{"$f":"VLOOKUP(A1242,LongLat!$A$2:$H$292,8,TRUE)","v":43.723869999999998}]
[1735,"US 5, Norwich","537’","VT","Windsor",{"$f":"VLOOKUP(A1243,LongLat!$A$2:$H$292,7,TRUE)","v":-72.265199999999993},{"$f":"VLOOKUP(A1243,LongLat!$A$2:$H$292,8,TRUE)","v":43.702469999999998}]
[1736,"Connecticut River, VT-NH State Line","380’",null,null,{"$f":"VLOOKUP(A1244,LongLat!$A$2:$H$292,7,TRUE)","v":-72.265199999999993},{"$f":"VLOOKUP(A1244,LongLat!$A$2:$H$292,8,TRUE)","v":43.702469999999998},"http://whereswalden.com/wp-content/uploads/2009/01/0111.jpg"]
[1736.5,"NH 10, Dartmouth College","520’","NH","Grafton",{"$f":"VLOOKUP(A1245,LongLat!$A$2:$H$292,7,TRUE)","v":-72.265199999999993},{"$f":"VLOOKUP(A1245,LongLat!$A$2:$H$292,8,TRUE)","v":43.702469999999998},"http://www.dartmouth.edu/"]
[1737.2,"NH 120","490’","NH","Grafton",{"$f":"VLOOKUP(A1246,LongLat!$A$2:$H$292,7,TRUE)","v":-72.265199999999993},{"$f":"VLOOKUP(A1246,LongLat!$A$2:$H$292,8,TRUE)","v":43.702469999999998}]
[1738,"Velvet Rocks Shelter (pic)","1040’","NH","Grafton",{"$f":"VLOOKUP(A1247,LongLat!$A$2:$H$292,7,TRUE)","v":-72.265199999999993},{"$f":"VLOOKUP(A1247,LongLat!$A$2:$H$292,8,TRUE)","v":43.702469999999998}]
[1738.5,"Ledyard Spring","1200’","NH","Grafton",{"$f":"VLOOKUP(A1248,LongLat!$A$2:$H$292,7,TRUE)","v":-72.265199999999993},{"$f":"VLOOKUP(A1248,LongLat!$A$2:$H$292,8,TRUE)","v":43.702469999999998}]
[1741,"Trescott Rd.","490’","NH","Grafton",{"$f":"VLOOKUP(A1249,LongLat!$A$2:$H$292,7,TRUE)","v":-72.265199999999993},{"$f":"VLOOKUP(A1249,LongLat!$A$2:$H$292,8,TRUE)","v":43.702469999999998}]
[1742.4,"Etna-Hanover Center Rd.","845’","NH","Grafton",{"$f":"VLOOKUP(A1250,LongLat!$A$2:$H$292,7,TRUE)","v":-72.265199999999993},{"$f":"VLOOKUP(A1250,LongLat!$A$2:$H$292,8,TRUE)","v":43.702469999999998}]
[1744.9,"Three Mile Rd.","1350’","NH","Grafton",{"$f":"VLOOKUP(A1251,LongLat!$A$2:$H$292,7,TRUE)","v":-72.147499999999994},{"$f":"VLOOKUP(A1251,LongLat!$A$2:$H$292,8,TRUE)","v":43.727820000000001}]
[1745.1,"Mink Brook","1300’","NH","Grafton",{"$f":"VLOOKUP(A1252,LongLat!$A$2:$H$292,7,TRUE)","v":-72.147499999999994},{"$f":"VLOOKUP(A1252,LongLat!$A$2:$H$292,8,TRUE)","v":43.727820000000001}]
[1746.7,"Moose Mt. (south peak)","2290’","NH","Grafton",{"$f":"VLOOKUP(A1253,LongLat!$A$2:$H$292,7,TRUE)","v":-72.147499999999994},{"$f":"VLOOKUP(A1253,LongLat!$A$2:$H$292,8,TRUE)","v":43.727820000000001}]
[1747.5,"Moose Mt. Shelter (pic)","1850’","NH","Grafton",{"$f":"VLOOKUP(A1254,LongLat!$A$2:$H$292,7,TRUE)","v":-72.147499999999994},{"$f":"VLOOKUP(A1254,LongLat!$A$2:$H$292,8,TRUE)","v":43.727820000000001},"http://whereswalden.com/wp-content/uploads/2009/01/0108.jpg"]
[1749.4,"South Fork, Hewes Brook","1100’","NH","Grafton",{"$f":"VLOOKUP(A1255,LongLat!$A$2:$H$292,7,TRUE)","v":-72.111999999999995},{"$f":"VLOOKUP(A1255,LongLat!$A$2:$H$292,8,TRUE)","v":43.783029999999997}]
[1750.7,"Goose Pond Rd.","952’","NH","Grafton",{"$f":"VLOOKUP(A1256,LongLat!$A$2:$H$292,7,TRUE)","v":-72.111999999999995},{"$f":"VLOOKUP(A1256,LongLat!$A$2:$H$292,8,TRUE)","v":43.783029999999997}]
[1752.7,"Holts Ledge","1930’","NH","Grafton",{"$f":"VLOOKUP(A1257,LongLat!$A$2:$H$292,7,TRUE)","v":-72.111999999999995},{"$f":"VLOOKUP(A1257,LongLat!$A$2:$H$292,8,TRUE)","v":43.783029999999997},"http://www.panoramio.com/photo/16036938"]
[1753.2,"Trapper John Shelter (pic)","1345’","NH","Grafton",{"$f":"VLOOKUP(A1258,LongLat!$A$2:$H$292,7,TRUE)","v":-72.111999999999995},{"$f":"VLOOKUP(A1258,LongLat!$A$2:$H$292,8,TRUE)","v":43.783029999999997}]
[1754.1,"Dartmouth Skiway","880’","NH","Grafton",{"$f":"VLOOKUP(A1259,LongLat!$A$2:$H$292,7,TRUE)","v":-72.111999999999995},{"$f":"VLOOKUP(A1259,LongLat!$A$2:$H$292,8,TRUE)","v":43.783029999999997},"http://www.dartmouth.edu/~skiway/"]
[1756.1,"Lyme-Dorchester Rd.","850’","NH","Grafton",{"$f":"VLOOKUP(A1260,LongLat!$A$2:$H$292,7,TRUE)","v":-72.037800000000004},{"$f":"VLOOKUP(A1260,LongLat!$A$2:$H$292,8,TRUE)","v":43.825290000000003}]
[1759.8,"Smarts Mt. Tentsite","3200’","NH","Grafton",{"$f":"VLOOKUP(A1261,LongLat!$A$2:$H$292,7,TRUE)","v":-72.037800000000004},{"$f":"VLOOKUP(A1261,LongLat!$A$2:$H$292,8,TRUE)","v":43.825290000000003},"http://www.cs.utk.edu/~dunigan/at/m.php?wpt=SmartsMtn"]
[1759.9,"Firewarden’s Cabin (pic)","3230’","NH","Grafton",{"$f":"VLOOKUP(A1262,LongLat!$A$2:$H$292,7,TRUE)","v":-72.037800000000004},{"$f":"VLOOKUP(A1262,LongLat!$A$2:$H$292,8,TRUE)","v":43.825290000000003},"http://farm4.static.flickr.com/3190/2561933175_7cf3c7b11e.jpg"]
[1763.8,"South Jacob’s Fork","1450’","NH","Grafton",{"$f":"VLOOKUP(A1263,LongLat!$A$2:$H$292,7,TRUE)","v":-72.028999999999996},{"$f":"VLOOKUP(A1263,LongLat!$A$2:$H$292,8,TRUE)","v":43.87397},"http://www.jmclum.com/fall2000/091700a.jpg"]
[1765.2,"Hexacuba Shelter (pic)","1980’","NH","Grafton",{"$f":"VLOOKUP(A1264,LongLat!$A$2:$H$292,7,TRUE)","v":-72.028999999999996},{"$f":"VLOOKUP(A1264,LongLat!$A$2:$H$292,8,TRUE)","v":43.87397}]
[1766.8,"Mt. Cube side trail","2911’","NH","Grafton",{"$f":"VLOOKUP(A1265,LongLat!$A$2:$H$292,7,TRUE)","v":-72.028999999999996},{"$f":"VLOOKUP(A1265,LongLat!$A$2:$H$292,8,TRUE)","v":43.87397},"http://www.panoramio.com/photo/8646367"]
[1770.1,"NH 25A, Wentworth","900’","NH","Grafton",{"$f":"VLOOKUP(A1266,LongLat!$A$2:$H$292,7,TRUE)","v":-71.9405},{"$f":"VLOOKUP(A1266,LongLat!$A$2:$H$292,8,TRUE)","v":43.963569999999997}]
[1771.7,"Cpae Moonshine Rd.","1480’","NH","Grafton",{"$f":"VLOOKUP(A1267,LongLat!$A$2:$H$292,7,TRUE)","v":-71.9405},{"$f":"VLOOKUP(A1267,LongLat!$A$2:$H$292,8,TRUE)","v":43.963569999999997}]
[1772.3,"Ore Hill Shelter (pic)","1720’","NH","Grafton",{"$f":"VLOOKUP(A1268,LongLat!$A$2:$H$292,7,TRUE)","v":-71.9405},{"$f":"VLOOKUP(A1268,LongLat!$A$2:$H$292,8,TRUE)","v":43.963569999999997}]
[1774.9,"NH 25C","1550’","NH","Grafton",{"$f":"VLOOKUP(A1269,LongLat!$A$2:$H$292,7,TRUE)","v":-71.9405},{"$f":"VLOOKUP(A1269,LongLat!$A$2:$H$292,8,TRUE)","v":43.963569999999997}]
[1777.4,"Mt. Mist","2200’","NH","Grafton",{"$f":"VLOOKUP(A1270,LongLat!$A$2:$H$292,7,TRUE)","v":-71.889399999999995},{"$f":"VLOOKUP(A1270,LongLat!$A$2:$H$292,8,TRUE)","v":43.996549999999999},"http://whiteblaze.net/forum/vbg/showimage.php?i=19495&c="]
[1779.8,"NH 25, Glencliff","1000’","NH","Grafton",{"$f":"VLOOKUP(A1271,LongLat!$A$2:$H$292,7,TRUE)","v":-71.889399999999995},{"$f":"VLOOKUP(A1271,LongLat!$A$2:$H$292,8,TRUE)","v":43.996549999999999}]
[1780.9,"Jeffers Brook Shelter (pic)","1350’","NH","Grafton",{"$f":"VLOOKUP(A1272,LongLat!$A$2:$H$292,7,TRUE)","v":-71.889399999999995},{"$f":"VLOOKUP(A1272,LongLat!$A$2:$H$292,8,TRUE)","v":43.996549999999999},"http://purebound.com/AT/new_hampshire/jeffers_brook_shelter.jpg"]
[1785.5,"Mt. Moosilaukee","4802’","NH","Grafton",{"$f":"VLOOKUP(A1273,LongLat!$A$2:$H$292,7,TRUE)","v":-71.811800000000005},{"$f":"VLOOKUP(A1273,LongLat!$A$2:$H$292,8,TRUE)","v":44.032960000000003},"http://www.summitpost.org/mountain/rock/150546/mount-moosilauke.html"]
[1787.8,"Beaver Brook Shelter","3750’","NH","Grafton",{"$f":"VLOOKUP(A1274,LongLat!$A$2:$H$292,7,TRUE)","v":-71.811800000000005},{"$f":"VLOOKUP(A1274,LongLat!$A$2:$H$292,8,TRUE)","v":44.032960000000003},"http://hikethewhites.com/b_b_shelter.html"]
[1789.3,"Kinsman Notch, NH 112","1870’","NH","Grafton",{"$f":"VLOOKUP(A1275,LongLat!$A$2:$H$292,7,TRUE)","v":-71.811800000000005},{"$f":"VLOOKUP(A1275,LongLat!$A$2:$H$292,8,TRUE)","v":44.032960000000003}]
[1793.9,"Mt. Wolf (East Peak)","3478’","NH","Grafton",{"$f":"VLOOKUP(A1276,LongLat!$A$2:$H$292,7,TRUE)","v":-71.742400000000004},{"$f":"VLOOKUP(A1276,LongLat!$A$2:$H$292,8,TRUE)","v":44.10078}]
[1796.8,"Eliza Brook Shelter","2400’","NH","Grafton",{"$f":"VLOOKUP(A1277,LongLat!$A$2:$H$292,7,TRUE)","v":-71.742400000000004},{"$f":"VLOOKUP(A1277,LongLat!$A$2:$H$292,8,TRUE)","v":44.10078},"http://hikethewhites.com/eliza_brook.html"]
[1799.3,"South Kinsman Mt.","4358’","NH","Grafton",{"$f":"VLOOKUP(A1278,LongLat!$A$2:$H$292,7,TRUE)","v":-71.703699999999998},{"$f":"VLOOKUP(A1278,LongLat!$A$2:$H$292,8,TRUE)","v":44.138460000000002},"http://www.summitpost.org/mountain/rock/153350/kinsman-mountain-north-and-south.html"]
[1800.2,"North Kinsman Mt.","4293’","NH","Grafton",{"$f":"VLOOKUP(A1279,LongLat!$A$2:$H$292,7,TRUE)","v":-71.703699999999998},{"$f":"VLOOKUP(A1279,LongLat!$A$2:$H$292,8,TRUE)","v":44.138460000000002},"http://www.summitpost.org/mountain/rock/153350/kinsman-mountain-north-and-south.html"]
[1800.8,"Kinsman Pond Shelter","3750’","NH","Grafton",{"$f":"VLOOKUP(A1280,LongLat!$A$2:$H$292,7,TRUE)","v":-71.703699999999998},{"$f":"VLOOKUP(A1280,LongLat!$A$2:$H$292,8,TRUE)","v":44.138460000000002},"http://hikethewhites.com/k_pond_shelter.html"]
[1802.7,"Lonesome Lake Hut","2760’","NH","Grafton",{"$f":"VLOOKUP(A1281,LongLat!$A$2:$H$292,7,TRUE)","v":-71.703699999999998},{"$f":"VLOOKUP(A1281,LongLat!$A$2:$H$292,8,TRUE)","v":44.138460000000002},"http://hikethewhites.com/lonesome_hut.html"]
[1805.6,"Franconia Notch, I-93","1450’","NH","Grafton",{"$f":"VLOOKUP(A1282,LongLat!$A$2:$H$292,7,TRUE)","v":-71.703699999999998},{"$f":"VLOOKUP(A1282,LongLat!$A$2:$H$292,8,TRUE)","v":44.138460000000002}]
[1808.2,"Liberty Springs Tentsite","3870’","NH","Grafton",{"$f":"VLOOKUP(A1283,LongLat!$A$2:$H$292,7,TRUE)","v":-71.703699999999998},{"$f":"VLOOKUP(A1283,LongLat!$A$2:$H$292,8,TRUE)","v":44.138460000000002},"http://hikethewhites.com/liberty_camp.html"]
[1810.3,"Little Haystack Mt.","4800’","NH","Grafton",{"$f":"VLOOKUP(A1284,LongLat!$A$2:$H$292,7,TRUE)","v":-71.660799999999995},{"$f":"VLOOKUP(A1284,LongLat!$A$2:$H$292,8,TRUE)","v":44.160269999999997},"http://www.summitpost.org/mountain/rock/151239/little-haystack.html"]
[1811,"Mt. Lincoln","5089’","NH","Grafton",{"$f":"VLOOKUP(A1285,LongLat!$A$2:$H$292,7,TRUE)","v":-71.660799999999995},{"$f":"VLOOKUP(A1285,LongLat!$A$2:$H$292,8,TRUE)","v":44.160269999999997},"http://www.summitpost.org/mountain/rock/151238/mount-lincoln.html"]
[1812,"Mt. Lafayette","5260’","NH","Grafton",{"$f":"VLOOKUP(A1286,LongLat!$A$2:$H$292,7,TRUE)","v":-71.660799999999995},{"$f":"VLOOKUP(A1286,LongLat!$A$2:$H$292,8,TRUE)","v":44.160269999999997},"http://www.summitpost.org/mountain/rock/150537/mount-lafayette.html"]
[1814.8,"Garfield Pond","3860’","NH","Grafton",{"$f":"VLOOKUP(A1287,LongLat!$A$2:$H$292,7,TRUE)","v":-71.608800000000002},{"$f":"VLOOKUP(A1287,LongLat!$A$2:$H$292,8,TRUE)","v":44.190629999999999}]
[1815.5,"Mt. Garfield","4500’","NH","Grafton",{"$f":"VLOOKUP(A1288,LongLat!$A$2:$H$292,7,TRUE)","v":-71.569400000000002},{"$f":"VLOOKUP(A1288,LongLat!$A$2:$H$292,8,TRUE)","v":44.187809999999999},"http://www.summitpost.org/mountain/rock/150849/mount-garfield.html"]
[1815.9,"Garfield Ridge Shelter (pic)","3900’","NH","Coos",{"$f":"VLOOKUP(A1289,LongLat!$A$2:$H$292,7,TRUE)","v":-71.569400000000002},{"$f":"VLOOKUP(A1289,LongLat!$A$2:$H$292,8,TRUE)","v":44.187809999999999},"http://www.summitpost.org/view_object.php?object_id=177033&context_id=383841"]
[1818.6,"Galehead Hut","3800’","NH","Coos",{"$f":"VLOOKUP(A1290,LongLat!$A$2:$H$292,7,TRUE)","v":-71.535600000000002},{"$f":"VLOOKUP(A1290,LongLat!$A$2:$H$292,8,TRUE)","v":44.160969999999999},"http://hikethewhites.com/galehead_hut.html"]
[1819.4,"South Twin Mt.","4902’","NH","Coos",{"$f":"VLOOKUP(A1291,LongLat!$A$2:$H$292,7,TRUE)","v":-71.535600000000002},{"$f":"VLOOKUP(A1291,LongLat!$A$2:$H$292,8,TRUE)","v":44.160969999999999},"http://www.summitpost.org/mountain/rock/154099/south-twin-mountain.html"]
[1821.4,"Mt. Guyot","4580’","NH","Coos",{"$f":"VLOOKUP(A1292,LongLat!$A$2:$H$292,7,TRUE)","v":-71.535600000000002},{"$f":"VLOOKUP(A1292,LongLat!$A$2:$H$292,8,TRUE)","v":44.160969999999999},"http://www.summitpost.org/mountain/rock/153590/mount-guyot-nh-.html"]
[1824.4,"Zeacliff","4084’","NH","Coos",{"$f":"VLOOKUP(A1293,LongLat!$A$2:$H$292,7,TRUE)","v":-71.494799999999998},{"$f":"VLOOKUP(A1293,LongLat!$A$2:$H$292,8,TRUE)","v":44.195709999999998},"http://www.summitpost.org/mountain/rock/153584/zealand-mountain-zeacliff.html"]
[1825.6,"Zealand Falls Hut","2630’","NH","Coos",{"$f":"VLOOKUP(A1294,LongLat!$A$2:$H$292,7,TRUE)","v":-71.494799999999998},{"$f":"VLOOKUP(A1294,LongLat!$A$2:$H$292,8,TRUE)","v":44.195709999999998},"http://hikethewhites.com/zealand_hut.html"]
[1830.4,"Ethan Pond Shelter","2860’","NH","Coos",{"$f":"VLOOKUP(A1295,LongLat!$A$2:$H$292,7,TRUE)","v":-71.427099999999996},{"$f":"VLOOKUP(A1295,LongLat!$A$2:$H$292,8,TRUE)","v":44.177190000000003},"http://hikethewhites.com/ethanpond.html"]
[1833.3,"Crawford Notch, US 311","1277’","NH","Coos",{"$f":"VLOOKUP(A1296,LongLat!$A$2:$H$292,7,TRUE)","v":-71.427099999999996},{"$f":"VLOOKUP(A1296,LongLat!$A$2:$H$292,8,TRUE)","v":44.177190000000003},"http://hikethewhites.com/crawford.html"]
[1833.4,"Saco River","1277’","NH","Coos",{"$f":"VLOOKUP(A1297,LongLat!$A$2:$H$292,7,TRUE)","v":-71.427099999999996},{"$f":"VLOOKUP(A1297,LongLat!$A$2:$H$292,8,TRUE)","v":44.177190000000003}]
[1835.2,"Webster Cliffs","3350’","NH","Coos",{"$f":"VLOOKUP(A1298,LongLat!$A$2:$H$292,7,TRUE)","v":-71.427099999999996},{"$f":"VLOOKUP(A1298,LongLat!$A$2:$H$292,8,TRUE)","v":44.177190000000003},"http://www.summitpost.org/image/87519/151051/the-cliffs-on-webster-and-a.html"]
[1836.6,"Mt. Webster","3910’","NH","Carroll",{"$f":"VLOOKUP(A1299,LongLat!$A$2:$H$292,7,TRUE)","v":-71.370099999999994},{"$f":"VLOOKUP(A1299,LongLat!$A$2:$H$292,8,TRUE)","v":44.219340000000003},"http://www.summitpost.org/mountain/rock/151444/mount-webster.html"]
[1838,"Mt. Jackson","4052’","NH","Carroll",{"$f":"VLOOKUP(A1300,LongLat!$A$2:$H$292,7,TRUE)","v":-71.370099999999994},{"$f":"VLOOKUP(A1300,LongLat!$A$2:$H$292,8,TRUE)","v":44.219340000000003},"http://www.summitpost.org/mountain/rock/151206/mount-jackson.html"]
[1839.7,"Mizpah Spring Hut","3800’","NH","Carroll",{"$f":"VLOOKUP(A1301,LongLat!$A$2:$H$292,7,TRUE)","v":-71.370099999999994},{"$f":"VLOOKUP(A1301,LongLat!$A$2:$H$292,8,TRUE)","v":44.219340000000003},"http://hikethewhites.com/mizpah_hut.html"]
[1840.5,"Mt. Pierce (Mt. Clinton)","4312’","NH","Carroll",{"$f":"VLOOKUP(A1302,LongLat!$A$2:$H$292,7,TRUE)","v":-71.370099999999994},{"$f":"VLOOKUP(A1302,LongLat!$A$2:$H$292,8,TRUE)","v":44.219340000000003},"http://www.summitpost.org/mountain/rock/151435/mount-pierce.html"]
[1841.4,"spring","4350’","NH","Carroll",{"$f":"VLOOKUP(A1303,LongLat!$A$2:$H$292,7,TRUE)","v":-71.319299999999998},{"$f":"VLOOKUP(A1303,LongLat!$A$2:$H$292,8,TRUE)","v":44.258940000000003}]
[1842.7,"spring","4480’","NH","Carroll",{"$f":"VLOOKUP(A1304,LongLat!$A$2:$H$292,7,TRUE)","v":-71.2864},{"$f":"VLOOKUP(A1304,LongLat!$A$2:$H$292,8,TRUE)","v":44.261339999999997}]
[1843.3,"Mt. Franklin","5004’","NH","Coos",{"$f":"VLOOKUP(A1305,LongLat!$A$2:$H$292,7,TRUE)","v":-71.2864},{"$f":"VLOOKUP(A1305,LongLat!$A$2:$H$292,8,TRUE)","v":44.261339999999997},"http://www.summitpost.org/mountain/rock/153967/mount-franklin.html"]
[1844.4,"Lakes of the Clouds Hut","5012’","NH","Coos",{"$f":"VLOOKUP(A1306,LongLat!$A$2:$H$292,7,TRUE)","v":-71.2864},{"$f":"VLOOKUP(A1306,LongLat!$A$2:$H$292,8,TRUE)","v":44.261339999999997},"http://hikethewhites.com/lakes_hut.html"]
[1845.8,"Mt. Washington","6288’","NH","Coos",{"$f":"VLOOKUP(A1307,LongLat!$A$2:$H$292,7,TRUE)","v":-71.2864},{"$f":"VLOOKUP(A1307,LongLat!$A$2:$H$292,8,TRUE)","v":44.261339999999997},"http://www.summitpost.org/mountain/rock/150248/mount-washington.html"]
[1849.3,"Edmands Col","4938’","NH","Coos",{"$f":"VLOOKUP(A1308,LongLat!$A$2:$H$292,7,TRUE)","v":-71.283500000000004},{"$f":"VLOOKUP(A1308,LongLat!$A$2:$H$292,8,TRUE)","v":44.327759999999998},"http://www.summitpost.org/image/498390/edmands-col.html"]
[1850,"Israel Ridge Path to The Perch Shelter","4313’","NH","Coos",{"$f":"VLOOKUP(A1309,LongLat!$A$2:$H$292,7,TRUE)","v":-71.283500000000004},{"$f":"VLOOKUP(A1309,LongLat!$A$2:$H$292,8,TRUE)","v":44.327759999999998},"http://hikethewhites.com/perch.html"]
[1850.6,"Thunderstorm Jct.","5500’","NH","Coos",{"$f":"VLOOKUP(A1310,LongLat!$A$2:$H$292,7,TRUE)","v":-71.283500000000004},{"$f":"VLOOKUP(A1310,LongLat!$A$2:$H$292,8,TRUE)","v":44.327759999999998},"http://hikethewhites.com/mad_hut/gs04.jpg"]
[1851.5,"Madison Spring Hut","4800’","NH","Coos",{"$f":"VLOOKUP(A1311,LongLat!$A$2:$H$292,7,TRUE)","v":-71.283500000000004},{"$f":"VLOOKUP(A1311,LongLat!$A$2:$H$292,8,TRUE)","v":44.327759999999998},"http://hikethewhites.com/mad_hut.html"]
[1852,"Mt. Madison","5366’","NH","Coos",{"$f":"VLOOKUP(A1312,LongLat!$A$2:$H$292,7,TRUE)","v":-71.283500000000004},{"$f":"VLOOKUP(A1312,LongLat!$A$2:$H$292,8,TRUE)","v":44.327759999999998},"http://www.summitpost.org/mountain/rock/150550/mount-madison.html"]
[1854.5,"Osgood Tentsite","2540’","NH","Coos",{"$f":"VLOOKUP(A1313,LongLat!$A$2:$H$292,7,TRUE)","v":-71.283500000000004},{"$f":"VLOOKUP(A1313,LongLat!$A$2:$H$292,8,TRUE)","v":44.327759999999998},"http://hikethewhites.com/osgood.html"]
[1855.3,"West Branch, Peabody River","2300’","NH","Coos",{"$f":"VLOOKUP(A1314,LongLat!$A$2:$H$292,7,TRUE)","v":-71.283500000000004},{"$f":"VLOOKUP(A1314,LongLat!$A$2:$H$292,8,TRUE)","v":44.327759999999998}]
[1857.2,"Lowe’s Bald Spot","2860’","NH","Coos",{"$f":"VLOOKUP(A1315,LongLat!$A$2:$H$292,7,TRUE)","v":-71.283500000000004},{"$f":"VLOOKUP(A1315,LongLat!$A$2:$H$292,8,TRUE)","v":44.327759999999998}]
[1859.3,"Pinkham Notch Visitors Center","2050’","NH","Coos",{"$f":"VLOOKUP(A1316,LongLat!$A$2:$H$292,7,TRUE)","v":-71.283500000000004},{"$f":"VLOOKUP(A1316,LongLat!$A$2:$H$292,8,TRUE)","v":44.327759999999998},"http://hikethewhites.com/pinkham.html"]
[1862.3,"Wildcat Mt, Peak D","3990’","NH","Coos",{"$f":"VLOOKUP(A1317,LongLat!$A$2:$H$292,7,TRUE)","v":-71.195899999999995},{"$f":"VLOOKUP(A1317,LongLat!$A$2:$H$292,8,TRUE)","v":44.259300000000003},"http://www.summitpost.org/mountain/rock/153832/wildcat-mountain.html"]
[1864.3,"Wildcat Mt, Peak A","4422’","NH","Coos",{"$f":"VLOOKUP(A1318,LongLat!$A$2:$H$292,7,TRUE)","v":-71.195899999999995},{"$f":"VLOOKUP(A1318,LongLat!$A$2:$H$292,8,TRUE)","v":44.259300000000003},"http://www.summitpost.org/mountain/rock/153832/wildcat-mountain.html"]
[1865.2,"Carter Notch Hut","3350’","NH","Coos",{"$f":"VLOOKUP(A1319,LongLat!$A$2:$H$292,7,TRUE)","v":-71.195899999999995},{"$f":"VLOOKUP(A1319,LongLat!$A$2:$H$292,8,TRUE)","v":44.259300000000003},"http://hikethewhites.com/carter_hut.html"]
[1865.9,"spring","4700’","NH","Coos",{"$f":"VLOOKUP(A1320,LongLat!$A$2:$H$292,7,TRUE)","v":-71.195899999999995},{"$f":"VLOOKUP(A1320,LongLat!$A$2:$H$292,8,TRUE)","v":44.259300000000003}]
[1866.4,"Carter Dome","4832’","NH","Coos",{"$f":"VLOOKUP(A1321,LongLat!$A$2:$H$292,7,TRUE)","v":-71.195899999999995},{"$f":"VLOOKUP(A1321,LongLat!$A$2:$H$292,8,TRUE)","v":44.259300000000003},"http://www.summitpost.org/mountain/rock/152590/carter-dome.html"]
[1867.8,"Zeta Pass","3890’","NH","Coos",{"$f":"VLOOKUP(A1322,LongLat!$A$2:$H$292,7,TRUE)","v":-71.195899999999995},{"$f":"VLOOKUP(A1322,LongLat!$A$2:$H$292,8,TRUE)","v":44.259300000000003},"http://www.summitpost.org/image/112233/153568/south-and-middle-carter-from.html"]
[1868.6,"South Carter Mt.","4458’","NH","Coos",{"$f":"VLOOKUP(A1323,LongLat!$A$2:$H$292,7,TRUE)","v":-71.195899999999995},{"$f":"VLOOKUP(A1323,LongLat!$A$2:$H$292,8,TRUE)","v":44.259300000000003},"http://www.summitpost.org/mountain/rock/153568/carter-mountain-middle-and-south.html"]
[1869.9,"Middle Carter Mt.","4610’","NH","Coos",{"$f":"VLOOKUP(A1324,LongLat!$A$2:$H$292,7,TRUE)","v":-71.150599999999997},{"$f":"VLOOKUP(A1324,LongLat!$A$2:$H$292,8,TRUE)","v":44.328899999999997},"http://www.summitpost.org/mountain/rock/153568/carter-mountain-middle-and-south.html"]
[1870.5,"North Carter Mt.","4539’","NH","Coos",{"$f":"VLOOKUP(A1325,LongLat!$A$2:$H$292,7,TRUE)","v":-71.150599999999997},{"$f":"VLOOKUP(A1325,LongLat!$A$2:$H$292,8,TRUE)","v":44.328899999999997},"http://www.summitpost.org/mountain/rock/154285/mount-lethe-north-carter-mtn.html"]
[1872.4,"Imp Shelter","3250’","NH","Coos",{"$f":"VLOOKUP(A1326,LongLat!$A$2:$H$292,7,TRUE)","v":-71.150599999999997},{"$f":"VLOOKUP(A1326,LongLat!$A$2:$H$292,8,TRUE)","v":44.328899999999997},"http://hikethewhites.com/imp_shelter.html"]
[1874.5,"Mt. Moriah","4049’","NH","Coos",{"$f":"VLOOKUP(A1327,LongLat!$A$2:$H$292,7,TRUE)","v":-71.150599999999997},{"$f":"VLOOKUP(A1327,LongLat!$A$2:$H$292,8,TRUE)","v":44.328899999999997},"http://www.summitpost.org/mountain/rock/154279/mount-moriah-nh-.html"]
[1878.5,"Rattle River Shelter","1260’","NH","Coos",{"$f":"VLOOKUP(A1328,LongLat!$A$2:$H$292,7,TRUE)","v":-71.108000000000004},{"$f":"VLOOKUP(A1328,LongLat!$A$2:$H$292,8,TRUE)","v":44.379939999999998},"http://hikethewhites.com/rattleriver.html"]
[1880.4,"US 2, Gorham","780’","NH","Coos",{"$f":"VLOOKUP(A1329,LongLat!$A$2:$H$292,7,TRUE)","v":-71.108000000000004},{"$f":"VLOOKUP(A1329,LongLat!$A$2:$H$292,8,TRUE)","v":44.379939999999998}]
[1880.5,"Androscoggin River","750’","NH","Coos",{"$f":"VLOOKUP(A1330,LongLat!$A$2:$H$292,7,TRUE)","v":-71.108000000000004},{"$f":"VLOOKUP(A1330,LongLat!$A$2:$H$292,8,TRUE)","v":44.379939999999998}]
[1880.9,"Hogan Rd.","760’","NH","Coos",{"$f":"VLOOKUP(A1331,LongLat!$A$2:$H$292,7,TRUE)","v":-71.108000000000004},{"$f":"VLOOKUP(A1331,LongLat!$A$2:$H$292,8,TRUE)","v":44.379939999999998}]
[1881.9,"brook","1350’","NH","Coos",{"$f":"VLOOKUP(A1332,LongLat!$A$2:$H$292,7,TRUE)","v":-71.108000000000004},{"$f":"VLOOKUP(A1332,LongLat!$A$2:$H$292,8,TRUE)","v":44.379939999999998}]
[1884,"Mt. Hayes, Mahoosuc Trail","2555’","NH","Coos",{"$f":"VLOOKUP(A1333,LongLat!$A$2:$H$292,7,TRUE)","v":-71.108000000000004},{"$f":"VLOOKUP(A1333,LongLat!$A$2:$H$292,8,TRUE)","v":44.379939999999998},"http://www.summitpost.org/image/295396/173138/mount-hayes.html"]
[1886.2,"Cascade Mt.","2631’","NH","Coos",{"$f":"VLOOKUP(A1334,LongLat!$A$2:$H$292,7,TRUE)","v":-71.108000000000004},{"$f":"VLOOKUP(A1334,LongLat!$A$2:$H$292,8,TRUE)","v":44.379939999999998}]
[1887.3,"Trident Col Tentsite","2020’","NH","Coos",{"$f":"VLOOKUP(A1335,LongLat!$A$2:$H$292,7,TRUE)","v":-71.108000000000004},{"$f":"VLOOKUP(A1335,LongLat!$A$2:$H$292,8,TRUE)","v":44.379939999999998}]
[1890,"Dream Lake","2600’","NH","Coos",{"$f":"VLOOKUP(A1336,LongLat!$A$2:$H$292,7,TRUE)","v":-71.069900000000004},{"$f":"VLOOKUP(A1336,LongLat!$A$2:$H$292,8,TRUE)","v":44.451749999999997}]
[1891.5,"Moss Pond","2630’","NH","Coos",{"$f":"VLOOKUP(A1337,LongLat!$A$2:$H$292,7,TRUE)","v":-71.069900000000004},{"$f":"VLOOKUP(A1337,LongLat!$A$2:$H$292,8,TRUE)","v":44.451749999999997}]
[1892.2,"Gentian Pond Shelter (pic)","2166’","NH","Coos",{"$f":"VLOOKUP(A1338,LongLat!$A$2:$H$292,7,TRUE)","v":-71.069900000000004},{"$f":"VLOOKUP(A1338,LongLat!$A$2:$H$292,8,TRUE)","v":44.451749999999997},"http://hikethewhites.com/photos/gentian.jpg"]
[1895,"Mt. Success","3565’","NH","Coos",{"$f":"VLOOKUP(A1339,LongLat!$A$2:$H$292,7,TRUE)","v":-71.0167},{"$f":"VLOOKUP(A1339,LongLat!$A$2:$H$292,8,TRUE)","v":44.488590000000002},"http://www.summitpost.org/mountain/rock/182039/mount-success.html"]
[1896.9,"NH-ME State Line","2972’",null,null,{"$f":"VLOOKUP(A1340,LongLat!$A$2:$H$292,7,TRUE)","v":-71.0167},{"$f":"VLOOKUP(A1340,LongLat!$A$2:$H$292,8,TRUE)","v":44.488590000000002},"http://whereswalden.com/wp-content/uploads/2009/01/0041.jpg"]
[1897.3,"Carlo Col Shelter (pic)","2945’","ME","Oxford",{"$f":"VLOOKUP(A1341,LongLat!$A$2:$H$292,7,TRUE)","v":-71.0167},{"$f":"VLOOKUP(A1341,LongLat!$A$2:$H$292,8,TRUE)","v":44.488590000000002},"http://media-cdn.tripadvisor.com/media/photo-s/00/13/54/50/carlo-col-shelter.jpg"]
[1897.7,"Mt. Carlo","3565’","ME","Oxford",{"$f":"VLOOKUP(A1342,LongLat!$A$2:$H$292,7,TRUE)","v":-71.0167},{"$f":"VLOOKUP(A1342,LongLat!$A$2:$H$292,8,TRUE)","v":44.488590000000002}]
[1899.5,"Goose Eye Mt. (East Peak)","3790’","ME","Oxford",{"$f":"VLOOKUP(A1343,LongLat!$A$2:$H$292,7,TRUE)","v":-70.981399999999994},{"$f":"VLOOKUP(A1343,LongLat!$A$2:$H$292,8,TRUE)","v":44.525100000000002},"http://www.summitpost.org/mountain/rock/303517/goose-eye-mountain.html"]
[1900.7,"Goose Eye Mt. (North Peak)","3675’","ME","Oxford",{"$f":"VLOOKUP(A1344,LongLat!$A$2:$H$292,7,TRUE)","v":-70.981399999999994},{"$f":"VLOOKUP(A1344,LongLat!$A$2:$H$292,8,TRUE)","v":44.525100000000002},"http://www.summitpost.org/mountain/rock/303517/goose-eye-mountain.html"]
[1901.7,"Full Goose Shelter (pic)","3030’","ME","Oxford",{"$f":"VLOOKUP(A1345,LongLat!$A$2:$H$292,7,TRUE)","v":-70.981399999999994},{"$f":"VLOOKUP(A1345,LongLat!$A$2:$H$292,8,TRUE)","v":44.525100000000002},"http://farm3.static.flickr.com/2371/2180625725_b9e54971f5.jpg"]
[1902.2,"Fulling Mill Mt.","3395’","ME","Oxford",{"$f":"VLOOKUP(A1346,LongLat!$A$2:$H$292,7,TRUE)","v":-70.981399999999994},{"$f":"VLOOKUP(A1346,LongLat!$A$2:$H$292,8,TRUE)","v":44.525100000000002},"http://www.summitpost.org/image/173140/173138/fulling-mill-mountain.html"]
[1903.2,"Mahoosuc Notch (west end)","2400’","ME","Oxford",{"$f":"VLOOKUP(A1347,LongLat!$A$2:$H$292,7,TRUE)","v":-70.974100000000007},{"$f":"VLOOKUP(A1347,LongLat!$A$2:$H$292,8,TRUE)","v":44.564619999999998},"http://www.summitpost.org/canyon/160600/Mahoosuc-Notch.html"]
[1904.3,"Mahoosuc Notch (east end)","2150’","ME","Oxford",{"$f":"VLOOKUP(A1348,LongLat!$A$2:$H$292,7,TRUE)","v":-70.974100000000007},{"$f":"VLOOKUP(A1348,LongLat!$A$2:$H$292,8,TRUE)","v":44.564619999999998},"http://www.summitpost.org/canyon/160600/Mahoosuc-Notch.html"]
[1905.9,"Mahoosuc Arm","3770’","ME","Oxford",{"$f":"VLOOKUP(A1349,LongLat!$A$2:$H$292,7,TRUE)","v":-70.974100000000007},{"$f":"VLOOKUP(A1349,LongLat!$A$2:$H$292,8,TRUE)","v":44.564619999999998},"http://www.summitpost.org/area/range/173138/mahoosuc-range.html"]
[1906.8,"Speck Pond Shelter (pic)","3500’","ME","Oxford",{"$f":"VLOOKUP(A1350,LongLat!$A$2:$H$292,7,TRUE)","v":-70.974100000000007},{"$f":"VLOOKUP(A1350,LongLat!$A$2:$H$292,8,TRUE)","v":44.564619999999998}]
[1907.9,"Old Speck Trail","3985’","ME","Oxford",{"$f":"VLOOKUP(A1351,LongLat!$A$2:$H$292,7,TRUE)","v":-70.974100000000007},{"$f":"VLOOKUP(A1351,LongLat!$A$2:$H$292,8,TRUE)","v":44.564619999999998},"http://www.summitpost.org/mountain/rock/152452/old-speck.html"]
[1910.3,"brook","2500’","ME","Oxford",{"$f":"VLOOKUP(A1352,LongLat!$A$2:$H$292,7,TRUE)","v":-70.912300000000002},{"$f":"VLOOKUP(A1352,LongLat!$A$2:$H$292,8,TRUE)","v":44.598370000000003}]
[1911.4,"Grafton Notch, ME 26","1495’","ME","Oxford",{"$f":"VLOOKUP(A1353,LongLat!$A$2:$H$292,7,TRUE)","v":-70.912300000000002},{"$f":"VLOOKUP(A1353,LongLat!$A$2:$H$292,8,TRUE)","v":44.598370000000003},"http://www.summitpost.org/image/463705/152452/brook-in-grafton-notch.html"]
[1913.7,"Baldpate Lean-to (pic)","2645’","ME","Oxford",{"$f":"VLOOKUP(A1354,LongLat!$A$2:$H$292,7,TRUE)","v":-70.900800000000004},{"$f":"VLOOKUP(A1354,LongLat!$A$2:$H$292,8,TRUE)","v":44.627719999999997}]
[1914.5,"Baldpate Mt. (West Peak)","3662’","ME","Oxford",{"$f":"VLOOKUP(A1355,LongLat!$A$2:$H$292,7,TRUE)","v":-70.900800000000004},{"$f":"VLOOKUP(A1355,LongLat!$A$2:$H$292,8,TRUE)","v":44.627719999999997},"http://www.summitpost.org/mountain/rock/377104/baldpate-mountain-more-to-come.html"]
[1915.4,"Baldpate Mt. (East Peak)","3810’","ME","Oxford",{"$f":"VLOOKUP(A1356,LongLat!$A$2:$H$292,7,TRUE)","v":-70.900800000000004},{"$f":"VLOOKUP(A1356,LongLat!$A$2:$H$292,8,TRUE)","v":44.627719999999997},"http://www.summitpost.org/mountain/rock/377104/baldpate-mountain-more-to-come.html"]
[1917.2,"Frye Notch Lean-to (pic)","2280’","ME","Oxford",{"$f":"VLOOKUP(A1357,LongLat!$A$2:$H$292,7,TRUE)","v":-70.900800000000004},{"$f":"VLOOKUP(A1357,LongLat!$A$2:$H$292,8,TRUE)","v":44.627719999999997}]
[1920.9,"Dunn Notch & Falls","1350’","ME","Oxford",{"$f":"VLOOKUP(A1358,LongLat!$A$2:$H$292,7,TRUE)","v":-70.900800000000004},{"$f":"VLOOKUP(A1358,LongLat!$A$2:$H$292,8,TRUE)","v":44.627719999999997},"http://www.pbase.com/dgoss/image/58301827"]
[1921.7,"East B Hill Rd.","1500’","ME","Oxford",{"$f":"VLOOKUP(A1359,LongLat!$A$2:$H$292,7,TRUE)","v":-70.900800000000004},{"$f":"VLOOKUP(A1359,LongLat!$A$2:$H$292,8,TRUE)","v":44.627719999999997}]
[1923.5,"Surplus Pond","2050’","ME","Oxford",{"$f":"VLOOKUP(A1360,LongLat!$A$2:$H$292,7,TRUE)","v":-70.900800000000004},{"$f":"VLOOKUP(A1360,LongLat!$A$2:$H$292,8,TRUE)","v":44.627719999999997},"http://www.runtrails.net/journal/images/12_me/speck.jpg"]
[1926.4,"Wyman Mt.","2920’","ME","Oxford",{"$f":"VLOOKUP(A1361,LongLat!$A$2:$H$292,7,TRUE)","v":-70.825100000000006},{"$f":"VLOOKUP(A1361,LongLat!$A$2:$H$292,8,TRUE)","v":44.700839999999999},"http://www.summitpost.org/image/244516/171039/wyman-mountain-ledges-looking-towards-moody-mountain.html"]
[1927.7,"Hall Mt. Lean-to (pic)","2635’","ME","Oxford",{"$f":"VLOOKUP(A1362,LongLat!$A$2:$H$292,7,TRUE)","v":-70.825100000000006},{"$f":"VLOOKUP(A1362,LongLat!$A$2:$H$292,8,TRUE)","v":44.700839999999999}]
[1929.1,"Sawyer Notch (ford)","1095’","ME","Oxford",{"$f":"VLOOKUP(A1363,LongLat!$A$2:$H$292,7,TRUE)","v":-70.825100000000006},{"$f":"VLOOKUP(A1363,LongLat!$A$2:$H$292,8,TRUE)","v":44.700839999999999}]
[1930,"Moody Mt.","2440’","ME","Oxford",{"$f":"VLOOKUP(A1364,LongLat!$A$2:$H$292,7,TRUE)","v":-70.825100000000006},{"$f":"VLOOKUP(A1364,LongLat!$A$2:$H$292,8,TRUE)","v":44.700839999999999},"http://www.summitpost.org/image/244516/171039/wyman-mountain-ledges-looking-towards-moody-mountain.html"]
[1931.8,"Black Brook (ford)","1410’","ME","Oxford",{"$f":"VLOOKUP(A1365,LongLat!$A$2:$H$292,7,TRUE)","v":-70.825100000000006},{"$f":"VLOOKUP(A1365,LongLat!$A$2:$H$292,8,TRUE)","v":44.700839999999999}]
[1934.6,"Old Blue Mt.","3600’","ME","Oxford",{"$f":"VLOOKUP(A1366,LongLat!$A$2:$H$292,7,TRUE)","v":-70.825100000000006},{"$f":"VLOOKUP(A1366,LongLat!$A$2:$H$292,8,TRUE)","v":44.700839999999999}]
[1937.8,"Bemis Stream Trail","3350’","ME","Franklin",{"$f":"VLOOKUP(A1367,LongLat!$A$2:$H$292,7,TRUE)","v":-70.756500000000003},{"$f":"VLOOKUP(A1367,LongLat!$A$2:$H$292,8,TRUE)","v":44.810299999999998}]
[1938.8,"Bemis Range (West Peak)","3580’","ME","Franklin",{"$f":"VLOOKUP(A1368,LongLat!$A$2:$H$292,7,TRUE)","v":-70.756500000000003},{"$f":"VLOOKUP(A1368,LongLat!$A$2:$H$292,8,TRUE)","v":44.810299999999998},"http://www.summitpost.org/image/244517/171039/bemis.html"]
[1940.5,"Bemis Mt. Lean-to (pic)","2790’","ME","Franklin",{"$f":"VLOOKUP(A1369,LongLat!$A$2:$H$292,7,TRUE)","v":-70.756500000000003},{"$f":"VLOOKUP(A1369,LongLat!$A$2:$H$292,8,TRUE)","v":44.810299999999998},"http://www.bradsatwalk.com/images/journal/img510.jpg"]
[1944.3,"Bemis Stream (ford)","1495’","ME","Franklin",{"$f":"VLOOKUP(A1370,LongLat!$A$2:$H$292,7,TRUE)","v":-70.756500000000003},{"$f":"VLOOKUP(A1370,LongLat!$A$2:$H$292,8,TRUE)","v":44.810299999999998}]
[1945.1,"ME 17","2200’","ME","Franklin",{"$f":"VLOOKUP(A1371,LongLat!$A$2:$H$292,7,TRUE)","v":-70.756500000000003},{"$f":"VLOOKUP(A1371,LongLat!$A$2:$H$292,8,TRUE)","v":44.810299999999998}]
[1946.7,"Moxie Pond","2400’","ME","Franklin",{"$f":"VLOOKUP(A1372,LongLat!$A$2:$H$292,7,TRUE)","v":-70.662899999999993},{"$f":"VLOOKUP(A1372,LongLat!$A$2:$H$292,8,TRUE)","v":44.84104},"http://www.panoramio.com/photo/2381898"]
[1948.5,"Long Pond","2330’","ME","Franklin",{"$f":"VLOOKUP(A1373,LongLat!$A$2:$H$292,7,TRUE)","v":-70.662899999999993},{"$f":"VLOOKUP(A1373,LongLat!$A$2:$H$292,8,TRUE)","v":44.84104}]
[1948.8,"Sabbath Day Pond Lean-to (pic)","2390’","ME","Franklin",{"$f":"VLOOKUP(A1374,LongLat!$A$2:$H$292,7,TRUE)","v":-70.662899999999993},{"$f":"VLOOKUP(A1374,LongLat!$A$2:$H$292,8,TRUE)","v":44.84104}]
[1953.4,"Little Swift River Pond","2460’","ME","Franklin",{"$f":"VLOOKUP(A1375,LongLat!$A$2:$H$292,7,TRUE)","v":-70.662899999999993},{"$f":"VLOOKUP(A1375,LongLat!$A$2:$H$292,8,TRUE)","v":44.84104}]
[1956.1,"South Pond","2174’","ME","Franklin",{"$f":"VLOOKUP(A1376,LongLat!$A$2:$H$292,7,TRUE)","v":-70.662899999999993},{"$f":"VLOOKUP(A1376,LongLat!$A$2:$H$292,8,TRUE)","v":44.84104}]
[1958.2,"ME 4","1700’","ME","Franklin",{"$f":"VLOOKUP(A1377,LongLat!$A$2:$H$292,7,TRUE)","v":-70.531400000000005},{"$f":"VLOOKUP(A1377,LongLat!$A$2:$H$292,8,TRUE)","v":44.904110000000003}]
[1958.3,"Sandy River","1595’","ME","Franklin",{"$f":"VLOOKUP(A1378,LongLat!$A$2:$H$292,7,TRUE)","v":-70.531400000000005},{"$f":"VLOOKUP(A1378,LongLat!$A$2:$H$292,8,TRUE)","v":44.904110000000003}]
[1960,"Piazza Rock Lean-to (pic)","2080’","ME","Franklin",{"$f":"VLOOKUP(A1379,LongLat!$A$2:$H$292,7,TRUE)","v":-70.531400000000005},{"$f":"VLOOKUP(A1379,LongLat!$A$2:$H$292,8,TRUE)","v":44.904110000000003}]
[1961.9,"Eddy Pond","2616’","ME","Franklin",{"$f":"VLOOKUP(A1380,LongLat!$A$2:$H$292,7,TRUE)","v":-70.531400000000005},{"$f":"VLOOKUP(A1380,LongLat!$A$2:$H$292,8,TRUE)","v":44.904110000000003},"http://www.summitpost.org/image/457266/151047/eddy-pond-from-saddleback-trail.html"]
[1963.9,"Saddleback Mt.","4120’","ME","Piscataquis",{"$f":"VLOOKUP(A1381,LongLat!$A$2:$H$292,7,TRUE)","v":-70.531400000000005},{"$f":"VLOOKUP(A1381,LongLat!$A$2:$H$292,8,TRUE)","v":44.904110000000003},"http://www.summitpost.org/mountain/rock/151047/saddleback-mountain.html"]
[1965.5,"The Horn","4040’","ME","Piscataquis",{"$f":"VLOOKUP(A1382,LongLat!$A$2:$H$292,7,TRUE)","v":-70.446299999999994},{"$f":"VLOOKUP(A1382,LongLat!$A$2:$H$292,8,TRUE)","v":44.970030000000001},"http://www.summitpost.org/mountain/rock/460770/the-horn.html"]
[1966.6,"Redington Stream Campsite","n/a","ME","Piscataquis",{"$f":"VLOOKUP(A1383,LongLat!$A$2:$H$292,7,TRUE)","v":-70.446299999999994},{"$f":"VLOOKUP(A1383,LongLat!$A$2:$H$292,8,TRUE)","v":44.970030000000001}]
[1967.5,"Saddleback Junior","3655’","ME","Piscataquis",{"$f":"VLOOKUP(A1384,LongLat!$A$2:$H$292,7,TRUE)","v":-70.446299999999994},{"$f":"VLOOKUP(A1384,LongLat!$A$2:$H$292,8,TRUE)","v":44.970030000000001}]
[1967.9,"stream","3200’","ME","Piscataquis",{"$f":"VLOOKUP(A1385,LongLat!$A$2:$H$292,7,TRUE)","v":-70.446299999999994},{"$f":"VLOOKUP(A1385,LongLat!$A$2:$H$292,8,TRUE)","v":44.970030000000001}]
[1968.9,"Poplar Ridge Lean-to (pic)","2920’","ME","Piscataquis",{"$f":"VLOOKUP(A1386,LongLat!$A$2:$H$292,7,TRUE)","v":-70.446299999999994},{"$f":"VLOOKUP(A1386,LongLat!$A$2:$H$292,8,TRUE)","v":44.970030000000001}]
[1971.6,"Orbeton Stream (ford)","1550’","ME","Franklin",{"$f":"VLOOKUP(A1387,LongLat!$A$2:$H$292,7,TRUE)","v":-70.446299999999994},{"$f":"VLOOKUP(A1387,LongLat!$A$2:$H$292,8,TRUE)","v":44.970030000000001},"http://outdoors.webshots.com/photo/1525845427076559132ZNiGUt"]
[1974.7,"Lone Mt.","3790’","ME","Franklin",{"$f":"VLOOKUP(A1388,LongLat!$A$2:$H$292,7,TRUE)","v":-70.341800000000006},{"$f":"VLOOKUP(A1388,LongLat!$A$2:$H$292,8,TRUE)","v":44.995750000000001}]
[1975.8,"Mt. Abraham Trail","3184’","ME","Franklin",{"$f":"VLOOKUP(A1389,LongLat!$A$2:$H$292,7,TRUE)","v":-70.341800000000006},{"$f":"VLOOKUP(A1389,LongLat!$A$2:$H$292,8,TRUE)","v":44.995750000000001},"http://www.summitpost.org/mountain/rock/154553/mount-abraham-me.html"]
[1976.9,"Spaulding Mt. Lean-to (pic)","3140’","ME","Franklin",{"$f":"VLOOKUP(A1390,LongLat!$A$2:$H$292,7,TRUE)","v":-70.341800000000006},{"$f":"VLOOKUP(A1390,LongLat!$A$2:$H$292,8,TRUE)","v":44.995750000000001}]
[1977.7,"Spaulding Mt.","4000’","ME","Franklin",{"$f":"VLOOKUP(A1391,LongLat!$A$2:$H$292,7,TRUE)","v":-70.341800000000006},{"$f":"VLOOKUP(A1391,LongLat!$A$2:$H$292,8,TRUE)","v":44.995750000000001},"http://www.summitpost.org/mountain/rock/299115/spaulding-mountain.html"]
[1979.8,"Sugarloaf Mt. Trail","3540’","ME","Franklin",{"$f":"VLOOKUP(A1392,LongLat!$A$2:$H$292,7,TRUE)","v":-70.341800000000006},{"$f":"VLOOKUP(A1392,LongLat!$A$2:$H$292,8,TRUE)","v":44.995750000000001},"http://www.summitpost.org/mountain/rock/154948/sugarloaf.html"]
[1982,"South Branch Carrabassett River","2100’","ME","Franklin",{"$f":"VLOOKUP(A1393,LongLat!$A$2:$H$292,7,TRUE)","v":-70.341800000000006},{"$f":"VLOOKUP(A1393,LongLat!$A$2:$H$292,8,TRUE)","v":44.995750000000001},"http://commons.wikimedia.org/wiki/File:S_Branch_Carrabassett_R_at_AT_crossing.jpg"]
[1982.1,"Caribou Valley Rd.","2220’","ME","Franklin",{"$f":"VLOOKUP(A1394,LongLat!$A$2:$H$292,7,TRUE)","v":-70.341800000000006},{"$f":"VLOOKUP(A1394,LongLat!$A$2:$H$292,8,TRUE)","v":44.995750000000001}]
[1983.1,"Crocker Cirque","2710’","ME","Franklin",{"$f":"VLOOKUP(A1395,LongLat!$A$2:$H$292,7,TRUE)","v":-70.341800000000006},{"$f":"VLOOKUP(A1395,LongLat!$A$2:$H$292,8,TRUE)","v":44.995750000000001},"http://www.summitpost.org/image/246447/154994/the-massive-cirque-of-north-crocker.html"]
[1984.2,"South Crocker Mt.","4040’","ME","Franklin",{"$f":"VLOOKUP(A1396,LongLat!$A$2:$H$292,7,TRUE)","v":-70.341800000000006},{"$f":"VLOOKUP(A1396,LongLat!$A$2:$H$292,8,TRUE)","v":44.995750000000001},"http://www.summitpost.org/mountain/rock/154994/the-crockers.html"]
[1985.2,"North Crocker Mt./a> ","4228’","ME","Franklin",{"$f":"VLOOKUP(A1397,LongLat!$A$2:$H$292,7,TRUE)","v":-70.341800000000006},{"$f":"VLOOKUP(A1397,LongLat!$A$2:$H$292,8,TRUE)","v":44.995750000000001},"http://www.summitpost.org/mountain/rock/154994/the-crockers.html"]
[1990.4,"ME 27","1450’","ME","Franklin",{"$f":"VLOOKUP(A1398,LongLat!$A$2:$H$292,7,TRUE)","v":-70.341800000000006},{"$f":"VLOOKUP(A1398,LongLat!$A$2:$H$292,8,TRUE)","v":44.995750000000001}]
[1991.2,"Stratton Brook Pond Rd.","1250’","ME","Franklin",{"$f":"VLOOKUP(A1399,LongLat!$A$2:$H$292,7,TRUE)","v":-70.341800000000006},{"$f":"VLOOKUP(A1399,LongLat!$A$2:$H$292,8,TRUE)","v":44.995750000000001}]
[1991.4,"Stratton Brook","1230’","ME","Franklin",{"$f":"VLOOKUP(A1400,LongLat!$A$2:$H$292,7,TRUE)","v":-70.341800000000006},{"$f":"VLOOKUP(A1400,LongLat!$A$2:$H$292,8,TRUE)","v":44.995750000000001},"http://www.summitpost.org/image/135243/154948/sugarloaf-from-stratton-brook.html"]
[1992.3,"Cranberry Stream","1350’","ME","Franklin",{"$f":"VLOOKUP(A1401,LongLat!$A$2:$H$292,7,TRUE)","v":-70.330600000000004},{"$f":"VLOOKUP(A1401,LongLat!$A$2:$H$292,8,TRUE)","v":45.14423},"http://www.flickr.com/photos/44842839@N00/2834942506"]
[1993.6,"Cranberry Pond, Bigelow Range Tr.","2400’","ME","Franklin",{"$f":"VLOOKUP(A1402,LongLat!$A$2:$H$292,7,TRUE)","v":-70.330600000000004},{"$f":"VLOOKUP(A1402,LongLat!$A$2:$H$292,8,TRUE)","v":45.14423}]
[1995.3,"Horns Pond Trail","3200’","ME","Franklin",{"$f":"VLOOKUP(A1403,LongLat!$A$2:$H$292,7,TRUE)","v":-70.330600000000004},{"$f":"VLOOKUP(A1403,LongLat!$A$2:$H$292,8,TRUE)","v":45.14423}]
[1995.5,"Horns Pond Lean-to (pic)","3160’","ME","Franklin",{"$f":"VLOOKUP(A1404,LongLat!$A$2:$H$292,7,TRUE)","v":-70.330600000000004},{"$f":"VLOOKUP(A1404,LongLat!$A$2:$H$292,8,TRUE)","v":45.14423}]
[1995.8,"spring","3400’","ME","Franklin",{"$f":"VLOOKUP(A1405,LongLat!$A$2:$H$292,7,TRUE)","v":-70.330600000000004},{"$f":"VLOOKUP(A1405,LongLat!$A$2:$H$292,8,TRUE)","v":45.14423}]
[1996,"South Horn","3831’","ME","Franklin",{"$f":"VLOOKUP(A1406,LongLat!$A$2:$H$292,7,TRUE)","v":-70.330600000000004},{"$f":"VLOOKUP(A1406,LongLat!$A$2:$H$292,8,TRUE)","v":45.14423},"http://www.summitpost.org/image/118309/154452/west-peak-from-just-below-the.html"]
[1998.1,"Bigelow Mt. (West Peak)","4145’","ME","Somerset",{"$f":"VLOOKUP(A1407,LongLat!$A$2:$H$292,7,TRUE)","v":-70.330600000000004},{"$f":"VLOOKUP(A1407,LongLat!$A$2:$H$292,8,TRUE)","v":45.14423},"http://www.summitpost.org/mountain/rock/154452/bigelow-mountain.html"]
[1998.4,"Bigelow Col, Avery Memorial Campsite","3850’","ME","Somerset",{"$f":"VLOOKUP(A1408,LongLat!$A$2:$H$292,7,TRUE)","v":-70.330600000000004},{"$f":"VLOOKUP(A1408,LongLat!$A$2:$H$292,8,TRUE)","v":45.14423}]
[1998.6,"spring","3900’","ME","Somerset",{"$f":"VLOOKUP(A1409,LongLat!$A$2:$H$292,7,TRUE)","v":-70.330600000000004},{"$f":"VLOOKUP(A1409,LongLat!$A$2:$H$292,8,TRUE)","v":45.14423}]
[1998.8,"Bigelow Mt. (Avery Peak)","4090’","ME","Somerset",{"$f":"VLOOKUP(A1410,LongLat!$A$2:$H$292,7,TRUE)","v":-70.330600000000004},{"$f":"VLOOKUP(A1410,LongLat!$A$2:$H$292,8,TRUE)","v":45.14423},"http://www.summitpost.org/mountain/rock/154452/bigelow-mountain.html"]
[2000.7,"Safford Brook Trail","2260’","ME","Somerset",{"$f":"VLOOKUP(A1411,LongLat!$A$2:$H$292,7,TRUE)","v":-70.330600000000004},{"$f":"VLOOKUP(A1411,LongLat!$A$2:$H$292,8,TRUE)","v":45.14423}]
[2000.8,"Safford Notch","2230’","ME","Somerset",{"$f":"VLOOKUP(A1412,LongLat!$A$2:$H$292,7,TRUE)","v":-70.330600000000004},{"$f":"VLOOKUP(A1412,LongLat!$A$2:$H$292,8,TRUE)","v":45.14423}]
[2004,"Little Bigelow Mt.","3010’","ME","Somerset",{"$f":"VLOOKUP(A1413,LongLat!$A$2:$H$292,7,TRUE)","v":-70.191599999999994},{"$f":"VLOOKUP(A1413,LongLat!$A$2:$H$292,8,TRUE)","v":45.139119999999998},"http://en.wikipedia.org/wiki/File:The_Bigelows_Little_Bigelow_Mt_Maine.JPG"]
[2005.7,"Little Bigelow Lean-to (pic)","1760’","ME","Somerset",{"$f":"VLOOKUP(A1414,LongLat!$A$2:$H$292,7,TRUE)","v":-70.191599999999994},{"$f":"VLOOKUP(A1414,LongLat!$A$2:$H$292,8,TRUE)","v":45.139119999999998},"http://www.halfassexpeditions.com/images/bigelow_shelter.jpg"]
[2007.1,"East Flagstaff Rd.","1200’","ME","Somerset",{"$f":"VLOOKUP(A1415,LongLat!$A$2:$H$292,7,TRUE)","v":-70.191599999999994},{"$f":"VLOOKUP(A1415,LongLat!$A$2:$H$292,8,TRUE)","v":45.139119999999998}]
[2007.2,"Bog Brook Rd, Flagstaff Lake","1150’","ME","Somerset",{"$f":"VLOOKUP(A1416,LongLat!$A$2:$H$292,7,TRUE)","v":-70.191599999999994},{"$f":"VLOOKUP(A1416,LongLat!$A$2:$H$292,8,TRUE)","v":45.139119999999998}]
[2009.5,"Long Falls Dam Rd.","1225’","ME","Somerset",{"$f":"VLOOKUP(A1417,LongLat!$A$2:$H$292,7,TRUE)","v":-70.100399999999993},{"$f":"VLOOKUP(A1417,LongLat!$A$2:$H$292,8,TRUE)","v":45.158070000000002}]
[2011.2,"Roundtop Mt.","1760’","ME","Somerset",{"$f":"VLOOKUP(A1418,LongLat!$A$2:$H$292,7,TRUE)","v":-70.100399999999993},{"$f":"VLOOKUP(A1418,LongLat!$A$2:$H$292,8,TRUE)","v":45.158070000000002}]
[2012.3,"West Carry Pond","1320’","ME","Somerset",{"$f":"VLOOKUP(A1419,LongLat!$A$2:$H$292,7,TRUE)","v":-70.100399999999993},{"$f":"VLOOKUP(A1419,LongLat!$A$2:$H$292,8,TRUE)","v":45.158070000000002},"http://www.flickr.com/photos/sakuradesigns/241483223/"]
[2013,"West Carry Pond Lean-to (pic)","1340’","ME","Somerset",{"$f":"VLOOKUP(A1420,LongLat!$A$2:$H$292,7,TRUE)","v":-70.100399999999993},{"$f":"VLOOKUP(A1420,LongLat!$A$2:$H$292,8,TRUE)","v":45.158070000000002}]
[2013.7,"West Carry Pond","1320’","ME","Somerset",{"$f":"VLOOKUP(A1421,LongLat!$A$2:$H$292,7,TRUE)","v":-70.100399999999993},{"$f":"VLOOKUP(A1421,LongLat!$A$2:$H$292,8,TRUE)","v":45.158070000000002},"http://www.flickr.com/photos/sakuradesigns/241483223/"]
[2015.6,"Sandy Stream, Middle Carry Pond","1229’","ME","Somerset",{"$f":"VLOOKUP(A1422,LongLat!$A$2:$H$292,7,TRUE)","v":-70.100399999999993},{"$f":"VLOOKUP(A1422,LongLat!$A$2:$H$292,8,TRUE)","v":45.158070000000002},"http://www.flickr.com/photos/sakuradesigns/241483223/"]
[2017.1,"East Carry Pond","1237’","ME","Somerset",{"$f":"VLOOKUP(A1423,LongLat!$A$2:$H$292,7,TRUE)","v":-70.100399999999993},{"$f":"VLOOKUP(A1423,LongLat!$A$2:$H$292,8,TRUE)","v":45.158070000000002}]
[2018.8,"logging road","1300’","ME","Somerset",{"$f":"VLOOKUP(A1424,LongLat!$A$2:$H$292,7,TRUE)","v":-70.100399999999993},{"$f":"VLOOKUP(A1424,LongLat!$A$2:$H$292,8,TRUE)","v":45.158070000000002}]
[2019.5,"N. Branch Carrying Place Stream","1200’","ME","Somerset",{"$f":"VLOOKUP(A1425,LongLat!$A$2:$H$292,7,TRUE)","v":-70.055999999999997},{"$f":"VLOOKUP(A1425,LongLat!$A$2:$H$292,8,TRUE)","v":45.24033}]
[2023,"Pierce Pond Lean-to (pic)","1150’","ME","Somerset",{"$f":"VLOOKUP(A1426,LongLat!$A$2:$H$292,7,TRUE)","v":-70.055999999999997},{"$f":"VLOOKUP(A1426,LongLat!$A$2:$H$292,8,TRUE)","v":45.24033}]
[2023.4,"Harrison’s Pierce Pond Camps side trail","1100’","ME","Somerset",{"$f":"VLOOKUP(A1427,LongLat!$A$2:$H$292,7,TRUE)","v":-70.055999999999997},{"$f":"VLOOKUP(A1427,LongLat!$A$2:$H$292,8,TRUE)","v":45.24033}]
[2024.7,"Kennebec River","490’","ME","Somerset",{"$f":"VLOOKUP(A1428,LongLat!$A$2:$H$292,7,TRUE)","v":-70.055999999999997},{"$f":"VLOOKUP(A1428,LongLat!$A$2:$H$292,8,TRUE)","v":45.24033},"http://whereswalden.com/wp-content/uploads/2009/01/0016.jpg"]
[2027,"Caratunk (US 201)","520’","ME","Somerset",{"$f":"VLOOKUP(A1429,LongLat!$A$2:$H$292,7,TRUE)","v":-70.055999999999997},{"$f":"VLOOKUP(A1429,LongLat!$A$2:$H$292,8,TRUE)","v":45.24033}]
[2029.7,"Holly Brook","900’","ME","Somerset",{"$f":"VLOOKUP(A1430,LongLat!$A$2:$H$292,7,TRUE)","v":-69.916799999999995},{"$f":"VLOOKUP(A1430,LongLat!$A$2:$H$292,8,TRUE)","v":45.270600000000002}]
[2032.3,"Boise-Cascade Logging Rd.","1400’","ME","Somerset",{"$f":"VLOOKUP(A1431,LongLat!$A$2:$H$292,7,TRUE)","v":-69.916799999999995},{"$f":"VLOOKUP(A1431,LongLat!$A$2:$H$292,8,TRUE)","v":45.270600000000002}]
[2032.7,"Pleasant Pond Lean-to (pic)","1320’","ME","Somerset",{"$f":"VLOOKUP(A1432,LongLat!$A$2:$H$292,7,TRUE)","v":-69.916799999999995},{"$f":"VLOOKUP(A1432,LongLat!$A$2:$H$292,8,TRUE)","v":45.270600000000002}]
[2034,"Pleasant Pond Mt.","2470’","ME","Somerset",{"$f":"VLOOKUP(A1433,LongLat!$A$2:$H$292,7,TRUE)","v":-69.916799999999995},{"$f":"VLOOKUP(A1433,LongLat!$A$2:$H$292,8,TRUE)","v":45.270600000000002}]
[2038.9,"Moxie Pond","970’","ME","Somerset",{"$f":"VLOOKUP(A1434,LongLat!$A$2:$H$292,7,TRUE)","v":-69.799899999999994},{"$f":"VLOOKUP(A1434,LongLat!$A$2:$H$292,8,TRUE)","v":45.258540000000004},"http://www.panoramio.com/photo/2381898"]
[2041.7,"Bald Mt. Brook Lean-to (pic)","1280’","ME","Piscataquis",{"$f":"VLOOKUP(A1435,LongLat!$A$2:$H$292,7,TRUE)","v":-69.799899999999994},{"$f":"VLOOKUP(A1435,LongLat!$A$2:$H$292,8,TRUE)","v":45.258540000000004}]
[2043.7,"Moxie Bald Mt.","2629’","ME","Piscataquis",{"$f":"VLOOKUP(A1436,LongLat!$A$2:$H$292,7,TRUE)","v":-69.745800000000003},{"$f":"VLOOKUP(A1436,LongLat!$A$2:$H$292,8,TRUE)","v":45.270589999999999},"http://www.summitpost.org/image/244556/171039/moxie-bald.html"]
[2045.8,"Moxie Bald Lean-to (pic) >pic)","1220’","ME","Piscataquis",{"$f":"VLOOKUP(A1437,LongLat!$A$2:$H$292,7,TRUE)","v":-69.745800000000003},{"$f":"VLOOKUP(A1437,LongLat!$A$2:$H$292,8,TRUE)","v":45.270589999999999}]
[2047.9,"Bald Mt. Pond","1213’","ME","Piscataquis",{"$f":"VLOOKUP(A1438,LongLat!$A$2:$H$292,7,TRUE)","v":-69.745800000000003},{"$f":"VLOOKUP(A1438,LongLat!$A$2:$H$292,8,TRUE)","v":45.270589999999999}]
[2051.6,"W. Branch Piscataquis River (ford)","900’","ME","Piscataquis",{"$f":"VLOOKUP(A1439,LongLat!$A$2:$H$292,7,TRUE)","v":-69.628100000000003},{"$f":"VLOOKUP(A1439,LongLat!$A$2:$H$292,8,TRUE)","v":45.282789999999999}]
[2054.6999999999998,"Horseshoe Canyon Lean-to (pic)","880’","ME","Piscataquis",{"$f":"VLOOKUP(A1440,LongLat!$A$2:$H$292,7,TRUE)","v":-69.628100000000003},{"$f":"VLOOKUP(A1440,LongLat!$A$2:$H$292,8,TRUE)","v":45.282789999999999}]
[2057,"E. Branch Piscataquis River (ford)","650’","ME","Piscataquis",{"$f":"VLOOKUP(A1441,LongLat!$A$2:$H$292,7,TRUE)","v":-69.628100000000003},{"$f":"VLOOKUP(A1441,LongLat!$A$2:$H$292,8,TRUE)","v":45.282789999999999}]
[2060.4,"Shirley-Blanchard Rd.","850’","ME","Piscataquis",{"$f":"VLOOKUP(A1442,LongLat!$A$2:$H$292,7,TRUE)","v":-69.628100000000003},{"$f":"VLOOKUP(A1442,LongLat!$A$2:$H$292,8,TRUE)","v":45.282789999999999}]
[2063.6999999999998,"ME 15","1215’","ME","Piscataquis",{"$f":"VLOOKUP(A1443,LongLat!$A$2:$H$292,7,TRUE)","v":-69.499300000000005},{"$f":"VLOOKUP(A1443,LongLat!$A$2:$H$292,8,TRUE)","v":45.351579999999998}]
[2063.8000000000002,"Spectacle Pond outlet","1163’","ME","Piscataquis",{"$f":"VLOOKUP(A1444,LongLat!$A$2:$H$292,7,TRUE)","v":-69.499300000000005},{"$f":"VLOOKUP(A1444,LongLat!$A$2:$H$292,8,TRUE)","v":45.351579999999998},"http://www.flickr.com/photos/23022528@N07/2615833950"]
[2064.9,"Bell Pond","1278’","ME","Piscataquis",{"$f":"VLOOKUP(A1445,LongLat!$A$2:$H$292,7,TRUE)","v":-69.499300000000005},{"$f":"VLOOKUP(A1445,LongLat!$A$2:$H$292,8,TRUE)","v":45.351579999999998}]
[2065.6,"Lily Pond","1130’","ME","Piscataquis",{"$f":"VLOOKUP(A1446,LongLat!$A$2:$H$292,7,TRUE)","v":-69.499300000000005},{"$f":"VLOOKUP(A1446,LongLat!$A$2:$H$292,8,TRUE)","v":45.351579999999998}]
[2066.6999999999998,"Leeman Brook Lean-to (pic)","1070’","ME","Piscataquis",{"$f":"VLOOKUP(A1447,LongLat!$A$2:$H$292,7,TRUE)","v":-69.499300000000005},{"$f":"VLOOKUP(A1447,LongLat!$A$2:$H$292,8,TRUE)","v":45.351579999999998}]
[2067.5,"North Pond outlet","1000’","ME","Piscataquis",{"$f":"VLOOKUP(A1448,LongLat!$A$2:$H$292,7,TRUE)","v":-69.499300000000005},{"$f":"VLOOKUP(A1448,LongLat!$A$2:$H$292,8,TRUE)","v":45.351579999999998}]
[2070.3000000000002,"Little Wilson Falls","850’","ME","Piscataquis",{"$f":"VLOOKUP(A1449,LongLat!$A$2:$H$292,7,TRUE)","v":-69.499300000000005},{"$f":"VLOOKUP(A1449,LongLat!$A$2:$H$292,8,TRUE)","v":45.351579999999998}]
[2070.5,"Little Wilson Stream (ford)","750’","ME","Piscataquis",{"$f":"VLOOKUP(A1450,LongLat!$A$2:$H$292,7,TRUE)","v":-69.460099999999997},{"$f":"VLOOKUP(A1450,LongLat!$A$2:$H$292,8,TRUE)","v":45.397959999999998}]
[2073.4,"Canadian Pacific RR","850’","ME","Piscataquis",{"$f":"VLOOKUP(A1451,LongLat!$A$2:$H$292,7,TRUE)","v":-69.460099999999997},{"$f":"VLOOKUP(A1451,LongLat!$A$2:$H$292,8,TRUE)","v":45.397959999999998}]
[2074.1,"Wilson Valley Lean-to (pic)","1000’","ME","Piscataquis",{"$f":"VLOOKUP(A1452,LongLat!$A$2:$H$292,7,TRUE)","v":-69.460099999999997},{"$f":"VLOOKUP(A1452,LongLat!$A$2:$H$292,8,TRUE)","v":45.397959999999998}]
[2078,"Long Pond Stream (ford)","620’","ME","Piscataquis",{"$f":"VLOOKUP(A1453,LongLat!$A$2:$H$292,7,TRUE)","v":-69.410200000000003},{"$f":"VLOOKUP(A1453,LongLat!$A$2:$H$292,8,TRUE)","v":45.421930000000003},"http://whereswalden.com/wp-content/uploads/2009/01/0013.jpg"]
[2078.8000000000002,"Long Pond Stream Lean-to (pic)","930’","ME","Piscataquis",{"$f":"VLOOKUP(A1454,LongLat!$A$2:$H$292,7,TRUE)","v":-69.410200000000003},{"$f":"VLOOKUP(A1454,LongLat!$A$2:$H$292,8,TRUE)","v":45.421930000000003},"http://lh6.ggpht.com/_KVuBFGbrZvc/RzTMm5S2WDI/AAAAAAAAAkA/Bc38tO8v1QU/long+pond+lean+to.jpg"]
[2081.9,"Barren Mt.","2660’","ME","Piscataquis",{"$f":"VLOOKUP(A1455,LongLat!$A$2:$H$292,7,TRUE)","v":-69.352199999999996},{"$f":"VLOOKUP(A1455,LongLat!$A$2:$H$292,8,TRUE)","v":45.41892},"http://www.panoramio.com/photo/3220750"]
[2082.8000000000002,"Cloud Pond Lean-to (pic)","2420’","ME","Piscataquis",{"$f":"VLOOKUP(A1456,LongLat!$A$2:$H$292,7,TRUE)","v":-69.352199999999996},{"$f":"VLOOKUP(A1456,LongLat!$A$2:$H$292,8,TRUE)","v":45.41892}]
[2084.9,"Fourth Mt.","2380’","ME","Piscataquis",{"$f":"VLOOKUP(A1457,LongLat!$A$2:$H$292,7,TRUE)","v":-69.352199999999996},{"$f":"VLOOKUP(A1457,LongLat!$A$2:$H$292,8,TRUE)","v":45.41892},"http://www.mountainzone.com/mountains/detail.asp?fid=6243956"]
[2087.4,"Third Mt, Monument Cliff","1920’","ME","Piscataquis",{"$f":"VLOOKUP(A1458,LongLat!$A$2:$H$292,7,TRUE)","v":-69.262699999999995},{"$f":"VLOOKUP(A1458,LongLat!$A$2:$H$292,8,TRUE)","v":45.452930000000002}]
[2088,"West Chairback Pond Trail","1770’","ME","Piscataquis",{"$f":"VLOOKUP(A1459,LongLat!$A$2:$H$292,7,TRUE)","v":-69.262699999999995},{"$f":"VLOOKUP(A1459,LongLat!$A$2:$H$292,8,TRUE)","v":45.452930000000002}]
[2089.3000000000002,"Columbus Mt.","2325’","ME","Piscataquis",{"$f":"VLOOKUP(A1460,LongLat!$A$2:$H$292,7,TRUE)","v":-69.262699999999995},{"$f":"VLOOKUP(A1460,LongLat!$A$2:$H$292,8,TRUE)","v":45.452930000000002},"http://www.mountainzone.com/mountains/detail.asp?fid=6255256"]
[2089.6999999999998,"Chairback Gap Lean-to (pic)","2000’","ME","Piscataquis",{"$f":"VLOOKUP(A1461,LongLat!$A$2:$H$292,7,TRUE)","v":-69.262699999999995},{"$f":"VLOOKUP(A1461,LongLat!$A$2:$H$292,8,TRUE)","v":45.452930000000002}]
[2090.1999999999998,"Chairback Mt.","2180’","ME","Piscataquis",{"$f":"VLOOKUP(A1462,LongLat!$A$2:$H$292,7,TRUE)","v":-69.262699999999995},{"$f":"VLOOKUP(A1462,LongLat!$A$2:$H$292,8,TRUE)","v":45.452930000000002},"http://www.panoramio.com/photo/19644868"]
[2092.4,"East Chairback Pond Trail","1630’","ME","Piscataquis",{"$f":"VLOOKUP(A1463,LongLat!$A$2:$H$292,7,TRUE)","v":-69.262699999999995},{"$f":"VLOOKUP(A1463,LongLat!$A$2:$H$292,8,TRUE)","v":45.452930000000002}]
[2093.6,"Katahdin Iron Works Logging Rd.","750’","ME","Piscataquis",{"$f":"VLOOKUP(A1464,LongLat!$A$2:$H$292,7,TRUE)","v":-69.262699999999995},{"$f":"VLOOKUP(A1464,LongLat!$A$2:$H$292,8,TRUE)","v":45.452930000000002}]
[2094.1,"W. Branch Pleasant River (ford)","680’","ME","Piscataquis",{"$f":"VLOOKUP(A1465,LongLat!$A$2:$H$292,7,TRUE)","v":-69.262699999999995},{"$f":"VLOOKUP(A1465,LongLat!$A$2:$H$292,8,TRUE)","v":45.452930000000002}]
[2094.4,"The Hermitage","695’","ME","Piscataquis",{"$f":"VLOOKUP(A1466,LongLat!$A$2:$H$292,7,TRUE)","v":-69.262699999999995},{"$f":"VLOOKUP(A1466,LongLat!$A$2:$H$292,8,TRUE)","v":45.452930000000002}]
[2095.4,"Gulf Hagas Trail","950’","ME","Piscataquis",{"$f":"VLOOKUP(A1467,LongLat!$A$2:$H$292,7,TRUE)","v":-69.262699999999995},{"$f":"VLOOKUP(A1467,LongLat!$A$2:$H$292,8,TRUE)","v":45.452930000000002}]
[2096.1,"Gulf Hagas Cut-off Trail","1050’","ME","Piscataquis",{"$f":"VLOOKUP(A1468,LongLat!$A$2:$H$292,7,TRUE)","v":-69.3155},{"$f":"VLOOKUP(A1468,LongLat!$A$2:$H$292,8,TRUE)","v":45.530500000000004}]
[2099.6,"Carl A. Newhall Lean-to (pic)","1840’","ME","Piscataquis",{"$f":"VLOOKUP(A1469,LongLat!$A$2:$H$292,7,TRUE)","v":-69.3155},{"$f":"VLOOKUP(A1469,LongLat!$A$2:$H$292,8,TRUE)","v":45.530500000000004}]
[2100.5,"Gulf Hagas Mt.","2683’","ME","Piscataquis",{"$f":"VLOOKUP(A1470,LongLat!$A$2:$H$292,7,TRUE)","v":-69.3155},{"$f":"VLOOKUP(A1470,LongLat!$A$2:$H$292,8,TRUE)","v":45.530500000000004},"http://www.mountainzone.com/mountains/detail.asp?fid=6141056"]
[2101.4,"Sidney Tappan Campsite","2425’","ME","Piscataquis",{"$f":"VLOOKUP(A1471,LongLat!$A$2:$H$292,7,TRUE)","v":-69.3155},{"$f":"VLOOKUP(A1471,LongLat!$A$2:$H$292,8,TRUE)","v":45.530500000000004}]
[2102.1,"West Peak","3178’","ME","Piscataquis",{"$f":"VLOOKUP(A1472,LongLat!$A$2:$H$292,7,TRUE)","v":-69.3155},{"$f":"VLOOKUP(A1472,LongLat!$A$2:$H$292,8,TRUE)","v":45.530500000000004}]
[2103.6999999999998,"Hay Mt.","3244’","ME","Piscataquis",{"$f":"VLOOKUP(A1473,LongLat!$A$2:$H$292,7,TRUE)","v":-69.235399999999998},{"$f":"VLOOKUP(A1473,LongLat!$A$2:$H$292,8,TRUE)","v":45.561140000000002},"http://www.mountainzone.com/mountains/detail.asp?fid=5983856"]
[2104.3000000000002,"White Brook Trail","3125’","ME","Piscataquis",{"$f":"VLOOKUP(A1474,LongLat!$A$2:$H$292,7,TRUE)","v":-69.235399999999998},{"$f":"VLOOKUP(A1474,LongLat!$A$2:$H$292,8,TRUE)","v":45.561140000000002}]
[2105.4,"White Cap Mt.","3650’","ME","Piscataquis",{"$f":"VLOOKUP(A1475,LongLat!$A$2:$H$292,7,TRUE)","v":-69.235399999999998},{"$f":"VLOOKUP(A1475,LongLat!$A$2:$H$292,8,TRUE)","v":45.561140000000002},"http://www.summitpost.org/image/482973/i-would-guess-white-cap-me.html"]
[2106.8000000000002,"Logan Brook Lean-to (pic)","2530’","ME","Piscataquis",{"$f":"VLOOKUP(A1476,LongLat!$A$2:$H$292,7,TRUE)","v":-69.198800000000006},{"$f":"VLOOKUP(A1476,LongLat!$A$2:$H$292,8,TRUE)","v":45.596760000000003},"http://purebound.com/AT/maine/logan_brook_lean_to.jpg"]
[2108.4,"W. Branch Ponds Rd.","1650’","ME","Piscataquis",{"$f":"VLOOKUP(A1477,LongLat!$A$2:$H$292,7,TRUE)","v":-69.198800000000006},{"$f":"VLOOKUP(A1477,LongLat!$A$2:$H$292,8,TRUE)","v":45.596760000000003}]
[2110.4,"East Branch Lean-to (pic)","1240’","ME","Piscataquis",{"$f":"VLOOKUP(A1478,LongLat!$A$2:$H$292,7,TRUE)","v":-69.198800000000006},{"$f":"VLOOKUP(A1478,LongLat!$A$2:$H$292,8,TRUE)","v":45.596760000000003}]
[2110.6999999999998,"E. Branch Pleasant River","1200’","ME","Piscataquis",{"$f":"VLOOKUP(A1479,LongLat!$A$2:$H$292,7,TRUE)","v":-69.198800000000006},{"$f":"VLOOKUP(A1479,LongLat!$A$2:$H$292,8,TRUE)","v":45.596760000000003}]
[2112.3000000000002,"Mountain View Pond","1597’","ME","Piscataquis",{"$f":"VLOOKUP(A1480,LongLat!$A$2:$H$292,7,TRUE)","v":-69.198800000000006},{"$f":"VLOOKUP(A1480,LongLat!$A$2:$H$292,8,TRUE)","v":45.596760000000003}]
[2112.6,"spring","1580’","ME","Piscataquis",{"$f":"VLOOKUP(A1481,LongLat!$A$2:$H$292,7,TRUE)","v":-69.198800000000006},{"$f":"VLOOKUP(A1481,LongLat!$A$2:$H$292,8,TRUE)","v":45.596760000000003}]
[2113.9,"Little Boardman Mt.","1980’","ME","Piscataquis",{"$f":"VLOOKUP(A1482,LongLat!$A$2:$H$292,7,TRUE)","v":-69.198800000000006},{"$f":"VLOOKUP(A1482,LongLat!$A$2:$H$292,8,TRUE)","v":45.596760000000003},"http://www.newenglandtrailreview.com/singleimagepage.asp?CID=2741&TID=192"]
[2115.3000000000002,"Kokadjo-B Pond Rd.","1380’","ME","Piscataquis",{"$f":"VLOOKUP(A1483,LongLat!$A$2:$H$292,7,TRUE)","v":-69.087999999999994},{"$f":"VLOOKUP(A1483,LongLat!$A$2:$H$292,8,TRUE)","v":45.640529999999998}]
[2116.1999999999998,"Crawford Pond","1240’","ME","Piscataquis",{"$f":"VLOOKUP(A1484,LongLat!$A$2:$H$292,7,TRUE)","v":-69.087999999999994},{"$f":"VLOOKUP(A1484,LongLat!$A$2:$H$292,8,TRUE)","v":45.640529999999998}]
[2118.5,"Cooper Brook Falls Lean-to (pic)","910’","ME","Piscataquis",{"$f":"VLOOKUP(A1485,LongLat!$A$2:$H$292,7,TRUE)","v":-69.087999999999994},{"$f":"VLOOKUP(A1485,LongLat!$A$2:$H$292,8,TRUE)","v":45.640529999999998},"http://farm3.static.flickr.com/2011/1625234092_f67d0853c2.jpg?v=0"]
[2122.1999999999998,"Jo-Mary Rd.","625’","ME","Piscataquis",{"$f":"VLOOKUP(A1486,LongLat!$A$2:$H$292,7,TRUE)","v":-69.087999999999994},{"$f":"VLOOKUP(A1486,LongLat!$A$2:$H$292,8,TRUE)","v":45.640529999999998}]
[2125.1,"Mud Pond outlet","508’","ME","Piscataquis",{"$f":"VLOOKUP(A1487,LongLat!$A$2:$H$292,7,TRUE)","v":-69.087999999999994},{"$f":"VLOOKUP(A1487,LongLat!$A$2:$H$292,8,TRUE)","v":45.640529999999998},"http://www.summitpost.org/image/457264/324762/mud-pond.html"]
[2126.4,"Antlers Campsite","500’","ME","Piscataquis",{"$f":"VLOOKUP(A1488,LongLat!$A$2:$H$292,7,TRUE)","v":-69.007900000000006},{"$f":"VLOOKUP(A1488,LongLat!$A$2:$H$292,8,TRUE)","v":45.706580000000002},"http://www.summitpost.org/image/244565/171039/red-pine-grove-at-antlers-campsite.html"]
[2128.1,"Sand Beach, Lower Jo-Mary Lake","580’","ME","Piscataquis",{"$f":"VLOOKUP(A1489,LongLat!$A$2:$H$292,7,TRUE)","v":-69.007900000000006},{"$f":"VLOOKUP(A1489,LongLat!$A$2:$H$292,8,TRUE)","v":45.706580000000002}]
[2129.9,"Potaywadjo Spring Lean-to (pic)","620’","ME","Piscataquis",{"$f":"VLOOKUP(A1490,LongLat!$A$2:$H$292,7,TRUE)","v":-69.007900000000006},{"$f":"VLOOKUP(A1490,LongLat!$A$2:$H$292,8,TRUE)","v":45.706580000000002}]
[2130.5,"Pemadumcook Lake","580’","ME","Piscataquis",{"$f":"VLOOKUP(A1491,LongLat!$A$2:$H$292,7,TRUE)","v":-69.007900000000006},{"$f":"VLOOKUP(A1491,LongLat!$A$2:$H$292,8,TRUE)","v":45.706580000000002},"http://www.summitpost.org/image/189343/170999/view-of-ktaadn-from-pemadumcook.html"]
[2132,"Maher Tote Rd.","580’","ME","Piscataquis",{"$f":"VLOOKUP(A1492,LongLat!$A$2:$H$292,7,TRUE)","v":-69.007900000000006},{"$f":"VLOOKUP(A1492,LongLat!$A$2:$H$292,8,TRUE)","v":45.706580000000002}]
[2134.1999999999998,"Nahmakanta Stream Campsite","600’","ME","Piscataquis",{"$f":"VLOOKUP(A1493,LongLat!$A$2:$H$292,7,TRUE)","v":-69.007900000000006},{"$f":"VLOOKUP(A1493,LongLat!$A$2:$H$292,8,TRUE)","v":45.706580000000002},"http://www.summitpost.org/image/276012/205484/crags-from-nahmkanta-stream.html"]
[2137.4,"Nahmakanta Lake","650’","ME","Piscataquis",{"$f":"VLOOKUP(A1494,LongLat!$A$2:$H$292,7,TRUE)","v":-69.145200000000003},{"$f":"VLOOKUP(A1494,LongLat!$A$2:$H$292,8,TRUE)","v":45.747329999999998},"http://www.summitpost.org/image/372126/188095/sunset-over-lake-nahmakanta-at.html"]
[2140,"Wadleigh Stream Lean-to (pic)","685’","ME","Piscataquis",{"$f":"VLOOKUP(A1495,LongLat!$A$2:$H$292,7,TRUE)","v":-69.145200000000003},{"$f":"VLOOKUP(A1495,LongLat!$A$2:$H$292,8,TRUE)","v":45.747329999999998}]
[2141.9,"Nesuntabunt Mt.","1520’","ME","Piscataquis",{"$f":"VLOOKUP(A1496,LongLat!$A$2:$H$292,7,TRUE)","v":-69.145200000000003},{"$f":"VLOOKUP(A1496,LongLat!$A$2:$H$292,8,TRUE)","v":45.747329999999998},"http://www.summitpost.org/image/244572/171039/katahdin-from-nesuntabunt-mnt.html"]
[2144,"Crescent Pond","980’","ME","Piscataquis",{"$f":"VLOOKUP(A1497,LongLat!$A$2:$H$292,7,TRUE)","v":-69.145200000000003},{"$f":"VLOOKUP(A1497,LongLat!$A$2:$H$292,8,TRUE)","v":45.747329999999998}]
[2145.6999999999998,"Pollywog Stream","682’","ME","Piscataquis",{"$f":"VLOOKUP(A1498,LongLat!$A$2:$H$292,7,TRUE)","v":-69.171000000000006},{"$f":"VLOOKUP(A1498,LongLat!$A$2:$H$292,8,TRUE)","v":45.79909},"http://www.j-trek.jp/kato/archives/10.2 Pollywog Stream.jpg"]
[2148.1,"Rainbow Stream Lean-to (pic)","1005’","ME","Piscataquis",{"$f":"VLOOKUP(A1499,LongLat!$A$2:$H$292,7,TRUE)","v":-69.171000000000006},{"$f":"VLOOKUP(A1499,LongLat!$A$2:$H$292,8,TRUE)","v":45.79909}]
[2150.1,"Rainbow Lake (west)","1080’","ME","Piscataquis",{"$f":"VLOOKUP(A1500,LongLat!$A$2:$H$292,7,TRUE)","v":-69.171000000000006},{"$f":"VLOOKUP(A1500,LongLat!$A$2:$H$292,8,TRUE)","v":45.79909},"http://www.panoramio.com/photo/3023639"]
[2151.9,"Rainbow Spring Campsite","1100’","ME","Piscataquis",{"$f":"VLOOKUP(A1501,LongLat!$A$2:$H$292,7,TRUE)","v":-69.171000000000006},{"$f":"VLOOKUP(A1501,LongLat!$A$2:$H$292,8,TRUE)","v":45.79909}]
[2155.3000000000002,"Rainbow Lake (east)","980’","ME","Piscataquis",{"$f":"VLOOKUP(A1502,LongLat!$A$2:$H$292,7,TRUE)","v":-69.171000000000006},{"$f":"VLOOKUP(A1502,LongLat!$A$2:$H$292,8,TRUE)","v":45.79909},"http://www.panoramio.com/photo/3023639"]
[2157.1,"Rainbow Ledges","1517’","ME","Piscataquis",{"$f":"VLOOKUP(A1503,LongLat!$A$2:$H$292,7,TRUE)","v":-69.019000000000005},{"$f":"VLOOKUP(A1503,LongLat!$A$2:$H$292,8,TRUE)","v":45.818530000000003},"http://www.summitpost.org/image/244576/171039/katahdin-from-rainbow-ledges.html"]
[2159.6,"Hurd Brook Lean-to (pic)","715’","ME","Piscataquis",{"$f":"VLOOKUP(A1504,LongLat!$A$2:$H$292,7,TRUE)","v":-69.019000000000005},{"$f":"VLOOKUP(A1504,LongLat!$A$2:$H$292,8,TRUE)","v":45.818530000000003},"http://www.panoramio.com/photo/5854347"]
[2163.1,"Abol Bridge","588’","ME","Piscataquis",{"$f":"VLOOKUP(A1505,LongLat!$A$2:$H$292,7,TRUE)","v":-69.019000000000005},{"$f":"VLOOKUP(A1505,LongLat!$A$2:$H$292,8,TRUE)","v":45.818530000000003},"http://www.summitpost.org/image/244578/171039/katahdin-from-abol-bridge.html"]
[2163.8000000000002,"Abol Stream, Baxter Park Boundary","620’","ME","Piscataquis",{"$f":"VLOOKUP(A1506,LongLat!$A$2:$H$292,7,TRUE)","v":-69.019000000000005},{"$f":"VLOOKUP(A1506,LongLat!$A$2:$H$292,8,TRUE)","v":45.818530000000003},"http://www.baxterstateparkauthority.com/index.htm"]
[2164.1999999999998,"Katahdin Stream","620’","ME","Piscataquis",{"$f":"VLOOKUP(A1507,LongLat!$A$2:$H$292,7,TRUE)","v":-69.019000000000005},{"$f":"VLOOKUP(A1507,LongLat!$A$2:$H$292,8,TRUE)","v":45.818530000000003}]
[2167.1999999999998,"Pine Point","640’","ME","Piscataquis",{"$f":"VLOOKUP(A1508,LongLat!$A$2:$H$292,7,TRUE)","v":-69.019000000000005},{"$f":"VLOOKUP(A1508,LongLat!$A$2:$H$292,8,TRUE)","v":45.818530000000003}]
[2169.4,"Big Niagara Falls","900’","ME","Piscataquis",{"$f":"VLOOKUP(A1509,LongLat!$A$2:$H$292,7,TRUE)","v":-68.995099999999994},{"$f":"VLOOKUP(A1509,LongLat!$A$2:$H$292,8,TRUE)","v":45.881599999999999}]
[2170.6,"Daicey Pond Campground","1100’","ME","Piscataquis",{"$f":"VLOOKUP(A1510,LongLat!$A$2:$H$292,7,TRUE)","v":-68.995099999999994},{"$f":"VLOOKUP(A1510,LongLat!$A$2:$H$292,8,TRUE)","v":45.881599999999999},"http://www.katahdinoutdoors.com/bsp/daicey.html"]
[2172.9,"Pack Tote Rd.","1080’","ME","Piscataquis",{"$f":"VLOOKUP(A1511,LongLat!$A$2:$H$292,7,TRUE)","v":-68.995099999999994},{"$f":"VLOOKUP(A1511,LongLat!$A$2:$H$292,8,TRUE)","v":45.881599999999999}]
[2173,"The Birches","1080’","ME","Piscataquis",{"$f":"VLOOKUP(A1512,LongLat!$A$2:$H$292,7,TRUE)","v":-68.995099999999994},{"$f":"VLOOKUP(A1512,LongLat!$A$2:$H$292,8,TRUE)","v":45.881599999999999},"http://www.cs.utk.edu/~dunigan/at/m.php?wpt=TheBirche"]
[2174.1999999999998,"Katahdin Stream Falls","1550’","ME","Piscataquis",{"$f":"VLOOKUP(A1513,LongLat!$A$2:$H$292,7,TRUE)","v":-68.995099999999994},{"$f":"VLOOKUP(A1513,LongLat!$A$2:$H$292,8,TRUE)","v":45.881599999999999},"http://www.summitpost.org/image/529246/150219/katahdin-stream-falls.html"]
[2177.1999999999998,"Thoreau Spring","4620’","ME","Piscataquis",{"$f":"VLOOKUP(A1514,LongLat!$A$2:$H$292,7,TRUE)","v":-68.995099999999994},{"$f":"VLOOKUP(A1514,LongLat!$A$2:$H$292,8,TRUE)","v":45.881599999999999},"http://www.summitpost.org/image/77335/172561/thoreau-spring-on-the.html"]
[2178.3000000000002,"Katahdin (Baxter Peak)","5268’","ME","Piscataquis",{"$f":"VLOOKUP(A1515,LongLat!$A$2:$H$292,7,TRUE)","v":-68.995099999999994},{"$f":"VLOOKUP(A1515,LongLat!$A$2:$H$292,8,TRUE)","v":45.881599999999999},"http://www.summitpost.org/mountain/rock/150219/katahdin.html"]

{"sheet":"LongLat","index":3,"n_rows":293,"n_cols":12,"rows_kept":293,"cut":false,"hidden":false,"merged":[]}
["Miles North","Next Shelter North","Elevation","Fee","Cap","State","Longitude","Latitude","Miles South","Next Shelter South"]
[0.2,2.2999999999999998,"3,730'","No",12,"Georgia",-84.193100000000001,34.629150000000003,2174.4,1.7]
[1.7,1.7,"3,300'","No",8,"Georgia",-84.198800000000006,34.617559999999997,0,0,null,"Original source for this data"]
[2.5,5.0999999999999996,"2,870'","No",6,"Georgia",-84.1999,34.649450000000002,2172.1,2.2999999999999998,null,"http://www.whiteblaze.net/cmps.php?page=shelters"]
[7.6,7.3,"3,200'","No",12,"Georgia",-84.136399999999995,34.66583,2167,5.0999999999999996]
[14.9,11.9,"3,000'","No",14,"Georgia",-84.034300000000002,34.653199999999998,2159.6999999999998,7.3]
[26.8,1.3,"3,600'","No",7,"Georgia",-83.954999999999998,34.737130000000001,2147.8000000000002,11.9]
[28.1,8.6,"4,450'","No",8,"Georgia",-83.9375,34.739960000000004,2146.5,1.3]
[36.700000000000003,4.4000000000000004,"3,370'","No",6,"Georgia",-83.834400000000002,34.712389999999999,2137.9,8.6]
[41.1,7.2,"3,050'","No",7,"Georgia",-83.824700000000007,34.776179999999997,2133.5,4.4000000000000004]
[48.3,7.7,"3,900’","No",7,"Georgia",-83.766800000000003,34.81711,2126.3000000000002,7.2]
[56,7.1,"4,200'","No",7,"Georgia",-83.676900000000003,34.803959999999996,2118.6,7.7]
[63.1,7.8,"3,350'","No",12,"Georgia",-83.646199999999993,34.882350000000002,2111.5,7.1]
[70.900000000000006,7.3,"3,050'","No",14,"Georgia",-83.588300000000004,34.946040000000004,2103.6999999999998,7.8]
[78.2,4.9000000000000004,"4,600'","No",8,"North Carolina",-83.581599999999995,35.020539999999997,2096.4,7.3]
[83.1,7.6,"4,760'","No",8,"North Carolina",-83.548199999999994,35.041829999999997,2091.5,4.9000000000000004]
[90.7,6.8,"4,540'","No",6,"North Carolina",-83.494900000000001,34.999870000000001,2083.9,7.6]
[90.7,6.8,"4,540'","No",8,"North Carolina",-83.494299999999996,34.998899999999999,2083.9,6.8]
[97.5,5.3,"4,940'","No",8,"North Carolina",-83.478899999999996,35.058909999999997,2077.1,6.8]
[102.8,9,"3,760'","No",8,"North Carolina",-83.523099999999999,35.091439999999999,2071.8000000000002,5.3]
[110.3,12.1,"4,600'","No",8,"North Carolina",-83.572500000000005,35.14414,2064.3000000000002,9]
[122.4,5.8,"4,920'","No",6,"North Carolina",-83.559899999999999,35.230899999999998,2052.1999999999998,12.1]
[128.19999999999999,4.9000000000000004,"4,115'","No",8,"North Carolina",-83.5822,35.282350000000001,2046.4,5.8]
[133.1,7.7,"2,300'","No",6,"North Carolina",-83.590199999999996,35.324179999999998,2041.5,4.9000000000000004]
[140.80000000000001,9.1,"4,330'","No",14,"North Carolina",-83.667000000000002,35.330680000000001,2033.8,7.7]
[149.9,6.1,"3,800'","No",6,"North Carolina",-83.733900000000006,35.37424,2024.7,9.1]
[156,6.6,"2,880'","No",6,"North Carolina",-83.773600000000002,35.415219999999998,2018.6,6.1]
[162.6,11.3,"1,775'","No",20,"North Carolina",-83.7941,35.448329999999999,2012,6.6]
[173.9,2.5,"4,570'","No",12,"Tennessee",-83.793599999999998,35.545780000000001,2000.7,11.3]
[176.4,2.9,"4,360'","No",14,"Tennessee",-83.766599999999997,35.56174,1998.2,2.5]
[179.3,6.3,"4,915'","No",12,"North Carolina",-83.732699999999994,35.561799999999998,1996.3,2.9]
[185.6,5.5,"4,880'","No",12,"Tennessee",-83.641900000000007,35.566249999999997,1989,6.3]
[191.1,1.7,"5,460'","No",12,"North Carolina",-83.568299999999994,35.5642,1983.5,5.5]
[192.8,6.3,"5,505'","No",12,"North Carolina",-83.542900000000003,35.565170000000002,1981.8,1.7]
[199.1,7.5,"5,870'","No",12,"Tennessee",-83.471400000000003,35.593739999999997,1975.5,6.3]
[200,"Off Trail","6,440'","No",0,"Tennessee",-83.433800000000005,35.652709999999999,"Off Trail","Off Trail"]
[206.6,7.4,"5,920'","No",12,"North Carolina",-83.386399999999995,35.629689999999997,1968,7.5]
[208,"Off Trail","3,660'","No",0,"North Carolina",-83.367999999999995,35.614510000000003,"Off Trail","Off Trail"]
[214,5.2,"5,280'","No",12,"North Carolina",-83.308599999999998,35.650739999999999,1960.6,7.4]
[219.2,7.7,"5,920'","No",12,"North Carolina",-83.256699999999995,35.693669999999997,1955.4,5.2]
[220,"Off Trail","5,420'","No",0,"North Carolina",-83.186499999999995,35.66592,"Off Trail","Off Trail"]
[226.9,7.1,"4,700'","No",12,"North Carolina",-83.182199999999995,35.727080000000001,1947.7,7.7]
[234,10.5,"2,600'","No",12,"Tennessee",-83.123699999999999,35.769219999999997,1940.6,7.1]
[244.5,8.1999999999999993,"2,850'","No",6,"North Carolina",-83.026300000000006,35.781660000000002,1930.1,10.5]
[252.7,4.9000000000000004,"3,530'","No",8,"North Carolina",-82.938599999999994,35.822339999999997,1921.9,8.1999999999999993]
[257.60000000000002,9.9,"4,260'","No",6,"Tennessee",-82.936700000000002,35.836449999999999,1917,4.9000000000000004]
[267.5,14.2,"2,330'","No",5,"North Carolina",-82.861400000000003,35.875830000000001,1907.1,9.9]
[281.7,8.6,"3,300'","No",5,"Tennessee",-82.790199999999999,35.951479999999997,1892.9,14.2]
[290.3,6.8,"3,620'","No",5,"North Carolina",-82.735900000000001,36.014989999999997,1884.3,8.6]
[297.10000000000002,5.9,"4,150'","No",6,"North Carolina",-82.657399999999996,36.056469999999997,1877.5,6.8]
[303,8.8000000000000007,"3,570'","No",8,"North Carolina",-82.596900000000005,36.034790000000001,1871.6,5.9]
[311.8,10,"4,255'","No",6,"North Carolina",-82.587199999999996,35.963949999999997,1862.8,8.8000000000000007]
[321.8,10.6,"5,100'","No",10,"Tennessee",-82.478300000000004,36,1852.8,10]
[332.4,10.5,"3,180'","No",6,"Tennessee",-82.433599999999998,36.066769999999998,1842.2,10.6]
[342.9,12.2,"3,070'","No",6,"Tennessee",-82.397000000000006,36.104170000000003,1831.7,10.5]
[355.1,8.8000000000000007,"3,900'","No",6,"Tennessee",-82.264200000000002,36.129240000000003,1819.5,12.2]
[363.9,6.4,"4,400'","No",10,"Tennessee",-82.161299999999997,36.148440000000001,1810.7,8.8000000000000007]
[370.3,4.8,"6,275'","No",15,"Tennessee",-82.122699999999995,36.104959999999998,1804.3,6.4]
[375.1,1.7,"5,050'","No",6,"North Carolina",-82.065899999999999,36.112270000000002,1799.5,4.8]
[376.8,8.1999999999999993,"4,550'","No",20,"North Carolina",-82.054400000000001,36.123539999999998,1797.8,1.7]
[385,9,"3,000'","No",6,"Tennessee",-82.011300000000006,36.172089999999997,1789.6,8.1999999999999993]
[394,9.1999999999999993,null,"No",14,"Tennessee",null,null,1798.6,9]
[403.2,8,"3815'","No",6,"Tennessee",-82.088499999999996,36.220120000000001,1771.4,9.1999999999999993]
[411.2,8.8000000000000007,"2,450'","No",8,"Tennessee",-82.136399999999995,36.278559999999999,1763.4,8]
[420,6.8,"2,130'","No",6,"Tennessee",-82.129499999999993,36.313879999999997,1754.6,8.8000000000000007]
[426.8,6.8,"3,620'","No",6,"Tennessee",-82.058999999999997,36.36694,1747.8,6.8]
[433.6,7.6,"4,125'","No",6,"Tennessee",-81.991,36.43553,1741,6.8]
[441.2,7,"4,060'","No",6,"Tennessee",-81.986199999999997,36.508969999999998,1733.4,7.6]
[448.2,1.3,"3,840’","No",4,"Tennessee",-81.920400000000001,36.572150000000001,1726.4,7]
[449.5,19.399999999999999,"3,785'","No",5,"Tennessee",-81.902199999999993,36.581009999999999,1725.1,1.3]
[468.9,6.4,"3,310'","No",8,"Virginia",-81.713200000000001,36.637700000000002,1705.7,19.399999999999999]
[475.3,12.2,"3,360'","No",8,"Virginia",-81.656300000000002,36.644060000000003,1699.3,6.4]
[487.5,5.0999999999999996,"5,400'","No",16,"Virginia",-81.535399999999996,36.656559999999999,1687.1,12.2]
[492.6,5.9,"4,460'","No",8,"Virginia",-81.498599999999996,36.653919999999999,1682,5.0999999999999996]
[498.5,3.9,"4,050'","No",6,"Virginia",-81.511200000000002,36.683210000000003,1676.1,5.9]
[502.4,7.8,"3,850'","No",8,"Virginia",-81.509500000000003,36.715350000000001,1672.2,3.9]
[510.2,2.4,"3,570'","No",0,"Virginia",-81.471999999999994,36.730919999999998,1664.4,7.8]
[512.6,10.6,"2,900'","No",8,"Virginia",-81.480599999999995,36.749180000000003,1662,2.4]
[523.20000000000005,7.1,"3,360'","No",16,"Virginia",-81.422600000000003,36.809399999999997,1651.4,10.6]
[530.29999999999995,7.2,"3,150'","No",6,"Virginia",-81.363299999999995,36.849910000000001,1644.3,7.1]
[537.5,11.2,"2,840'","No",12,"Virginia",-81.376900000000006,36.914439999999999,1637.1,7.2]
[548.70000000000005,9,"2,880'","No",8,"Virginia",-81.404600000000002,37.000660000000003,1625.9,11.2]
[557.70000000000005,10,"4,409'","No",8,"Virginia",-81.399500000000003,37.057690000000001,1616.9,9]
[567.70000000000005,13.8,"2,500'","No",8,"Virginia",-81.247799999999998,37.093389999999999,1606.9,10]
[581.5,9.8000000000000007,"3,090'","No",6,"Virginia",-81.104399999999998,37.132620000000003,1593.1,13.8]
[591.29999999999995,14.2,"2,800'","No",6,"Virginia",-80.9803,37.154980000000002,1583.3,9.8000000000000007]
[605.5,8.4,"2,640'","No",8,"Virginia",-80.824100000000001,37.223939999999999,1569.1,14.2]
[613.9,14.9,"3,555'","No",8,"Virginia",-80.836399999999998,37.270209999999999,1560.7,8.4]
[628.79999999999995,12.3,"3,375'","No",7,"Virginia",-80.758600000000001,37.374789999999997,1545.8,14.9]
[641.1,3.9,"2,530'","No",8,"Virginia",-80.608800000000002,37.422089999999997,1533.5,12.3]
[645,8.8000000000000007,"3,525'","No",6,"Virginia",-80.577200000000005,37.400860000000002,1529.6,3.9]
[653.79999999999995,5.8,"2,340'","No",6,"Virginia",-80.474000000000004,37.397539999999999,1520.8,8.8000000000000007]
[659.6,6.4,"2,720'","No",6,"Virginia",-80.421199999999999,37.358910000000002,1515,5.8]
[666,6,"3,000'","No",6,"Virginia",-80.3352,37.355449999999998,1508.6,6.4]
[672,9.9,"1,800'","No",6,"Virginia",-80.264399999999995,37.38749,1502.6,6]
[681.9,13.6,"1,845'","No",6,"Virginia",-80.191100000000006,37.388100000000001,1492.7,9.9]
[695.5,1,"1,980'","No",10,"Virginia",-80.074100000000001,37.385309999999997,1479.1,13.6]
[696.5,2.4,"2,145'","No",6,"Virginia",-80.057400000000001,37.388199999999998,1478.1,1]
[698.9,6,"2,580'","No",6,"Virginia",-80.029499999999999,37.390790000000003,1475.7,2.4]
[704.9,14.4,"2,080'","No",6,"Virginia",-79.987799999999993,37.434559999999998,1469.7,6]
[719.3,6.2,"2,670'","No",6,"Virginia",-79.853899999999996,37.398470000000003,1455.3,14.4]
[725.5,7.3,"1,830'","No",6,"Virginia",-79.785700000000006,37.419260000000001,1449.1,6.2]
[732.8,6.4,"1,920'","No",6,"Virginia",-79.701400000000007,37.467199999999998,1441.8,7.3]
[739.2,6.9,"1,925'","No",6,"Virginia",-79.6511,37.511710000000001,1435.4,6.4]
[746.1,5,"1,320'","No",20,"Virginia",-79.585599999999999,37.53004,1428.5,6.9]
[751.1,5.3,"3,145'","No",6,"Virginia",-79.547200000000004,37.49391,1423.5,5]
[756.4,12.4,"3,960'","No",6,"Virginia",-79.504199999999997,37.527380000000001,1418.2,5.3]
[768.8,3.9,"835'","No",6,"Virginia",-79.413499999999999,37.599449999999997,1405.8,12.4]
[772.7,8.8000000000000007,"1,020'","No",6,"Virginia",-79.392099999999999,37.613,1401.9,3.9]
[781.5,9.5,"2,500'","No",6,"Virginia",-79.338800000000006,37.677750000000003,1393.1,8.8000000000000007]
[791,5.6,"1,395'","No",6,"Virginia",-79.268199999999993,37.710230000000003,1383.6,9.3000000000000007]
[796.6,10.199999999999999,"3,160'","No",8,"Virginia",-79.213300000000004,37.74662,1378,536]
[806.8,6.9,"3,770'","No",8,"Virginia",-79.155100000000004,37.818930000000002,1367.8,10.199999999999999]
[813.7,7.4,"3,840'","No",8,"Virginia",-79.070599999999999,37.817749999999997,1360.9,6.9]
[821.1,6.2,"1,800'","No",6,"Virginia",-79.001199999999997,37.856409999999997,1353.5,7.4]
[827.3,16.100000000000001,"2,720'","No",6,"Virginia",-78.993899999999996,37.884880000000003,1347.3,6.2]
[843.4,12,"1,700'","No",10,"Virginia",-78.883899999999997,37.985639999999997,1331.2,16.100000000000001]
[855.4,13,"2,700'","No",6,"Virginia",-78.786799999999999,38.085520000000002,1319.2,12]
[868.4,13.2,"2,645'","No",6,"Virginia",-78.742699999999999,38.214080000000003,1306.2,13]
[881.6,8.1999999999999993,"2,430'","No",6,"Virginia",-78.646000000000001,38.290550000000003,1293,13.2]
[889.8,12.4,"3,175'","No",6,"Virginia",-78.558599999999998,38.333039999999997,1284.8,8.1999999999999993]
[902.2,11.5,"3,110'","No",6,"Virginia",-78.470699999999994,38.44408,1272.4000000000001,12.4]
[913.7,15.3,"3,465'","No",8,"Virginia",-78.408600000000007,38.553069999999998,1260.9000000000001,11.5]
[929,13.1,"2,690'","No",8,"Virginia",-78.319199999999995,38.676569999999998,1245.5999999999999,15.3]
[942.1,10.5,"2,480'","No",8,"Virginia",-78.234499999999997,38.763469999999998,1232.5,13.1]
[952.6,8.4,"1,900'","No",6,"Virginia",-78.163899999999998,38.850389999999997,1222,10.5]
[960.7,5.5,"1,310'","No",8,"Virginia",-78.083299999999994,38.889960000000002,1213.9000000000001,8.4]
[966.2,4.4000000000000004,"1,655'","No",6,"Virginia",-78.033100000000005,38.930590000000002,1208.4000000000001,5.5]
[970.6,8.4,"1,230'","No",4,"Virginia",-77.997,38.969920000000002,1204,4.4000000000000004]
[979,6.9,"840'","No",8,"Virginia",-77.944400000000002,39.047820000000002,1195.5999999999999,84]
[985.9,14.3,"990'","No",6,"Virginia",-77.886600000000001,39.09064,1188.7,6.9]
[1000,15.8,"1,430'","No",6,"Virginia",-77.779499999999999,39.227179999999997,1174.5999999999999,14.3]
[1015.8,4.0999999999999996,"650'","No",12,"Maryland",-77.664299999999997,39.356450000000002,1158.8,15.8]
[1019.9,5,"1,000'","No",6,"Maryland",-77.637600000000006,39.412529999999997,1154.7,4.0999999999999996]
[1024.9000000000001,7.5,"970'","No",4,"Maryland",-77.631399999999999,39.460810000000002,1149.7,5]
[1032.4000000000001,8.1999999999999993,"1,360'","No",5,"Maryland",-77.602400000000003,39.542499999999997,1142.2,7.5]
[1040.5999999999999,4.9000000000000004,"1,430'","No",8,"Maryland",-77.557599999999994,39.627740000000003,1134,8.1999999999999993]
[1045.5,9.6,"1,480'","No",7,"Maryland",-77.524600000000007,39.672029999999999,1129.0999999999999,4.9000000000000004]
[1055.0999999999999,2.4,"1,420'","No","4+4","Pennsylvania",-77.485200000000006,39.766190000000002,1119.5,9.6]
[1057.5,1.2,"890'","No",6,"Pennsylvania",-77.483000000000004,39.793810000000001,1117.0999999999999,2.4]
[1058.7,6.6,"1,120'","No","4+4","Pennsylvania",-77.478300000000004,39.805,1115.9000000000001,1.2]
[1065.3,5.6,"1,520'","No","4+4","Pennsylvania",-77.500900000000001,39.868560000000002,1109.3,6.6]
[1070.9000000000001,7.4,"1,455'","No","4+4","Pennsylvania",-77.486699999999999,39.931959999999997,1103.7,5.6]
[1078.3,6.2,"1,795'","No",8,"Pennsylvania",-77.420699999999997,39.984589999999997,1096.3,7.4]
[1084.5,10.9,"1,300'","No","4+4","Pennsylvania",-77.357299999999995,40.034289999999999,1090.0999999999999,6.2]
[1095.4000000000001,8.3000000000000007,"805'","No",9,"Pennsylvania",-77.206400000000002,40.06297,1079.2,10.9]
[1103.7,18.2,"850'","No",7,"Pennsylvania",-77.104299999999995,40.111919999999998,1070.9000000000001,8.3000000000000007]
[1121.9000000000001,7.3,"1,170'","No",5,"Pennsylvania",-77.087400000000002,40.30198,1052.7,18.2]
[1129.2,8.6,"1,120'","No",8,"Pennsylvania",-77.067800000000005,40.363460000000003,1045.4000000000001,7.3]
[1137.8,6.8,"1,060'","No",8,"Pennsylvania",-76.994,40.392220000000002,1036.8,8.6]
[1144.5999999999999,17.5,"1,180'","No",12,"Pennsylvania",-76.8797,40.425789999999999,1030,6.8]
[1162.0999999999999,13.3,"970'","No",12,"Pennsylvania",-76.600499999999997,40.498530000000002,1012.5,17.5]
[1175.4000000000001,4.0999999999999996,"1,300'","No",16,"Pennsylvania",-76.414400000000001,40.495600000000003,999.2,13.3]
[1179.5,15.1,"1,460'","No",12,"Pennsylvania",-76.346900000000005,40.512509999999999,995.1,4.0999999999999996]
[1194.5999999999999,14.7,"1,510'","No",8,"Pennsylvania",-76.152699999999996,40.549289999999999,980,15.1]
[1209.3,9.1,"880'","No",8,"Pennsylvania",-75.942300000000003,40.590290000000003,965.3,14.7]
[1218.4000000000001,7.4,"535'","No",6,"Pennsylvania",-75.958799999999997,40.632840000000002,956.2,9.1]
[1225.8,10,"1,350'","No",8,"Pennsylvania",-75.874399999999994,40.683059999999998,948.8,7.4]
[1235.8,6.8,"1,380'","No",6,"Pennsylvania",-75.727400000000003,40.75412,938.8,10]
[1242.5999999999999,16.7,"1,000'","No",6,"Pennsylvania",-75.618300000000005,40.782490000000003,932,6.8]
[1259.3,13.8,"1,410'","No",8,"Pennsylvania",-75.359800000000007,40.839350000000003,915.3,16.7]
[1273.0999999999999,31.2,"1,480'","No",6,"Pennsylvania",-75.186899999999994,40.936700000000002,901.5,13.8]
[1304.3,6.6,"1,110'","No",5,"New Jersey",-74.838200000000001,41.153199999999998,870.3,31.2]
[1310.9,5.8,"1,320'","No",8,"New Jersey",-74.753100000000003,41.199390000000001,863.7,6.6]
[1316.7,2.9,"1,425'","No",8,"New Jersey",-74.686800000000005,41.252119999999998,857.9,5.8]
[1319.6,4.3,"1,345'","No",6,"New Jersey",-74.6785,41.277470000000001,855,2.9]
[1323.9,12.4,"1,280'","No",8,"New Jersey",-74.643799999999999,41.327750000000002,850.7,4.3]
[1336.3,11.8,"840'","No",6,"New Jersey",-74.516300000000001,41.27167,838.3,12.4]
[1348.1,12,"1,200'","No",6,"New Jersey",-74.398499999999999,41.202190000000002,826.5,11.8]
[1360.1,14.3,"1,180'","No",8,"New York",-74.268299999999996,41.268349999999998,814.5,12]
[1374.4,5.3,"1,300'","No",8,"New York",-74.104399999999998,41.263280000000002,800.2,14.3]
[1379.7,3.1,"1,070'","No",8,"New York",-74.059899999999999,41.279699999999998,794.9,5.3]
[1382.8,31,"1,240'","No",8,"New York",-74.011099999999999,41.284100000000002,791.8,3.1]
[1413.8,9,"360'","No",6,"New York",-73.792900000000003,41.514380000000003,760.8,31]
[1422.8,7.6,"1,285'","No",6,"New York",-73.692099999999996,41.564549999999997,751.8,9]
[1430.4,9,"910'","No",6,"New York",-73.619299999999996,41.60427,744.2,7.6]
[1439.4,4,"740'","No",6,"New York",-73.532700000000006,41.637749999999997,735.2,9]
[1443.4,8.4,"290'","No",6,"Connecticut",-73.509900000000002,41.66507,731.2,4]
[1451.8,7.3,"655'","No",6,"Connecticut",-73.496700000000004,41.731650000000002,722.8,8.4]
[1459.1,10,"425'","No",6,"Connecticut",-73.419799999999995,41.778599999999997,715.5,7.3]
[1469.1,12.3,"1,075'","No",6,"Connecticut",-73.392099999999999,41.881630000000001,705.5,10]
[1481.4,7.5,"980'","No",6,"Connecticut",-73.392300000000006,41.97513,693.2,12.3]
[1488.9,1.2,"1,610'","No",6,"Connecticut",-73.447699999999998,42.014580000000002,685.7,7.5]
[1490.1,8.8000000000000007,"1,705'","No",6,"Connecticut",-73.453599999999994,42.028329999999997,684.5,1.2]
[1498.9,0.1,"1,880'","No",10,"Massachusetts",-73.429000000000002,42.109900000000003,675.7,8.8000000000000007]
[1499,14.3,"1,885'","No",6,"Massachusetts",-73.428299999999993,42.111139999999999,675.6,0.1]
[1513.3,5.3,"1,540'","No",10,"Massachusetts",-73.306200000000004,42.164830000000002,661.3,14.3]
[1518.6,1.8,"1,720'","No",6,"Massachusetts",-73.268500000000003,42.207810000000002,656,5.3]
[1520.4,14,"1,950'","No",10,"Massachusetts",-73.250600000000006,42.221020000000003,654.20000000000005,1.8]
[1534.4,8.8000000000000007,"1,483'","Yes",14,"Massachusetts",-73.181299999999993,42.288649999999997,640.20000000000005,14]
[1543.2,8.8000000000000007,"1,930'","No",12,"Massachusetts",-73.154499999999999,42.354869999999998,631.4,8.8000000000000007]
[1552,16.7,"1,860'","No",10,"Massachusetts",-73.161900000000003,42.452500000000001,622.6,8.8000000000000007]
[1568.7,3.3,"2,800'","No",10,"Massachusetts",-73.1845,42.608550000000001,605.9,16.7]
[1569,"Off Trail",null,"No",0,"Massachusetts",-73.167299999999997,42.625210000000003,"Off Trail","Off Trail"]
[1570,"Off Trail",null,"No",0,"Massachusetts",-73.194000000000003,42.629350000000002,"Off Trail","Off Trail"]
[1572,3.3,"3,491'","Yes",0,"Massachusetts",-73.1678,42.636890000000001,602.6,3.3]
[1573,"Off Trail",null,"No",0,"Massachusetts",-73.154700000000005,42.644100000000002,"Off Trail","Off Trail"]
[1575.3,9.9,"2,300'","No",8,"Massachusetts",-73.169799999999995,42.668480000000002,599.29999999999995,3.3]
[1585.2,7.2,"2,180'","No",8,"Vermont",-73.137600000000006,42.771839999999997,589.4,9.9]
[1592.4,5.9,"2,060'","No",8,"Vermont",-73.110399999999998,42.848050000000001,582.20000000000005,7.2]
[1598.3,8.5,"2,330'","No",8,"Vermont",-73.096199999999996,42.887779999999999,576.29999999999995,5.9]
[1606.8,4.3,"3,540'","No",12,"Vermont",-73.072599999999994,42.974130000000002,567.79999999999995,8.5]
[1611.1,4.5999999999999996,"2,795'","No",8,"Vermont",-73.041600000000003,43.013030000000001,563.5,4.3]
[1611.1,4.5999999999999996,"2,795'","No",4,"Vermont",-73.0441,43.015000000000001,563.5,4.5999999999999996]
[1615.7,10.5,"2,810'","No",8,"Vermont",-73.013000000000005,43.050539999999998,558.9,4.5999999999999996]
[1620,"Off Trail","2,565'","No",0,"Vermont",-73.005600000000001,43.10342,"Off Trail","Off Trail"]
[1626.2,4.8,"2,565'","Yes",16,"Vermont",-72.968800000000002,43.101410000000001,548.4,10.5]
[1631,3,"2,210'","No",10,"Vermont",-72.991399999999999,43.144500000000001,543.6,4.8]
[1634,4.8,"2180'","No",14,"Vermont",-72.995699999999999,43.178600000000003,540.6,3]
[1638.8,8.1,"2,560'","No",12,"Vermont",-72.937200000000004,43.2395,535.79999999999995,4.8]
[1646.9,4.7,"2,605'","Yes",10,"Vermont",-72.9529,43.301319999999997,527.70000000000005,8.1]
[1651.6,1.5,"2,230’","Yes",8,"Vermont",-72.953100000000006,43.34543,523,4.7]
[1653.1,0.2,"1,665'","No",8,"Vermont",-72.928899999999999,43.35407,521.5,1.5]
[1653.3,3,"1,460'","No",8,"Vermont",-72.946899999999999,43.364069999999998,521.29999999999995,0.2]
[1656.3,0.7,"1,920'","Yes",8,"Vermont",-72.955299999999994,43.39546,518.29999999999995,3]
[1657,4.4000000000000004,"1,885'","Yes",8,"Vermont",-72.953599999999994,43.404220000000002,517.6,0.7]
[1661.4,5.0999999999999996,"2,025'","No",8,"Vermont",-72.929100000000005,43.440420000000003,513.20000000000005,4.4000000000000004]
[1666.5,3.7,"1,605'","No",10,"Vermont",-72.924999999999997,43.487789999999997,508.1,5.0999999999999996]
[1670.2,5.8,"1,190'","No",10,"Vermont",-72.9131,43.523530000000001,504.4,3.7]
[1676,4.3,"1,850'","No",12,"Vermont",-72.848799999999997,43.56456,498.6,5.8]
[1680.3,2.5,"3,850'","No",16,"Vermont",-72.822900000000004,43.60595,494.3,4.3]
[1682.8,1.9,"3,510'","No",4,"Vermont",-72.831000000000003,43.639029999999998,491.8,2.5]
[1684.7,2.9,"2,560'","No",10,"Vermont",null,null,489.9,1.9]
[1687.6,2.2000000000000002,"2,300'","No",8,"Vermont",-72.843599999999995,43.679200000000002,487,2.9]
[1689.8,6.8,"1,660'","No",0,"Vermont",-72.811700000000002,43.676099999999998,484.8,2.2000000000000002]
[1696.6,9.9,"1,760'","No",8,"Vermont",-72.730599999999995,43.691789999999997,478,6.8]
[1706.5,9.3000000000000007,"1,900'","No",6,"Vermont",-72.622600000000006,43.662179999999999,468.1,9.9]
[1715.8,2.2999999999999998,"1,480'","No",0,"Vermont",-72.493099999999998,43.692140000000002,458.8,9.3000000000000007]
[1718.1,8.8000000000000007,"1,740'","No",8,"Vermont",-72.475800000000007,43.695169999999997,456.5,2.2999999999999998]
[1726.9,7.3,"1,420'","No",8,"Vermont",-72.365700000000004,43.723869999999998,447.7,8.8000000000000007]
[1734.2,9.5,"1,040'","No",6,"New Hampshire",-72.265199999999993,43.702469999999998,440.4,7.3]
[1743.7,5.7,"1,850'","No",8,"New Hampshire",-72.147499999999994,43.727820000000001,430.9,9.5]
[1749.4,6.7,"1,345'","No",6,"New Hampshire",-72.111999999999995,43.783029999999997,425.2,5.7]
[1756.1,5.3,"3,240'","No",12,"New Hampshire",-72.037800000000004,43.825290000000003,418.5,6.7]
[1761.4,7.3,"1,980'","No",8,"New Hampshire",-72.028999999999996,43.87397,413.2,5.6]
[1768.7,8.5,"1,580’","No",8,"New Hampshire",-71.9405,43.963569999999997,405.9,7.3]
[1777.2,6.8,"1,350'","No",10,"New Hampshire",-71.889399999999995,43.996549999999999,397.4,8.5]
[1784,9.1,"3,700'","No",10,"New Hampshire",-71.811800000000005,44.032960000000003,390.6,6.8]
[1793.1,4,"2,400'","No",8,"New Hampshire",-71.742400000000004,44.10078,381.5,9.1]
[1797.1,2.2999999999999998,"3,750'","Yes",14,"New Hampshire",-71.732799999999997,44.136850000000003,377.5,4]
[1799,9.3000000000000007,"2,760'","Yes",46,"New Hampshire",-71.703699999999998,44.138460000000002,375.6,2.2999999999999998]
[1808.3,3.9,"4,200'","Yes",48,"New Hampshire",-71.660799999999995,44.160269999999997,366.3,9.3000000000000007]
[1812.2,2.7,"3,500'","Yes",12,"New Hampshire",-71.608800000000002,44.190629999999999,362.4,3.9]
[1814.9,2.8,"3,800'","Yes",38,"New Hampshire",-71.569400000000002,44.187809999999999,359.7,2.7]
[1817.7,4.2,"4,160'","Yes",12,"New Hampshire",-71.535600000000002,44.160969999999999,356.9,2.8]
[1821.9,4.8,"2,700'","Yes",36,"New Hampshire",-71.494799999999998,44.195709999999998,352.7,4.2]
[1826.7,9.3000000000000007,"2,950'","Yes",12,"New Hampshire",-71.427099999999996,44.177190000000003,347.9,4.8]
[1836,4.8,"3,800'","Yes",60,"New Hampshire",-71.370099999999994,44.219340000000003,338.6,"9,3"]
[1840.8,1.4,"5,050'","Yes",90,"New Hampshire",-71.319299999999998,44.258940000000003,333.8,4.8]
[1842.2,4.0999999999999996,"1,200’","No",0,"New Hampshire",-71.286900000000003,44.261130000000001,332.4,1.4]
[1842.2,4.0999999999999996,"1,200’","No",0,"New Hampshire",-71.2864,44.261339999999997,332.4,4.0999999999999996]
[1846.3,0.6,"4,313'","Yes",8,"New Hampshire",-71.311000000000007,44.3245,328.3,4.0999999999999996]
[1846.9,0.9,"4,370'","No",15,"New Hampshire",-71.310599999999994,44.332299999999996,327.7,0.6]
[1846.9,0.9,"4,247'","No",20,"New Hampshire",-71.302599999999998,44.334949999999999,327.7,0.9]
[1847.8,13.7,"4,800'","Yes",50,"New Hampshire",-71.283500000000004,44.327759999999998,326.8,0.9]
[1861.5,7.2,"3,288'","Yes",40,"New Hampshire",-71.195899999999995,44.259300000000003,313.10000000000002,13.7]
[1868.7,6.1,"3,250'","Yes",10,"New Hampshire",-71.150599999999997,44.328899999999997,305.89999999999998,7.2]
[1874.8,13.7,"1,260'","No",8,"New Hampshire",-71.108000000000004,44.379939999999998,299.8,6.1]
[1888.5,5.2,"2,165’","Yes",14,"New Hampshire",-71.069900000000004,44.451749999999997,286.10000000000002,13.7]
[1893.7,4.4000000000000004,"2,945'","No",8,"Maine",-71.0167,44.488590000000002,280.89999999999998,5.2]
[1898.1,5.0999999999999996,"3,030'","No",12,"Maine",-70.981399999999994,44.525100000000002,276.5,4.4000000000000004]
[1903.2,6.9,"3,500'","Yes",8,"Maine",-70.974100000000007,44.564619999999998,271.39999999999998,5.0999999999999996]
[1910.1,3.5,"2,660'","No",8,"Maine",-70.912300000000002,44.598370000000003,264.5,6.9]
[1913.6,10.5,"2,280'","No",6,"Maine",-70.900800000000004,44.627719999999997,261,3.5]
[1924.1,12.8,"2,650’","No",6,"Maine",-70.825100000000006,44.700839999999999,250.5,10.5]
[1936.9,8.3000000000000007,"2,800'","No",8,"Maine",-70.756500000000003,44.810299999999998,237.7,12.8]
[1945.2,11.2,"2,390'","No",8,"Maine",-70.662899999999993,44.84104,229.4,8.3000000000000007]
[1956.4,8.9,"2,065'","No",8,"Maine",-70.531400000000005,44.904110000000003,218.2,11.2]
[1965.3,8,"2,960'","No",6,"Maine",-70.446299999999994,44.970030000000001,209.3,8.9]
[1973.3,18.600000000000001,"3,140'","No",8,"Maine",-70.341800000000006,44.995750000000001,201.3,8]
[1991.9,10.199999999999999,"3,160'","No","8+8","Maine",-70.330600000000004,45.14423,182.7,18.600000000000001]
[2002.1,7.3,"1,760'","No",8,"Maine",-70.191599999999994,45.139119999999998,172.5,10.199999999999999]
[2009.4,10,"1,340'","No",8,"Maine",-70.100399999999993,45.158070000000002,165.2,7.3]
[2019.4,9.6999999999999993,"1,160'","No",6,"Maine",-70.055999999999997,45.24033,155.19999999999999,10]
[2029.1,9,"1,320'","No",6,"Maine",-69.916799999999995,45.270600000000002,145.5,9.6999999999999993]
[2038.1,4.0999999999999996,"1,300'","No",8,"Maine",-69.799899999999994,45.258540000000004,136.5,9]
[2042.2,8.9,"1,220'","No",8,"Maine",-69.745800000000003,45.270589999999999,132.4,4.0999999999999996]
[2051.1,12,"870'","No",8,"Maine",-69.628100000000003,45.282789999999999,123.5,8.9]
[2063.1,7.4,"1,060'","No",6,"Maine",-69.499300000000005,45.351579999999998,111.5,12]
[2070.5,4.7,"1,000'","No",6,"Maine",-69.460099999999997,45.397959999999998,104.1,7.4]
[2075.1999999999998,4,"930'","No",8,"Maine",-69.410200000000003,45.421930000000003,99.4,4.7]
[2079.1999999999998,6.9,"2,420'","No",6,"Maine",-69.352199999999996,45.41892,95.4,4]
[2086.1,9.9,"1,930'","No",6,"Maine",-69.262699999999995,45.452930000000002,88.5,6.9]
[2096,7.2,"1,860'","No",6,"Maine",-69.3155,45.530500000000004,78.599999999999994,9.9]
[2103.1999999999998,3.6,"2,480'","No",6,"Maine",-69.235399999999998,45.561140000000002,71.400000000000006,7.2]
[2106.8000000000002,8.1,"1,225'","No",6,"Maine",-69.198800000000006,45.596760000000003,67.8,3.6]
[2114.9,11.4,"880'","No",6,"Maine",-69.087999999999994,45.640529999999998,59.7,8.1]
[2126.3000000000002,10.1,"710'","No",8,"Maine",-69.007900000000006,45.706580000000002,48.3,11.4]
[2136.4,8.1,"685'","No",6,"Maine",-69.145200000000003,45.747329999999998,38.200000000000003,10.1]
[2144.5,11.5,"1,020'","No",6,"Maine",-69.171000000000006,45.79909,30.1,8.1]
[2156,13.4,"710'","No",6,"Maine",-69.019000000000005,45.818530000000003,18.600000000000001,11.5]
[2169.4,0,"1,070'","No",8,"Maine",-68.995099999999994,45.881599999999999,5.2,13.4]
[2174.6]